BEGIN:VCALENDAR
VERSION:2.0
CALSCALE:GREGORIAN
PRODID:adamgibbons/ics
METHOD:PUBLISH
X-PUBLISHED-TTL:PT1H
BEGIN:VEVENT
UID:188@keepkarlsruheboring.org
SUMMARY:Queerer Handarbeitstreff
DTSTAMP:20260423T102211Z
DTSTART:20250913T130000Z
DTEND:20250913T160000Z
DESCRIPTION:🧵🪡 Ab sofort laden wir euch regelmäßig zum queeren Handarbeitst
	reff im Queeren\nZentrum Karlsruhe ein.\n\n🧶✂️ Du hast Lust\, in gemütliche
	r Runde an deinem Handarbeitsprojekt weiter zu\nmachen und dabei mit ander
	en queeren Menschen zu quatschen? Dann komm vorbei zur\nqueeren Handarbeit
	srunde im queerKAstle!\n\n⏲ Das nächste Mal treffen wir uns am 13. Septemb
	er 2025 von 15 Uhr – 18 Uhr. Im\nAnschluss öffnet das Zentrum regulär. Wen
	n du also noch nicht fertig bist bleibe\ngerne noch bis 22 Uhr.\n\n🎀🖼️ Ganz
	 egal ob mit deinen Stricknadeln\, dem verstaubten Häkelprojekt\, Stick-\n
	oder Webrahmen\, nem kleinen Filzprojekt\, Makramé oder Spinnrad – du bist
	\nunabhängig von Technik und Vorerfahrung herzlich willkommen!\n\nEin paar
	 Nadeln und Garn für Neulinge werden wir auch bereit halten. Wir werden\ns
	icherlich nicht nur über Handarbeitsthemen plaudern\, aber vielleicht lern
	st du\nauch etwas Neues oder bekommst Inspiration für dein nächstes Projek
	t 🙂
URL:https://keepkarlsruheboring.org/event/queerer-handarbeitstreff-1
GEO:49.0042;8.37001
LOCATION:Queeres Zentrum Karlsruhe - Liebigstraße 10-12     Karlsruhe\, 761
	35
STATUS:CONFIRMED
CATEGORIES:DIY,Queer,Workshop
X-ALT-DESC;FMTTYPE=text/html:<p>🧵🪡 Ab sofort laden wir euch regelmäßig zum 
	<strong>queeren Handarbeitstreff </strong>im <strong>Queeren Zentrum Karls
	ruhe</strong> ein.</p><p>🧶✂️ Du hast Lust, in gemütlicher Runde an deinem H
	andarbeitsprojekt weiter zu machen und dabei mit anderen queeren Menschen 
	zu quatschen? Dann komm vorbei zur queeren Handarbeitsrunde im queerKAstle
	!</p><p>⏲ Das nächste Mal treffen wir uns am <strong>13. September 2025</s
	trong> von <strong>15 Uhr</strong> – <strong>18 Uhr</strong>. Im Anschluss
	 öffnet das Zentrum regulär. Wenn du also noch nicht fertig bist bleibe ge
	rne noch bis <strong>22 Uhr</strong>.</p><p>🎀🖼️ Ganz egal ob mit deinen Str
	icknadeln, dem verstaubten Häkelprojekt, Stick- oder Webrahmen, nem kleine
	n Filzprojekt, Makramé oder Spinnrad – du bist unabhängig von Technik und 
	Vorerfahrung herzlich willkommen!</p><p>Ein paar Nadeln und Garn für Neuli
	nge werden wir auch bereit halten. Wir werden sicherlich nicht nur über Ha
	ndarbeitsthemen plaudern, aber vielleicht lernst du auch etwas Neues oder 
	bekommst Inspiration für dein nächstes Projekt 🙂</p>
BEGIN:VALARM
ACTION:DISPLAY
DESCRIPTION:Queerer Handarbeitstreff
TRIGGER:-PT1H
END:VALARM
END:VEVENT
END:VCALENDAR
