BEGIN:VCALENDAR
VERSION:2.0
CALSCALE:GREGORIAN
PRODID:adamgibbons/ics
METHOD:PUBLISH
X-PUBLISHED-TTL:PT1H
BEGIN:VEVENT
UID:922@keepkarlsruheboring.org
SUMMARY:Queerer Handarbeitstreff
DTSTAMP:20260423T102132Z
DTSTART:20260411T130000Z
DTEND:20260411T160000Z
DESCRIPTION:🧵🪡 Auch diesen Monat laden wir euch gerne wieder zum queeren Ha
	ndarbeitstreff\nim Queeren Zentrum Karlsruhe ein. 🧶✂️ Du hast Lust\, in gem
	ütlicher Runde an\ndeinem Handarbeitsprojekt weiter zu machen und dabei mi
	t anderen queeren\nMenschen zu quatschen? Dann komm vorbei zur queeren Han
	darbeitsrunde im\nqueerKAstle! ⏲ Wir treffen uns regelmäßig samstags mitta
	gs im Queeren Zentrum.\nIm Anschluss öffnet das Zentrum regulär. Wenn du a
	lso noch nicht fertig bist\nbleibe gerne noch bis 22 Uhr. 🎀🖼️ Ganz egal ob 
	mit deinen Stricknadeln\, dem\nverstaubten Häkelprojekt\, Stick- oder Webr
	ahmen\, nem kleinen Filzprojekt\,\nMakramé oder Spinnrad - du bist unabhän
	gig von Technik und Vorerfahrung herzlich\nwillkommen! Ein paar Nadeln und
	 Garn für Neulinge werden wir auch bereit halten.\nWir werden sicherlich n
	icht nur über Handarbeitsthemen plaudern\, aber vielleicht\nlernst du auch
	 etwas Neues oder bekommst Inspiration für dein nächstes Projekt\n🙂 https:
	//queerkastle.de/veranstaltung/queerer-handarbeitstreff_04-2026/
URL:https://keepkarlsruheboring.org/event/queerer-handarbeitstreff-4
LOCATION:queerKAstle - Karlsruher Zentrum für queere Vielfalt - Liebigstraß
	e 10-12\, 76135 Karlsruhe
STATUS:CONFIRMED
CATEGORIES:karlsrunruhe,test
X-ALT-DESC;FMTTYPE=text/html:🧵🪡 Auch diesen Monat laden wir euch gerne wied
	er zum queeren Handarbeitstreff<br>im Queeren Zentrum Karlsruhe ein.<br><b
	r>🧶✂️ Du hast Lust, in gemütlicher Runde an deinem Handarbeitsprojekt weite
	r zu<br>machen und dabei mit anderen queeren Menschen zu quatschen? Dann k
	omm vorbei<br>zur queeren Handarbeitsrunde im queerKAstle!<br><br>⏲ Wir tr
	effen uns regelmäßig samstags mittags im Queeren Zentrum. Im Anschluss<br>
	öffnet das Zentrum regulär. Wenn du also noch nicht fertig bist bleibe ger
	ne<br>noch bis 22 Uhr.<br><br>🎀🖼️ Ganz egal ob mit deinen Stricknadeln, dem
	 verstaubten Häkelprojekt, Stick-<br>oder Webrahmen, nem kleinen Filzproje
	kt, Makramé oder Spinnrad - du bist<br>unabhängig von Technik und Vorerfah
	rung herzlich willkommen!<br><br>Ein paar Nadeln und Garn für Neulinge wer
	den wir auch bereit halten. Wir<br>werden sicherlich nicht nur über Handar
	beitsthemen plaudern, aber vielleicht<br>lernst du auch etwas Neues oder b
	ekommst Inspiration für dein nächstes Projekt<br>🙂<br>https://queerkastle.
	de/veranstaltung/queerer-handarbeitstreff_04-2026/
BEGIN:VALARM
ACTION:DISPLAY
DESCRIPTION:Queerer Handarbeitstreff
TRIGGER:-PT1H
END:VALARM
END:VEVENT
END:VCALENDAR
