BEGIN:VCALENDAR
VERSION:2.0
CALSCALE:GREGORIAN
PRODID:adamgibbons/ics
METHOD:PUBLISH
X-PUBLISHED-TTL:PT1H
BEGIN:VEVENT
UID:155@keepkarlsruheboring.org
SUMMARY:Queerer Handarbeitstreff
DTSTAMP:20260423T102045Z
DTSTART:20250802T130000Z
DTEND:20250802T160000Z
DESCRIPTION:🧵🪡 Ab sofort laden wir euch regelmäßig zum queeren Handarbeitst
	reff im Queeren\nZentrum Karlsruhe ein.\n\n🧶✂️ Du hast Lust\, in gemütliche
	r Runde an deinem Handarbeitsprojekt weiter zu\nmachen und dabei mit ander
	en queeren Menschen zu quatschen? Dann komm vorbei zur\nqueeren Handarbeit
	srunde im queerKAstle!\n\n⏲ Das nächste Mal treffen wir uns am 02. August 
	2025 von 15 Uhr – 18 Uhr. Im\nAnschluss öffnet das Zentrum regulär. Wenn d
	u also noch nicht fertig bist bleibe\ngerne noch bis 22 Uhr.\n\n🎀🖼️ Ganz eg
	al ob mit deinen Stricknadeln\, dem verstaubten Häkelprojekt\, Stick-\node
	r Webrahmen\, nem kleinen Filzprojekt\, Makramé oder Spinnrad – du bist\nu
	nabhängig von Technik und Vorerfahrung herzlich willkommen!\n\nEin paar Na
	deln und Garn für Neulinge werden wir auch bereit halten. Wir werden\nsich
	erlich nicht nur über Handarbeitsthemen plaudern\, aber vielleicht lernst 
	du\nauch etwas Neues oder bekommst Inspiration für dein nächstes Projekt 🙂
	\n\nhttps://queerkastle.de/veranstaltung/queerer-handarbeitstreff_08-2025/
	\n[https://queerkastle.de/veranstaltung/queerer-handarbeitstreff_08-2025/]
URL:https://keepkarlsruheboring.org/event/queerer-handarbeitstreff
GEO:49.0042;8.37001
LOCATION:Queeres Zentrum Karlsruhe - Liebigstraße 10-12     Karlsruhe\, 761
	35
STATUS:CONFIRMED
CATEGORIES:Politics,Queer,Workshop
X-ALT-DESC;FMTTYPE=text/html:<br><br><br><br><p>🧵🪡 Ab sofort laden wir euch
	 regelmäßig zum <strong>queeren Handarbeitstreff </strong>im <strong>Queer
	en Zentrum Karlsruhe</strong> ein.</p><br><p>🧶✂️ Du hast Lust, in gemütlich
	er Runde an deinem Handarbeitsprojekt weiter zu machen und dabei mit ander
	en queeren Menschen zu quatschen? Dann komm vorbei zur queeren Handarbeits
	runde im queerKAstle!</p><br><p>⏲ Das nächste Mal treffen wir uns am <stro
	ng>02. August 2025</strong> von <strong>15 Uhr</strong> – <strong>18 Uhr</
	strong>. Im Anschluss öffnet das Zentrum regulär. Wenn du also noch nicht 
	fertig bist bleibe gerne noch bis <strong>22 Uhr</strong>.</p><br><p>🎀🖼️ Ga
	nz egal ob mit deinen Stricknadeln, dem verstaubten Häkelprojekt, Stick- o
	der Webrahmen, nem kleinen Filzprojekt, Makramé oder Spinnrad – du bist un
	abhängig von Technik und Vorerfahrung herzlich willkommen!</p><br><p>Ein p
	aar Nadeln und Garn für Neulinge werden wir auch bereit halten. Wir werden
	 sicherlich nicht nur über Handarbeitsthemen plaudern, aber vielleicht ler
	nst du auch etwas Neues oder bekommst Inspiration für dein nächstes Projek
	t <span><span>🙂</span></span></p><br><br><br><br><br><a href="https://quee
	rkastle.de/veranstaltung/queerer-handarbeitstreff_08-2025/" target="_blank
	">https://queerkastle.de/veranstaltung/queerer-handarbeitstreff_08-2025/</
	a>
BEGIN:VALARM
ACTION:DISPLAY
DESCRIPTION:Queerer Handarbeitstreff
TRIGGER:-PT1H
END:VALARM
END:VEVENT
END:VCALENDAR
