BEGIN:VCALENDAR
VERSION:2.0
CALSCALE:GREGORIAN
PRODID:adamgibbons/ics
METHOD:PUBLISH
X-PUBLISHED-TTL:PT1H
BEGIN:VEVENT
UID:913@keepkarlsruheboring.org
SUMMARY:Queerer Kunstmarkt
DTSTAMP:20260423T102046Z
DTSTART:20260405T090000Z
DTEND:20260405T160000Z
DESCRIPTION:🌈🎨🖍️📝 Am 05. April 2026 ist es wieder so weit und wir organisier
	en von 11\nbis 18 Uhr den dritten QUEEREN KUNSTMARKT im Queeren Zentrum Ka
	rlsruhe. Mit\ndabei sind über 20 regionalen (queeere) Künstler*innen\, die
	 ihre Werke\nvorstellen.\n\n🆕 Es wird zusätzlich den ganzen Tag einen Work
	shop-Raum geben. (Mehr Infos\nfolgen)\n\n🤔 Ob Zeichnungen\, Bücher\, Schmu
	ck\, Sticker\, interaktive Kunst oder textiles\nHandwerk … ihr könnt gespa
	nnt sein was euch erwarten wird!\n\n🥪 🎂 An dem Tag selbst könnt ihr euch G
	etränke und Snacks an unserer Theke\nkaufen\, aber es wird auch einige kos
	tenfreie Leckereien geben.\n\nKommt vorbei und unterstützt Queere Kunst!\n
	\n \n\n— 🇬🇧 ENGLISH BELOW 🇬🇧 —\n\n🌈🎨🖍️📝 On the 5th of April 2026 we will orga
	nize the third QUEER ART MARKET\nKARLSRUHE from 11am to 6pm in the Queeres
	 Zentrum Karlsruhe with over 20 local\n(queer) artists.\n\n🆕 Throughout th
	e day you have the opportunity to be part of an art workshop.\n(More Infor
	mation soon)\n\n🤔 You can experience Drawings\, Books\, Jewelry \, Sticker
	s\, interactive Art or\nhandycraft textiles … and much more.\n\n🥪 🎂 You ca
	n buy drinks and snacks at the bar or enjoy some free snacks aswell.\n\nCo
	me on over and support (queer) local artists! 
URL:https://keepkarlsruheboring.org/event/queerer-kunstmarkt-1
LOCATION:queerKAstle - Karlsruher Zentrum für queere Vielfalt - Liebigstraß
	e 10-12\, 76135 Karlsruhe
STATUS:CONFIRMED
CATEGORIES:Art,Flohmarkt,Queer
X-ALT-DESC;FMTTYPE=text/html:<p>🌈🎨🖍️📝 Am <strong>05. April 2026</strong> ist
	 es wieder so weit und wir organisieren von 11 bis 18 Uhr den dritten <str
	ong>QUEEREN KUNSTMARKT</strong> im Queeren Zentrum Karlsruhe. Mit dabei si
	nd über <strong>20 regionalen (queeere) Künstler*innen</strong>, die ihre 
	Werke vorstellen.</p><p>🆕 Es wird zusätzlich den ganzen Tag einen <strong>
	Workshop-Raum</strong> geben. <em>(Mehr Infos folgen)</em></p><p>🤔 Ob Zeic
	hnungen, Bücher, Schmuck, Sticker, interaktive Kunst oder textiles Handwer
	k … ihr könnt gespannt sein was euch erwarten wird!</p><p>🥪 🎂 An dem Tag s
	elbst könnt ihr euch Getränke und Snacks an unserer Theke kaufen, aber es 
	wird auch einige kostenfreie Leckereien geben.</p><p>Kommt vorbei und unte
	rstützt Queere Kunst!</p><p>&nbsp;</p><p>— 🇬🇧<strong> ENGLISH BELOW</strong
	> 🇬🇧 —</p><p>🌈🎨🖍️📝 On the <strong>5th of April 2026</strong> we will organiz
	e the third <strong>QUEER ART MARKET KARLSRUHE</strong> from 11am to 6pm i
	n the Queeres Zentrum Karlsruhe with over <strong>20 local (queer) artists
	</strong>.</p><p>🆕 Throughout the day you have the opportunity to be part 
	of an <strong>art workshop.</strong><em> (More Information soon)</em></p><
	p>🤔 You can experience Drawings, Books, Jewelry , Stickers, interactive Ar
	t or handycraft textiles … and much more.</p><p>🥪 🎂 You can buy drinks and
	 snacks at the bar or enjoy some free snacks aswell.</p><p>Come on over an
	d support (queer) local artists!&nbsp;</p>
BEGIN:VALARM
ACTION:DISPLAY
DESCRIPTION:Queerer Kunstmarkt
TRIGGER:-PT1H
END:VALARM
END:VEVENT
END:VCALENDAR
