BEGIN:VCALENDAR
VERSION:2.0
CALSCALE:GREGORIAN
PRODID:adamgibbons/ics
METHOD:PUBLISH
X-PUBLISHED-TTL:PT1H
BEGIN:VEVENT
UID:90@keepkarlsruheboring.org
SUMMARY:Queerer Spieleabend - ausgerichtet von queerKAstle
DTSTAMP:20260423T115227Z
DTSTART:20250604T160000Z
DTEND:20250604T200000Z
DESCRIPTION:Für wen? - Queere Menschen und alle\, die Lust haben\, in entsp
	annter Umgebung zu\nspielen. Der queere Spieleabend ist grundsätzlich für 
	alle da. Uns ist es\nallerdings besonders wichtig\, dass untereinander ein
	 freundlicher und\nrespektvoller Umgang herrscht. Wir wollen eine sichere 
	und vorurteilsfreie\nUmgebung bieten\, in der sich Menschen kennenlernen u
	nd zusammen spielen können.\nWir tragen Namensschilder auf die\, wer möcht
	e\, die eigenen Pronomen schreiben\nkann\, um eine korrekte Ansprache zu e
	rleichtern. Meldet Euch bei Fragen gerne\nbei queerKAstle!
URL:https://keepkarlsruheboring.org/event/queerer-spieleabend-ausgerichtet-
	von-queerkastle-1
GEO:49.0082;8.41926
LOCATION:Thoule Vereinsheim - 1\, Ostendstraße\, Oststadt Westlicher Teil\,
	 Oststadt\, Karlsruhe\, Baden-Württemberg\, 76131\, Deutschland
STATUS:CONFIRMED
CATEGORIES:Boardgames,Queer
X-ALT-DESC;FMTTYPE=text/html:Für wen? - Queere Menschen und alle, die Lust 
	haben, in entspannter Umgebung zu spielen.<br><br>Der queere Spieleabend i
	st grundsätzlich für alle da. Uns ist es allerdings besonders wichtig, das
	s untereinander ein freundlicher und respektvoller Umgang herrscht. Wir wo
	llen eine sichere und vorurteilsfreie Umgebung bieten, in der sich Mensche
	n kennenlernen und zusammen spielen können. Wir tragen Namensschilder auf 
	die, wer möchte, die eigenen Pronomen schreiben kann, um eine korrekte Ans
	prache zu erleichtern.<br><br>Meldet Euch bei Fragen gerne bei queerKAstle
	!
BEGIN:VALARM
ACTION:DISPLAY
DESCRIPTION:Queerer Spieleabend - ausgerichtet von queerKAstle
TRIGGER:-PT1H
END:VALARM
END:VEVENT
END:VCALENDAR
