BEGIN:VCALENDAR
VERSION:2.0
CALSCALE:GREGORIAN
PRODID:adamgibbons/ics
METHOD:PUBLISH
X-PUBLISHED-TTL:PT1H
BEGIN:VEVENT
UID:873@keepkarlsruheboring.org
SUMMARY:Queerer Tanztee: Standard\, Latein & Kuchen
DTSTAMP:20260423T102545Z
DTSTART:20260315T140000Z
DTEND:20260315T160000Z
DESCRIPTION:Die AG „Queer älter werden" des queerKAstle e.V. lädt alle Mens
	chen am Sonntag\,\nden 15. März 2026 von 15 - 17 Uhr ins Queere Zentrum Ka
	rlsruhe zu einem weiteren\nqueeren Tanztee ein. Kommt allein\, zu zweit\, 
	zu dritt … Kurze Einführung\, dann\ngeht es los mit dem Tanzen. Beiträge z
	um Mitbringbüffet (Kuchen oder sonstiges\nGebäck) sind willkommen. Der Tan
	ztee soll möglichst barrierefrei zugänglich\nsein. Es gibt einen musikfrei
	en Raum. Benötigst Du Unterstützung\, um an der\nVeranstaltung teilnehmen 
	zu können oder hast Lust\, Teil der AG zu werden?\nSchreib uns an unter: a
	lter@queerkastle.de Der Eintritt ist frei.\nhttps://queerkastle.de/veranst
	altung/queerer-tanztee-standard-latein-kuchen-2/
URL:https://keepkarlsruheboring.org/event/queerer-tanztee-standard-latein-a
	nd-kuchen
LOCATION:queerKAstle - Karlsruher Zentrum für queere Vielfalt - Liebigstraß
	e 10-12\, 76135 Karlsruhe
STATUS:CONFIRMED
CATEGORIES:karlsrunruhe,test
X-ALT-DESC;FMTTYPE=text/html:Die AG „Queer älter werden" des queerKAstle e.
	V. lädt alle Menschen am<br>Sonntag, den 15. März 2026 von 15 - 17 Uhr ins
	 Queere Zentrum Karlsruhe zu<br>einem weiteren queeren Tanztee ein.<br><br
	>Kommt allein, zu zweit, zu dritt … Kurze Einführung, dann geht es los mit
	 dem<br>Tanzen.<br><br>Beiträge zum Mitbringbüffet (Kuchen oder sonstiges 
	Gebäck) sind willkommen.<br><br>Der Tanztee soll möglichst barrierefrei zu
	gänglich sein. Es gibt einen<br>musikfreien Raum.<br><br>Benötigst Du Unte
	rstützung, um an der Veranstaltung teilnehmen zu können oder<br>hast Lust,
	 Teil der AG zu werden?  <br>Schreib uns an unter: alter@queerkastle.de<br
	><br>Der Eintritt ist frei.<br>https://queerkastle.de/veranstaltung/queere
	r-tanztee-standard-latein-kuchen-2/
BEGIN:VALARM
ACTION:DISPLAY
DESCRIPTION:Queerer Tanztee: Standard, Latein & Kuchen
TRIGGER:-PT1H
END:VALARM
END:VEVENT
END:VCALENDAR
