BEGIN:VCALENDAR
VERSION:2.0
CALSCALE:GREGORIAN
PRODID:adamgibbons/ics
METHOD:PUBLISH
X-PUBLISHED-TTL:PT1H
BEGIN:VEVENT
UID:800@keepkarlsruheboring.org
SUMMARY:Queeres Pubquiz mit Janboris Ann-Kathrin Rätz
DTSTAMP:20260423T090609Z
DTSTART:20260220T173000Z
DTEND:20260220T200000Z
DESCRIPTION:🌈🔮 Am 20. Februar 2026 ist wieder euer queeres Wissen gefragt!\
	n\nUnser Queeres Pubquiz geht in die nächste Runde. Wir laden euch und eur
	e Teams\nwieder ab 18.30 Uhr ins Queeren Zentrum Karlsruhe ein. Moderiert 
	wird das ganze\ndieses Mal wieder von Janboris Ann-Kathrin Rätz\n[https://
	www.instagram.com/janborisineinemwort/]!\n\n🤔 Ihr denkt\, Ihr wisst alles 
	über Queerness? Dann seid Ihr hier genau richtig!\nDie ehemalige TV-Modera
	tor*in Janboris Ann-Kathrin Rätz fühlt Euch entspannt auf\nden queeren Zah
	n und hat einiges an kniffligen Fragen parat.\n\n⁉️ Testet in Teams Eure Ke
	nntnisse zu queerer Kultur und Geschichte\, Neopronomen\nund vielem mehr! 
	Gute Laune und ein unterhaltsamer Abend sind garantiert.\n\nUnd das Beste?
	 Es gibt auch Preise zu gewinnen!\n\nDer Eintritt ist frei\, aber wir freu
	en uns über jede kleine Spende.\n\nKommt vorbei und zeigt Eure queeren Far
	ben!
URL:https://keepkarlsruheboring.org/event/queeres-pubquiz-mit-janboris-ann-
	kathrin-ratz-1
LOCATION:queerKAstle - Karlsruher Zentrum für queere Vielfalt - Liebigstraß
	e 10-12\, 76135 Karlsruhe
STATUS:CONFIRMED
CATEGORIES:Pubquiz,Queer
X-ALT-DESC;FMTTYPE=text/html:<p>🌈🔮 Am <strong>20. Februar 2026</strong> ist
	 wieder euer queeres Wissen gefragt!</p><p>Unser <strong>Queeres Pubquiz</
	strong> geht in die nächste Runde. Wir laden euch und eure Teams wieder ab
	 <strong>18.30 Uhr</strong> ins Queeren Zentrum Karlsruhe ein. Moderiert w
	ird das ganze dieses Mal wieder von <a href="https://www.instagram.com/jan
	borisineinemwort/" target="_blank"><strong>Janboris Ann-Kathrin Rätz</stro
	ng></a>!</p><p><strong>🤔 Ihr denkt, Ihr wisst alles über Queerness?</stron
	g> Dann seid Ihr hier genau richtig! Die ehemalige TV-Moderator*in <strong
	>Janboris Ann-Kathrin Rätz</strong> fühlt Euch entspannt auf den queeren Z
	ahn und hat einiges an kniffligen Fragen parat.</p><p>⁉️ Testet in Teams Eu
	re Kenntnisse zu queerer Kultur und Geschichte, Neopronomen und vielem meh
	r! Gute Laune und ein unterhaltsamer Abend sind garantiert.</p><p>Und das 
	Beste? <strong>Es gibt auch Preise zu gewinnen!</strong></p><p>Der Eintrit
	t ist frei, aber wir freuen uns über jede kleine Spende.</p><p><em>Kommt v
	orbei und zeigt Eure queeren Farben!</em></p>
BEGIN:VALARM
ACTION:DISPLAY
DESCRIPTION:Queeres Pubquiz mit Janboris Ann-Kathrin Rätz
TRIGGER:-PT1H
END:VALARM
END:VEVENT
END:VCALENDAR
