BEGIN:VCALENDAR
VERSION:2.0
CALSCALE:GREGORIAN
PRODID:adamgibbons/ics
METHOD:PUBLISH
X-PUBLISHED-TTL:PT1H
BEGIN:VEVENT
UID:357@keepkarlsruheboring.org
SUMMARY:!Ortswechsel! Queerfeministischer Lesesommer
DTSTAMP:20260423T102452Z
DTSTART:20250905T163000Z
DTEND:20250905T180000Z
DESCRIPTION:[English below]\n!Ortswechsel! Wegen schlechter Wetterprognose 
	findet der Lesekreis heute nicht\nim Fasanengarten\, sondern im ßpace stat
	t.\n\n\nDer Herbst macht sich so langsam bemerkbar 🍃 Wir wollen uns noch e
	inmal im\nFasanengarten zum Lesesommer treffen\, um uns über ausgesuchte Q
	ueerfeministische\nText auszutauschen.\n\n📆 Dieses Mal treffen wir uns am 
	Freitag\, den 05.09.\, um 18:30 treffen.\n📍Wir treffen uns wieder am Chine
	sischen Pavillon im Fasanengarten (bei\nschlechtem Wetter wird ein anderer
	 Ort kommuniziert)\, um uns über Kapitel 4 von\n„Radikale Zärtlichkeit“ vo
	n Şeyda Kurt auszutauschen.\n\n🌈 Jede*r ist willkommen :) Wer spontan eins
	teigen will\, kann auch vorbeikommen\,\nohne den Text gelesen zu haben.\n\
	nℹ️ Am Anfang des Treffens wird es eine Einführung über den Text geben\, da
	mit\nalle mitdiskutieren können. Ohnehin beschränken wir uns bei der Disku
	ssion nicht\nnur auf die Inhalte im Buch. Komm vorbei und diskutiere mit o
	der hör einfach nur\nzu.\n\n📖📖📖\n!! Because of the bad weather prognosis t
	he meeting will take place inside\ninstead of in the fasanengarten. We'll 
	meet at "ßpace".\n\n\nAutumn is slowly making itself felt. We want to meet
	 once again in the pheasant\ngarden for the summer of reading to discuss s
	elected queer feminist texts.\n\n📆This time we will meet on Friday\, Septe
	mber 5th\, at 18:30.\n📍We will meet again at the Chinese Pavilion in the F
	asanengarten (in case of\nbad weather another location will be communicate
	d) to discuss chapter 4 of\n"Radical Tenderness" by Şeyda Kurt.\n\n🌈Everyo
	ne is welcome :)\n\nℹ️ If you want to join spontaneously\, you can also com
	e along without having\nread the text. At the beginning of the meeting the
	re will be an introduction to\nthe text so that everyone can join in the d
	iscussion. In any case\, the\ndiscussion will not be limited to the conten
	t of the book. Come along and join\nin the discussion or just listen.
URL:https://keepkarlsruheboring.org/event/queerfeministischer-lesesommer-1
GEO:49.0084;8.41046
LOCATION:ßpace - Fritz-Erler-Straße 7\, 76133 Karlsruhe
STATUS:CONFIRMED
CATEGORIES:
X-ALT-DESC;FMTTYPE=text/html:<p>[English below]<br>!Ortswechsel! Wegen schl
	echter Wetterprognose findet der Lesekreis heute nicht im Fasanengarten, s
	ondern im ßpace statt.</p><p> <br>Der Herbst macht sich so langsam bemerkb
	ar 🍃 Wir wollen uns noch einmal im Fasanengarten zum Lesesommer treffen, u
	m uns über ausgesuchte Queerfeministische Text auszutauschen.<br><br>📆 Die
	ses Mal treffen wir uns am Freitag, den 05.09., um 18:30 treffen.<br>📍Wir 
	treffen uns wieder am Chinesischen Pavillon im Fasanengarten (bei schlecht
	em Wetter wird ein anderer Ort kommuniziert), um uns über Kapitel 4 von „R
	adikale Zärtlichkeit“ von Şeyda Kurt auszutauschen.<br><br>🌈 Jede*r ist wi
	llkommen :) Wer spontan einsteigen will, kann auch vorbeikommen, ohne den 
	Text gelesen zu haben.<br><br>ℹ️ Am Anfang des Treffens wird es eine Einfüh
	rung über den Text geben, damit alle mitdiskutieren können. Ohnehin beschr
	änken wir uns bei der Diskussion nicht nur auf die Inhalte im Buch. Komm v
	orbei und diskutiere mit oder hör einfach nur zu.<br><br>📖📖📖<br>!! Because
	 of the bad weather prognosis the meeting will take place inside instead o
	f in the fasanengarten. We'll meet at "ßpace". </p><p><br>Autumn is slowly
	 making itself felt. We want to meet once again in the pheasant garden for
	 the summer of reading to discuss selected queer feminist texts.<br><br>📆T
	his time we will meet on Friday, September 5th, at 18:30.<br>📍We will meet
	 again at the Chinese Pavilion in the Fasanengarten (in case of bad weathe
	r another location will be communicated) to discuss chapter 4 of "Radical 
	Tenderness" by Şeyda Kurt.<br><br>🌈Everyone is welcome :)<br><br>ℹ️ If you 
	want to join spontaneously, you can also come along without having read th
	e text. At the beginning of the meeting there will be an introduction to t
	he text so that everyone can join in the discussion. In any case, the disc
	ussion will not be limited to the content of the book. Come along and join
	 in the discussion or just listen.</p>
BEGIN:VALARM
ACTION:DISPLAY
DESCRIPTION:!Ortswechsel! Queerfeministischer Lesesommer
TRIGGER:-PT1H
END:VALARM
END:VEVENT
END:VCALENDAR
