BEGIN:VCALENDAR
VERSION:2.0
CALSCALE:GREGORIAN
PRODID:adamgibbons/ics
METHOD:PUBLISH
X-PUBLISHED-TTL:PT1H
BEGIN:VEVENT
UID:145@keepkarlsruheboring.org
SUMMARY:Queerfeministischer Lesesommer
DTSTAMP:20260423T102329Z
DTSTART:20250805T160000Z
DESCRIPTION:Die Lesezeit im Sommer geht weiter📖🌺\n\nWir wollen uns von Weic
	he Kanten im Sommer ein paar Mal zu einem Lesekreis\ntreffen\, um uns über
	 ausgesuchte Queerfeministische Text auszutauschen.\n\nWir treffen uns am 
	Dienstag\, den 05. August um 18 Uhr wieder am Chinesischen\nPavillon im Fa
	sanengarten (bei schlechtem Wetter wird ein anderer Ort\nkommuniziert)\, u
	m uns über Kapitel 3 von „Radikale Zärtlichkeit“ von Şeyda Kurt\nauszutaus
	chen.\n\nDa wir beim letzten Mal nur geschafft haben uns über ein Kapitel 
	auszutauschen\,\nwerden wir uns diesmal auch nur dieses eine Kapitel vorne
	hmen :)\n\nWir freuen uns über alle die dazu kommen wollen. Wer spontan ei
	nsteigen will\,\nkann auch vorbeikommen\, ohne den Text gelesen zu haben. 
	Am Anfang des Treffens\nwird es eine Einführung über den Text geben\, dami
	t alle mitdiskutieren können.\nWir freuen uns auf dich und deine Gedanken 
	💭🌱
URL:https://keepkarlsruheboring.org/event/queerfeministischer-lesesommer
GEO:49.0134;8.41286
LOCATION:Fasanenschlösschen - Fasanenschlösschen in the Fasanengarten
STATUS:CONFIRMED
CATEGORIES:Lecture Club,Queer
X-ALT-DESC;FMTTYPE=text/html:<p>Die Lesezeit im Sommer geht weiter📖🌺</p><p>
	Wir wollen uns von Weiche Kanten im Sommer ein paar Mal zu einem Lesekreis
	 treffen, um uns über ausgesuchte Queerfeministische Text auszutauschen.</
	p><p>Wir treffen uns am Dienstag, den 05. August um 18 Uhr wieder am Chine
	sischen Pavillon im Fasanengarten (bei schlechtem Wetter wird ein anderer 
	Ort kommuniziert), um uns über Kapitel 3 von „Radikale Zärtlichkeit“ von Ş
	eyda Kurt auszutauschen.</p><p>Da wir beim letzten Mal nur geschafft haben
	 uns über ein Kapitel auszutauschen, werden wir uns diesmal auch nur diese
	s eine Kapitel vornehmen :)</p><p>Wir freuen uns über alle die dazu kommen
	 wollen. Wer spontan einsteigen will, kann auch vorbeikommen, ohne den Tex
	t gelesen zu haben. Am Anfang des Treffens wird es eine Einführung über de
	n Text geben, damit alle mitdiskutieren können. Wir freuen uns auf dich un
	d deine Gedanken 💭🌱</p>
BEGIN:VALARM
ACTION:DISPLAY
DESCRIPTION:Queerfeministischer Lesesommer
TRIGGER:-PT1H
END:VALARM
END:VEVENT
END:VCALENDAR
