BEGIN:VCALENDAR
VERSION:2.0
CALSCALE:GREGORIAN
PRODID:adamgibbons/ics
METHOD:PUBLISH
X-PUBLISHED-TTL:PT1H
BEGIN:VEVENT
UID:776@keepkarlsruheboring.org
SUMMARY:queerTalk (Podium): Queerer Landtag
DTSTAMP:20260423T102216Z
DTSTART:20260212T173000Z
DTEND:20260212T200000Z
DESCRIPTION:🗳️ Unser queerTalk Podium zur Landtagswahl Baden-Württemberg 202
	6!\n\nDer queerKAstle Beirat [https://queerkastle.de/beirat] (Queere Verne
	tzung\nKarlsruhe) lädt am 12. Februar 2026 um 18.30 Uhr zu einem weiteren 
	queerTalk ins\nQueere Zentrum Karlsruhe ein.\n\nDie Vertreter*innen aller 
	demokratischen Parteien der Landtagswahl stellen sich\nDeinen Fragen und b
	erichten welche queeren Themen Sie in den kommenden 5 Jahren\numsetzen möc
	hten.\n\nDu interessiert Dich für Queerpolitik und hast eine Frage\, die D
	u den\nKandidierenden stellen möchtest? Dann komm gerne dazu und mach Dir 
	ein Bild der\nParteien.\n\nDie Veranstaltung wird von Angela Schrödelsecke
	r moderiert. Der Eintritt ist\nkostenfrei.
URL:https://keepkarlsruheboring.org/event/queertalk-podium-queerer-landtag
LOCATION:queerKAstle - Karlsruher Zentrum für queere Vielfalt - Liebigstraß
	e 10-12\, 76135 Karlsruhe
STATUS:CONFIRMED
CATEGORIES:Elections-BW,Institutional Politics,Politics,Queer
X-ALT-DESC;FMTTYPE=text/html:<p>🗳️ Unser queerTalk Podium zur Landtagswahl B
	aden-Württemberg 2026!</p><p>Der <a href="https://queerkastle.de/beirat" t
	arget="_blank"><strong>queerKAstle Beirat</strong></a> (Queere Vernetzung 
	Karlsruhe) lädt am <strong>12. Februar 2026</strong> um 18.30 Uhr zu einem
	 weiteren <strong>queerTalk</strong> ins Queere Zentrum Karlsruhe ein.</p>
	<p>Die <strong>Vertreter*innen aller demokratischen Parteien</strong> der 
	Landtagswahl stellen sich Deinen Fragen und berichten welche queeren Theme
	n Sie in den kommenden 5 Jahren umsetzen möchten.</p><p>Du interessiert Di
	ch für <strong>Queerpolitik</strong> und hast eine Frage, die Du den Kandi
	dierenden stellen möchtest? Dann komm gerne dazu und mach Dir ein Bild der
	 Parteien.</p><p>Die Veranstaltung wird von <strong>Angela Schrödelsecker<
	/strong> moderiert. Der Eintritt ist kostenfrei.</p>
BEGIN:VALARM
ACTION:DISPLAY
DESCRIPTION:queerTalk (Podium): Queerer Landtag
TRIGGER:-PT1H
END:VALARM
END:VEVENT
END:VCALENDAR
