BEGIN:VCALENDAR
VERSION:2.0
CALSCALE:GREGORIAN
PRODID:adamgibbons/ics
METHOD:PUBLISH
X-PUBLISHED-TTL:PT1H
BEGIN:VEVENT
UID:894@keepkarlsruheboring.org
SUMMARY:RALPH HEIDEL
DTSTAMP:20260423T102036Z
DTSTART:20260325T190000Z
DTEND:20260325T210000Z
DESCRIPTION:Leute\, hier kommt eine ganz außergewöhnlich schöne Musik auf u
	ns zu. Seid\ngespannt auf Ralph Heidel! Wer die zeitgenössische deutsche M
	usiklandschaft\nverfolgt\, hat - ob nun bewusst oder unbewusst\, mit hoher
	 Wahrscheinlichkeit\nschon einmal Musik gehört\, die aus Ralph Heidels Fed
	er stammt. Er ist nicht nur\ngefragter Komponist\, Arrangeur\, Produzent\,
	 Soundforscher und Multiin-\nstrumentalist - er ist auch der einzige Musik
	er\, der sowohl mit Künstler:innen\nwie Apsilon\, Bazzazian\, Casper\, Jun
	gstötter\, Tristan Brusch und Lisa Morgenstern\nals auch für das Berliner 
	Ensemble oder das Nationaltheater Mannheim gearbeitet\nund nebenher klassi
	sche Auftragskompositionen ge- schrieben hat. All das als aus\nDeutschland
	 stammender\, meilenweit abseits des Mainstreams agierender\nSoloartist\, 
	wird er auf BBC Radio 6 gespielt und wohlwollend im Mojo Magazin\nbesproch
	en. Seine Musik bewegt sich immer an der Schnittstelle zwischen\norganisch
	en und elektronischen Sound- und Genrewelten\; zwischen neoklassischen\nSt
	reichquartetten\, Bedroom-Pop\, Nujazz\, Kammermusik und futuristischen Be
	ats\;\nzwischen intimen Klavierthemen\, kosmisch anmutenden Synths\, gelay
	erten\nSaxofonläufen und gesummten Vocal-Flächen. Sein aktuelles\, drittes
	 Album\n„anyways.onto better things“ ist sein wohl intimstes\, persönlichs
	tes Werk. Für\ndie Live-Umsetzung reduziert er sich auf das Minimum und sc
	hafft es mit Klavier\,\nSynthesizern und seinen vielseitigen Saxophonkläng
	en emotionale\, einzigartige\nKlanglandschaften zu bilden. Einlass: 19 Uhr
	\, Beginn: 20 Uhr
URL:https://keepkarlsruheboring.org/event/ralph-heidel
GEO:49.0017;8.40754
LOCATION:Kohi - Werderstraße 47\, 76137 Karlsruhe\, Alemanya
STATUS:CONFIRMED
CATEGORIES:karlsrunruhe,test
X-ALT-DESC;FMTTYPE=text/html:Leute, hier kommt eine ganz außergewöhnlich sc
	höne Musik auf uns zu. Seid gespannt auf Ralph Heidel!<br>Wer die zeitgenö
	ssische deutsche Musiklandschaft verfolgt, hat - ob nun bewusst oder unbew
	usst, mit hoher Wahrscheinlichkeit schon einmal Musik gehört, die aus Ralp
	h Heidels Feder stammt. Er ist nicht nur gefragter Komponist, Arrangeur, P
	roduzent, Soundforscher und Multiin- strumentalist - er ist auch der einzi
	ge Musiker, der sowohl mit Künstler:innen wie Apsilon, Bazzazian, Casper, 
	Jungstötter, Tristan Brusch und Lisa Morgenstern als auch für das Berliner
	 Ensemble oder das Nationaltheater Mannheim gearbeitet und nebenher klassi
	sche Auftragskompositionen ge- schrieben hat. All das als aus Deutschland 
	stammender, meilenweit abseits des Mainstreams agierender Soloartist, wird
	 er auf BBC Radio 6 gespielt und wohlwollend im Mojo Magazin besprochen.<b
	r>Seine Musik bewegt sich immer an der Schnittstelle zwischen organischen 
	und elektronischen Sound- und Genrewelten; zwischen neoklassischen Streich
	quartetten, Bedroom-Pop, Nujazz, Kammermusik und futuristischen Beats; zwi
	schen intimen Klavierthemen, kosmisch anmutenden Synths, gelayerten Saxofo
	nläufen und gesummten Vocal-Flächen. Sein aktuelles, drittes Album „anyway
	s.onto better things“ ist sein wohl intimstes, persönlichstes Werk. Für di
	e Live-Umsetzung reduziert er sich auf das Minimum und schafft es mit Klav
	ier, Synthesizern und seinen vielseitigen Saxophonklängen emotionale, einz
	igartige Klanglandschaften zu bilden.<br>Einlass: 19 Uhr, Beginn: 20 Uhr
BEGIN:VALARM
ACTION:DISPLAY
DESCRIPTION:RALPH HEIDEL
TRIGGER:-PT1H
END:VALARM
END:VEVENT
END:VCALENDAR
