BEGIN:VCALENDAR
VERSION:2.0
CALSCALE:GREGORIAN
PRODID:adamgibbons/ics
METHOD:PUBLISH
X-PUBLISHED-TTL:PT1H
BEGIN:VEVENT
UID:1472@keepkarlsruheboring.org
SUMMARY:RANZIG - Die Tuntenshow [5-10€]
DTSTAMP:20260423T102456Z
DTSTART:20260418T180000Z
DTEND:20260418T200000Z
DESCRIPTION:RANZIG – Die Tuntenshow kommt nach Karlsruhe!\nMit Lindsay Lowh
	äng\, Carmen Bert & Stargast Phallamir aus Heidelberg.\n\nWenn Glamour auf
	 Frechheit trifft und Trash zur Kunstform wird\, dann ist\neswieder Zeit f
	ür RANZIG – Die Tuntenshow. Die beiden tuntischen Ikonen Lindsay\nLowhäng 
	und Carmen Bert verwandeln das Queere Zentrum Karlsruhe in ein\nqueerfemin
	istisches Biotop voller Glitzer\, Schweiß und scharfer Pointen.\nZwischen 
	bissigen Kommentaren\, schrägen Performances und musikalischen\nÜberraschu
	ngen entsteht ein Abend\, der ebenso ranzig wie radikal befreiend ist.\n\n
	🎤 Lotzi Lowhäng – die Diva mit Herz und Haltung – serviert Songs und Stori
	es\,\ndie zwischen Popkultur und politischem Schlaglicht oszillieren.\n💃 C
	armen Bert – die liebreizende Herzog*in der Schangeligkeit – bringt das\nP
	ublikum mit Witz\, Charme und unerwarteten Emotionen in Wallung.\n\n😈 Phal
	lamir\, der Big Daddy & Glitzerdemon Heidelbergs rockt seit 2019\ndieBühne
	n\, hat schon so manches Drag Baby geboren und ist zudem als\n‚Network-Kin
	g' bekannt\, der sich für Vernetzung\, insbesondere zwischen Kings &\nQuin
	gs einsetzt.✨️💚 Phallamirs Drag ist meist politisch. Getreu dem Motto „Drag
	\nist Punk!" kämpft er gegen Misogynie und Rassismus\, für Fat Liberation 
	und\nClimate Justice. Schließt euch der Drag Revolution an! 💥\n\nGemeinsam
	 feiern sie das Unperfekte\, das Übertriebene\, das Queere – und machen\nd
	araus ein Fest der Sichtbarkeit und Selbstermächtigung. RANZIG ist mehr al
	s\neine Show: Es ist ein Statement für Vielfalt\, für schrille Freiheit un
	d für die\nLust am Anderssein. Wer hier lacht\, tanzt und mitgrölt\, wird 
	Teil einer\nCommunity\, die sich nicht mit halben Sachen zufriedengibt.\n\
	n🎟️ Tickets gibt es für 5-10€ hier.\n\n🕐 Einlass: 19 Uhr - Showbeginn: 20 U
	hr\n\nhttps://queerkastle.de/veranstaltung/ranzig-die-tuntenshow/\n[https:
	//queerkastle.de/veranstaltung/ranzig-die-tuntenshow/]
URL:https://keepkarlsruheboring.org/event/ranzig-die-tuntenshow-5-10euro
LOCATION:queerKAstle - Karlsruher Zentrum für queere Vielfalt - Liebigstraß
	e 10-12\, 76135 Karlsruhe
STATUS:CONFIRMED
CATEGORIES:Queer,Ticket
X-ALT-DESC;FMTTYPE=text/html:<p>RANZIG – Die Tuntenshow kommt nach Karlsruh
	e!<br>Mit Lindsay Lowhäng, Carmen Bert &amp; Stargast Phallamir aus Heidel
	berg.</p><p>Wenn Glamour auf Frechheit trifft und Trash zur Kunstform wird
	, dann ist eswieder Zeit für RANZIG – Die Tuntenshow. Die beiden tuntische
	n Ikonen Lindsay Lowhäng und Carmen Bert verwandeln das Queere Zentrum Kar
	lsruhe in ein queerfeministisches Biotop voller Glitzer, Schweiß und schar
	fer Pointen. Zwischen bissigen Kommentaren, schrägen Performances und musi
	kalischen Überraschungen entsteht ein Abend, der ebenso ranzig wie radikal
	 befreiend ist.</p><p>🎤 Lotzi Lowhäng – die Diva mit Herz und Haltung – se
	rviert Songs und Stories, die zwischen Popkultur und politischem Schlaglic
	ht oszillieren.<br>💃 Carmen Bert – die liebreizende Herzog*in der Schangel
	igkeit – bringt das Publikum mit Witz, Charme und unerwarteten Emotionen i
	n Wallung.</p><p>😈 Phallamir, der Big Daddy &amp; Glitzerdemon Heidelbergs
	 rockt seit 2019 dieBühnen, hat schon so manches Drag Baby geboren und ist
	 zudem als ‚Network-King' bekannt, der sich für Vernetzung, insbesondere z
	wischen Kings &amp; Quings einsetzt.✨️💚 Phallamirs Drag ist meist politisch
	. Getreu dem Motto „Drag ist Punk!" kämpft er gegen Misogynie und Rassismu
	s, für Fat Liberation und Climate Justice. Schließt euch der Drag Revoluti
	on an! 💥</p><p>Gemeinsam feiern sie das Unperfekte, das Übertriebene, das 
	Queere – und machen daraus ein Fest der Sichtbarkeit und Selbstermächtigun
	g. RANZIG ist mehr als eine Show: Es ist ein Statement für Vielfalt, für s
	chrille Freiheit und für die Lust am Anderssein. Wer hier lacht, tanzt und
	 mitgrölt, wird Teil einer Community, die sich nicht mit halben Sachen zuf
	riedengibt.</p><p>🎟️ Tickets gibt es für 5-10€ hier.</p><p>🕐 Einlass: 19 Uh
	r - Showbeginn: 20 Uhr</p><p><a href="https://queerkastle.de/veranstaltung
	/ranzig-die-tuntenshow/" target="_blank">https://queerkastle.de/veranstalt
	ung/ranzig-die-tuntenshow/</a></p>
BEGIN:VALARM
ACTION:DISPLAY
DESCRIPTION:RANZIG - Die Tuntenshow [5-10€]
TRIGGER:-PT1H
END:VALARM
END:VEVENT
END:VCALENDAR
