BEGIN:VCALENDAR
VERSION:2.0
CALSCALE:GREGORIAN
PRODID:adamgibbons/ics
METHOD:PUBLISH
X-PUBLISHED-TTL:PT1H
BEGIN:VEVENT
UID:110@keepkarlsruheboring.org
SUMMARY:Riemschneider Lectures: Kathrin Busch
DTSTAMP:20260423T102323Z
DTSTART:20250625T170000Z
DESCRIPTION:Eros und Wunde. Zur Sensibilität künstlerischen Wissens\n\nKath
	rin Busch ist Professorin für Philosophie und Ästhetik an der Universität\
	nder Künste\, Berlin. Sie hat die Gesellschaft für künstlerische Forschung
	 in\nDeutschland mitgegründet und das Berliner Programm für künstlerische 
	Forschung\nauf den Weg gebracht. Außerdem ist sie Präsidiumsmitglied der D
	eutschen\nGesellschaft für Ästhetik. Mit Arbeitsschwerpunkten in der franz
	ösischen\nGegenwartsphilosophie und dem Wissen der Künste richtet sich ihr
	 Interesse\naktuell auf das epistemische Potential von Verwundbarkeit und 
	Schwäche.\n\nIhr Vortrag in der Reihe der Riemschneider Lectures zeigt jün
	gste Verschiebungen\nim Feld der künstlerischen Forschung auf und fragt na
	ch radikal verletzbaren\nWissensformen in der Kunst. In der künstlerischen
	 Forschung\, so die Grundthese\,\ngeht es auch um eine kritische Arbeit am
	 Wissen selbst. Der Vortrag stellt\nPositionen vor\, die Lust und Schmerz 
	in das Konzept des verkörperten Wissens\neintragen. Er folgt dem Einsatz v
	on Sensibilität in einer oft auf\nInformationskunst reduzierten künstleris
	chen Forschung in der Annahme\, dass sich\nhier neue Verfahren eines ästhe
	tischen Denkens in der Kunst bilden.\n \n\nMittwoch\, 25. Juni 2025 um 19:
	00 Uhr\n\nVortragssaal\nKunstakademie Karlsruhe\nReinhold-Frank-Str. 81\n7
	6133 Karlsruhe\n\nLivestream\nkunstakademie-karlsruhe.de/livestream\n[http
	://kunstakademie-karlsruhe.de/livestream]\n\n\nRIEMSCHNEIDER LECTURES\n\ni
	st eine Veranstaltungsreihe an der Staatlichen Akademie der Bildenden Küns
	te\nKarlsruhe\, die aktuelle theoretische und wissenschaftliche Diskurse i
	n den Fokus\nstellt. Nach Veranstaltungen mit Jean-Luc Nancy\, Gottfried B
	oehm\, Sabeth\nBuchmann\, Monika Rinck\, Diedrich Diedrichsen ist es der s
	echste Teil dieser\nReihe.\n\nDer Beitrag wird wieder in der Schriftenreih
	e der RIEMSCHNEIDER LECTURES\nerscheinen.\n\nUnd wird auch wieder durch di
	e Riemschneider-Stiftung ermöglicht und finanziert.\nVielen Dank dafür!
URL:https://keepkarlsruheboring.org/event/riemschneider-lectures-kathrin-bu
	sch
GEO:49.013;8.38736
LOCATION:Staatliche Akademie der Bildenden Künste Karlsruhe - 67\, Reinhold
	-Frank-Straße\, Innenstadt-West Westlicher Teil\, Innenstadt-West\, Karlsr
	uhe\, Baden-Württemberg\, 76133\, Deutschland
STATUS:CONFIRMED
CATEGORIES:Artistic Research,Lecture,Philosophy
X-ALT-DESC;FMTTYPE=text/html:<p><strong>Eros und Wunde. Zur Sensibilität kü
	nstlerischen Wissens</strong></p><p>Kathrin Busch ist Professorin für Phil
	osophie und Ästhetik an der Universität der Künste, Berlin. Sie hat die <e
	m>Gesellschaft für künstlerische Forschung </em>in Deutschland mitgegründe
	t und das Berliner Programm für künstlerische Forschung auf den Weg gebrac
	ht. Außerdem ist sie Präsidiumsmitglied der <em>Deutschen Gesellschaft für
	 Ästhetik</em>. Mit Arbeitsschwerpunkten in der französischen Gegenwartsph
	ilosophie und dem Wissen der Künste richtet sich ihr Interesse aktuell auf
	 das epistemische Potential von Verwundbarkeit und Schwäche.</p><p>Ihr Vor
	trag in der Reihe der Riemschneider Lectures zeigt jüngste Verschiebungen 
	im Feld der künstlerischen Forschung auf und fragt nach radikal verletzbar
	en Wissensformen in der Kunst. In der künstlerischen Forschung, so die Gru
	ndthese, geht es auch um eine kritische Arbeit am Wissen selbst. Der Vortr
	ag stellt Positionen vor, die Lust und Schmerz in das Konzept des verkörpe
	rten Wissens eintragen. Er folgt dem Einsatz von Sensibilität in einer oft
	 auf Informationskunst reduzierten künstlerischen Forschung in der Annahme
	, dass sich hier neue Verfahren eines ästhetischen Denkens in der Kunst bi
	lden.<br>&nbsp;</p><p><strong>Mittwoch, 25. Juni 2025 um 19:00 Uhr</strong
	></p><p><strong>Vortragssaal</strong><br>Kunstakademie Karlsruhe<br>Reinho
	ld-Frank-Str. 81<br>76133 Karlsruhe</p><p><strong>Livestream</strong><br><
	a href="http://kunstakademie-karlsruhe.de/livestream" target="_blank">kuns
	takademie-karlsruhe.de/livestream</a></p><p><br><strong>RIEMSCHNEIDER LECT
	URES</strong></p><p>ist eine Veranstaltungsreihe an der Staatlichen Akadem
	ie der Bildenden Künste Karlsruhe, die aktuelle theoretische und wissensch
	aftliche Diskurse in den Fokus stellt. Nach Veranstaltungen mit Jean-Luc N
	ancy, Gottfried Boehm, Sabeth Buchmann, Monika Rinck, Diedrich Diedrichsen
	 ist es der sechste Teil dieser Reihe.</p><p>Der Beitrag wird wieder in de
	r Schriftenreihe der RIEMSCHNEIDER LECTURES erscheinen.</p><p>Und wird auc
	h wieder durch die Riemschneider-Stiftung ermöglicht und finanziert. Viele
	n Dank dafür!</p>
BEGIN:VALARM
ACTION:DISPLAY
DESCRIPTION:Riemschneider Lectures: Kathrin Busch
TRIGGER:-PT1H
END:VALARM
END:VEVENT
END:VCALENDAR
