BEGIN:VCALENDAR
VERSION:2.0
CALSCALE:GREGORIAN
PRODID:adamgibbons/ics
METHOD:PUBLISH
X-PUBLISHED-TTL:PT1H
BEGIN:VEVENT
UID:803@keepkarlsruheboring.org
SUMMARY:ROMES + FARVEBLIND
DTSTAMP:20260423T143419Z
DTSTART:20260220T190000Z
DTEND:20260220T210000Z
DESCRIPTION:𝗥𝗮𝘄 𝗢𝘃𝗲𝗿𝗱𝗿𝗶𝘃𝗲𝗻 𝗠𝗶𝗻𝗱 𝗘𝘅𝗽𝗮𝗻𝘀𝗶𝗼𝗻 𝗦𝘆𝘀𝘁𝗲𝗺𝘀 Canadian\nalternative roc
	k duo from Toronto\, Ontario made up of brothers Jacob and Nicolas\nBitove
	. The pair meld analog chaos with digital precision creating a singular\,\
	nhigh-voltage sound drawing influence from 90s grunge and electro to indus
	trial\nand dance-punk. 𝗥𝗢𝗠𝗘𝗦’ live show - a living system of machines\, dr
	ums\, and\nguitars all locked in feedback - oscillates between pounding ri
	ffs and warped\nelectronics. The result is an unpredictable yet cohesive e
	xperience that bridges\npast and future\, organic and synthetic. Rhythmica
	lly hypnotic four-to-floor\nbeats quickly evolve into thrashy rock grooves
	 producing a visceral show suited\nto both dance floors and mosh pits alik
	e. In a world where everything is\nover-curated and polished to perfection
	\, the raw and unfiltered energy\n𝗥𝗢𝗠𝗘𝗦 bring to their music through uncon
	ventional means is a breath of\nfresh air. Embracing distortion and grit\,
	 the brothers intentionally keep their\nproduction rough around the edges.
	 𝗙𝗔𝗥𝗩𝗘𝗕𝗟𝗜𝗡𝗗: Seit der Gründung der\nBand in 2023 sorgt sie mit noisigen Ri
	ffs\, politischen Texten und\nenergiegeladenen Liveshows von Kopenhagen bi
	s Roskilde\, und jetzt Karlsruhe\, für\nFurore. Die Band transformiert die
	sen Geist in kompromisslosen Techno-Punk\, der\nzugleich Protest und Sound
	track für die Desillusionierten ist.
URL:https://keepkarlsruheboring.org/event/romes-farveblind
GEO:48.989;8.37185
LOCATION:P8 - Schauenburgstraße 5\, 76135 Karlsruhe
STATUS:CONFIRMED
CATEGORIES:karlsrunruhe,test
X-ALT-DESC;FMTTYPE=text/html:𝗥𝗮𝘄 𝗢𝘃𝗲𝗿𝗱𝗿𝗶𝘃𝗲𝗻 𝗠𝗶𝗻𝗱 𝗘𝘅𝗽𝗮𝗻𝘀𝗶𝗼𝗻 𝗦𝘆𝘀𝘁𝗲𝗺𝘀<br>Cana
	dian alternative rock duo from Toronto, Ontario made up of brothers Jacob 
	and Nicolas Bitove.<br>The pair meld analog chaos with digital precision c
	reating a singular, high-voltage sound drawing influence from 90s grunge a
	nd electro to industrial and dance-punk.<br>𝗥𝗢𝗠𝗘𝗦’ live show - a living sy
	stem of machines, drums, and guitars all locked in feedback - oscillates b
	etween pounding riffs and warped electronics. The result is an unpredictab
	le yet cohesive experience that bridges past and future, organic and synth
	etic. Rhythmically hypnotic four-to-floor beats quickly evolve into thrash
	y rock grooves producing a visceral show suited to both dance floors and m
	osh pits alike.<br>In a world where everything is over-curated and polish
	ed to perfection, the raw and unfiltered energy 𝗥𝗢𝗠𝗘𝗦 bring to their music
	 through unconventional means is a breath of fresh air. Embracing distorti
	on and grit, the brothers intentionally keep their production rough around
	 the edges.<br><br><br>𝗙𝗔𝗥𝗩𝗘𝗕𝗟𝗜𝗡𝗗: Seit der Gründung der Band in 2023 sorg
	t sie mit noisigen Riffs, politischen Texten und energiegeladenen Liveshow
	s von Kopenhagen bis Roskilde, und jetzt Karlsruhe, für Furore. Die Band t
	ransformiert diesen Geist in kompromisslosen Techno-Punk, der zugleich Pro
	test und Soundtrack für die Desillusionierten ist. <br>
BEGIN:VALARM
ACTION:DISPLAY
DESCRIPTION:ROMES + FARVEBLIND
TRIGGER:-PT1H
END:VALARM
END:VEVENT
END:VCALENDAR
