BEGIN:VCALENDAR
VERSION:2.0
CALSCALE:GREGORIAN
PRODID:adamgibbons/ics
METHOD:PUBLISH
X-PUBLISHED-TTL:PT1H
BEGIN:VEVENT
UID:960@keepkarlsruheboring.org
SUMMARY:Russian Circles + Pelican + Fotocrime
DTSTAMP:20260423T102551Z
DTSTART:20260513T170000Z
DTEND:20260513T190000Z
DESCRIPTION:𝗥𝘂𝘀𝘀𝗶𝗮𝗻 𝗖𝗶𝗿𝗰𝗹𝗲𝘀: Across the span of their previous seven studio
	\nalbums\, Chicago-based instrumental trio Russian Circles traversed a div
	erse\ntopography of sounds\, moods\, and approaches with their limited arm
	ory of drums\,\nbass\, and guitar. It’s difficult to chart an evolution in
	 their sound when their\nrecords have always felt like well-curated playli
	sts. It wasn’t uncommon to hear\ndrone-heavy meditations\, dazzling prog e
	xercises\, knuckle-dragging riff-fests\,\nhaunting folk ballads\, and tens
	ion-baiting noise rock all within the span of one\nalbum. Still\, it’s dif
	ficult to ignore the progression from the pensive and\nintricate melodies 
	of Enter (2006) to the layered distorted dirges of Blood Year\n(2019). It’
	s been a gradual sonic shift owing to the band’s rigorous tour\nschedule a
	nd a predilection towards playing their more authoritative material on\nst
	age. But with their latest album\, Gnosis\, Russian Circles eschew the var
	ied\nterrain of their past work and bulldoze a path through the most tumul
	tuous and\nharrowing territory of their sound. 𝗣𝗲𝗹𝗶𝗰𝗮𝗻: is a dreamlike art
	-metal\ninstitution\, a band whose kaleidoscopic melodies and ocean-dredgi
	ng riffs have\nnow hypnotized audiences for more than two decades. Emergin
	g from the frozen\ntundras of Chicago\, Pelican were early adopters in ble
	nding majestic repetition\nwith sludge metal's skull-vibrating bluster\, a
	dding their own singular sense of\nkeening emo-psychedelia and heavy-metal
	 motorik. 𝗙𝗢𝗧𝗢𝗖𝗥𝗜𝗠𝗘: Exploding\nwith melodic and pummeling industrial-ting
	ed post-punk\, Louisville dark punk\nstalwarts FOTOCRIME erupt in an unexp
	ectedly aggressive tone on their new album\,\nSecurity. This more guitar-d
	riven direction may seem like a pivot\, but to those\nin the know it’s inh
	erent in Fotocrime leader Ryan Patterson’s musical history\nand DNA. Patte
	rson is a musician\, producer\, visual artist\, and creative force\nbehind
	 Coliseum\, Cat Magic Punks\, Black Cross\, and Shirt Killer\, amongst man
	y\nother bands and endeavors
URL:https://keepkarlsruheboring.org/event/russian-circles-pelican-fotocrime
GEO:48.989;8.37185
LOCATION:P8 - Schauenburgstraße 5\, 76135 Karlsruhe
STATUS:CONFIRMED
CATEGORIES:karlsrunruhe,test
X-ALT-DESC;FMTTYPE=text/html:𝗥𝘂𝘀𝘀𝗶𝗮𝗻 𝗖𝗶𝗿𝗰𝗹𝗲𝘀:<br>Across the span of their 
	previous seven studio albums, Chicago-based instrumental trio Russian Circ
	les traversed a diverse topography of sounds, moods, and approaches with t
	heir limited armory of drums, bass, and guitar. It’s difficult to chart an
	 evolution in their sound when their records have always felt like well-cu
	rated playlists. It wasn’t uncommon to hear drone-heavy meditations, dazzl
	ing prog exercises, knuckle-dragging riff-fests, haunting folk ballads, an
	d tension-baiting noise rock all within the span of one album. Still, it’s
	 difficult to ignore the progression from the pensive and intricate melodi
	es of Enter (2006) to the layered distorted dirges of Blood Year (2019). I
	t’s been a gradual sonic shift owing to the band’s rigorous tour schedule 
	and a predilection towards playing their more authoritative material on st
	age. But with their latest album, Gnosis, Russian Circles eschew the varie
	d terrain of their past work and bulldoze a path through the most tumultuo
	us and harrowing territory of their sound.<br>𝗣𝗲𝗹𝗶𝗰𝗮𝗻:<br>is a dreamlike 
	art-metal institution, a band whose kaleidoscopic melodies and ocean-dredg
	ing riffs have now hypnotized audiences for more than two decades. Emergin
	g from the frozen tundras of Chicago, Pelican were early adopters in blend
	ing majestic repetition with sludge metal's skull-vibrating bluster, addin
	g their own singular sense of keening emo-psychedelia and heavy-metal moto
	rik.<br>𝗙𝗢𝗧𝗢𝗖𝗥𝗜𝗠𝗘: Exploding with melodic and pummeling industrial-tinged 
	post-punk, Louisville dark punk stalwarts FOTOCRIME erupt in an unexpected
	ly aggressive tone on their new album, Security. This more guitar-driven d
	irection may seem like a pivot, but to those in the know it’s inherent in 
	Fotocrime leader Ryan Patterson’s musical history and DNA. Patterson is a 
	musician, producer, visual artist, and creative force behind Coliseum, Cat
	 Magic Punks, Black Cross, and Shirt Killer, amongst many other bands and 
	endeavors
BEGIN:VALARM
ACTION:DISPLAY
DESCRIPTION:Russian Circles + Pelican + Fotocrime
TRIGGER:-PT1H
END:VALARM
END:VEVENT
END:VCALENDAR
