BEGIN:VCALENDAR
VERSION:2.0
CALSCALE:GREGORIAN
PRODID:adamgibbons/ics
METHOD:PUBLISH
X-PUBLISHED-TTL:PT1H
BEGIN:VEVENT
UID:5@keepkarlsruheboring.org
SUMMARY:Sarah Lorenz liest aus "Mit dir\, da möchte ich im Himmel Kaffee tr
	inken" [15 € | 13 €]
DTSTAMP:20260423T105008Z
DTSTART:20250415T180000Z
DTEND:20250415T190000Z
DESCRIPTION:SARAH LORENZ LIEST AUS "MIT DIR\, DA MÖCHTE ICH IM HIMMEL KAFFE
	E TRINKEN"\n\nDoors:19.00 // Lesung: 20.00\n\nKarten: Sarah Lorenz liest a
	us "Mit dir\, da möchte ich im Himmel Kaffee trinken"\n[https://pretix.eu/
	stephanusbuch/20250415001/]\nNormales Ticket: 15€\nErmäßigtes Ticket: 13€ 
	(Schuler:innen\, Studierende und Rentner:innen)\n\n«Siehst du\, Mascha\, i
	ch bin deinem Rat gefolgt: Ich war klug und hielt mich an\nWunder.»Und es 
	ist ja auch ein Wunder\, dass Elisa ihr katastrophales Leben\nbisher immer
	 noch gemeistert hat. Sie erzählt der von ihr so bewunderten\nDichterin Ma
	scha Kaléko leicht von schwierigen Dingen\, von ihrer Zeit im Heim\,\nobda
	chlos auf der Kölner Domplatte\, immer auf der Suche nach Geborgenheit\, d
	ie\nsie lange nur in Büchern fand.\n\nAber auch von ihrer unbedingten Sehn
	sucht nach Liebe\, von ihrer Vorliebe für\nkleine Reetdachhäuser\, für sch
	aumigen Cappuccino\, für Bücher\, von Männern\, von\nFreundschaft und vor 
	allem davon\, dass alles möglich ist. Eine literarische\nLiebeserklärung a
	n eine große Dichterin und an all die Wunder\, die das Leben\nbereithält.\
	n\nModeration: Kristine Harthauer\n\nSarah Lorenz wurde 1984 in Eckernförd
	e geboren\, lebt und schreibt auf St.Pauli.\nSie ist gelernte Buchhändleri
	n und studiert zurzeit Soziale Arbeit. Seit 2023\nschreibt sie in der taz 
	die Kolumne PMS-Ultras. Im Internet bringt sie unter dem\nPseudonym Buchi 
	Schnubbel allabendlich eine Kleinstadt an Menschen zu Bett. «Mit\ndir\, da
	 möchte ich im Himmel Kaffee trinken» ist ihr Debütroman.
URL:https://keepkarlsruheboring.org/event/sarah-lorenz-liest-aus-mit-dir-da
	-mochte-ich-im-himmel-kaffee-trinken-15-euro-or-13-euro
GEO:48.989;8.37185
LOCATION:P8 - Schauenburgstraße 5\, 76135 Karlsruhe
STATUS:CONFIRMED
CATEGORIES:Literature,Ticket
X-ALT-DESC;FMTTYPE=text/html:<h2>Sarah Lorenz liest aus "Mit dir, da möchte
	 ich im Himmel Kaffee trinken"</h2><p>Doors:19.00 // Lesung: 20.00</p><p>K
	arten: <a href="https://pretix.eu/stephanusbuch/20250415001/" target="_bla
	nk">Sarah Lorenz liest aus "Mit dir, da möchte ich im Himmel Kaffee trinke
	n"</a><br>Normales Ticket: 15€<br>Ermäßigtes Ticket: 13€ (Schuler:innen, S
	tudierende und Rentner:innen)</p><p>«Siehst du, Mascha, ich bin deinem Rat
	 gefolgt: Ich war klug und hielt mich an Wunder.»Und es ist ja auch ein Wu
	nder, dass Elisa ihr katastrophales Leben bisher immer noch gemeistert hat
	. Sie erzählt der von ihr so bewunderten Dichterin Mascha Kaléko leicht vo
	n schwierigen Dingen, von ihrer Zeit im Heim, obdachlos auf der Kölner Dom
	platte, immer auf der Suche nach Geborgenheit, die sie lange nur in Bücher
	n fand.</p><p>Aber auch von ihrer unbedingten Sehnsucht nach Liebe, von ih
	rer Vorliebe für kleine Reetdachhäuser, für schaumigen Cappuccino, für Büc
	her, von Männern, von Freundschaft und vor allem davon, dass alles möglich
	 ist. Eine literarische Liebeserklärung an eine große Dichterin und an all
	 die Wunder, die das Leben bereithält.</p><p>Moderation: Kristine Harthaue
	r</p><p>Sarah Lorenz wurde 1984 in Eckernförde geboren, lebt und schreibt 
	auf St.Pauli. Sie ist gelernte Buchhändlerin und studiert zurzeit Soziale 
	Arbeit. Seit 2023 schreibt sie in der taz die Kolumne PMS-Ultras. Im Inter
	net bringt sie unter dem Pseudonym Buchi Schnubbel allabendlich eine Klein
	stadt an Menschen zu Bett. «Mit dir, da möchte ich im Himmel Kaffee trinke
	n» ist ihr Debütroman.</p>
BEGIN:VALARM
ACTION:DISPLAY
DESCRIPTION:Sarah Lorenz liest aus "Mit dir, da möchte ich im Himmel Kaffee
	 trinken" [15 € | 13 €]
TRIGGER:-PT1H
END:VALARM
END:VEVENT
END:VCALENDAR
