BEGIN:VCALENDAR
VERSION:2.0
CALSCALE:GREGORIAN
PRODID:adamgibbons/ics
METHOD:PUBLISH
X-PUBLISHED-TTL:PT1H
BEGIN:VEVENT
UID:4@keepkarlsruheboring.org
SUMMARY:Sarah Lorenz liest aus "Mit dir\, da möchte ich im Himmel Kaffee tr
	inken"
DTSTAMP:20260423T104857Z
DTSTART:20250313T190000Z
DTEND:20250313T200000Z
DESCRIPTION:SARAH LORENZ LIEST AUS "MIT DIR\, DA MÖCHTE ICH IM HIMMEL KAFFE
	E TRINKEN"\n\nDoors:19.00 // Lesung: 20.00\n\nKarten: Sarah Lorenz liest a
	us "Mit dir\, da möchte ich im Himmel Kaffee trinken"\n[https://pretix.eu/
	stephanusbuch/20250415001/]\nNormales Ticket: 15 €\nErmäßigtes Ticket: 13 
	€ (Schüler\, Studierende und Rentner)\n\n«Siehst du\, Mascha\, ich bin dei
	nem Rat gefolgt: Ich war klug und hielt mich an\nWunder.»Und es ist ja auc
	h ein Wunder\, dass Elisa ihr katastrophales Leben\nbisher immer noch geme
	istert hat. Sie erzählt der von ihr so bewunderten\nDichterin Mascha Kalék
	o leicht von schwierigen Dingen\, von ihrer Zeit im Heim\,\nobdachlos auf 
	der Kölner Domplatte\, immer auf der Suche nach Geborgenheit\, die\nsie la
	nge nur in Büchern fand.\n\nAber auch von ihrer unbedingten Sehnsucht nach
	 Liebe\, von ihrer Vorliebe für\nkleine Reetdachhäuser\, für schaumigen Ca
	ppuccino\, für Bücher\, von Männern\, von\nFreundschaft und vor allem davo
	n\, dass alles möglich ist. Eine literarische\nLiebeserklärung an eine gro
	ße Dichterin und an all die Wunder\, die das Leben\nbereithält.\n\nModerat
	ion: Kristine Harthauer\n\nSarah Lorenz wurde 1984 in Eckernförde geboren\
	, lebt und schreibt auf St.Pauli.\nSie ist gelernte Buchhändlerin und stud
	iert zurzeit Soziale Arbeit. Seit 2023\nschreibt sie in der taz die Kolumn
	e PMS-Ultras. Im Internet bringt sie unter dem\nPseudonym Buchi Schnubbel 
	allabendlich eine Kleinstadt an Menschen zu Bett. «Mit\ndir\, da möchte ic
	h im Himmel Kaffee trinken» ist ihr Debütroman.\n
URL:https://keepkarlsruheboring.org/event/sarah-lorenz-liest-aus-mit-dir-da
	-mochte-ich-im-himmel-kaffee-trinken
GEO:48.989;8.37185
LOCATION:P8 - Schauenburgstraße 5\, 76135 Karlsruhe
STATUS:CONFIRMED
CATEGORIES:Literature,Ticket
X-ALT-DESC;FMTTYPE=text/html:<h2>Sarah Lorenz liest aus "Mit dir, da möchte
	 ich im Himmel Kaffee trinken"</h2><p>Doors:19.00 // Lesung: 20.00</p><p>K
	arten: <a target="_blank" href="https://pretix.eu/stephanusbuch/2025041500
	1/">Sarah Lorenz liest aus "Mit dir, da möchte ich im Himmel Kaffee trinke
	n"</a><br><strong>Normales Ticket:</strong> 15 €<br><strong>Ermäßigtes Tic
	ket: </strong>13 € (Schüler, Studierende und Rentner)</p><p>«Siehst du, Ma
	scha, ich bin deinem Rat gefolgt: Ich war klug und hielt mich an Wunder.»U
	nd es ist ja auch ein Wunder, dass Elisa ihr katastrophales Leben bisher i
	mmer noch gemeistert hat. Sie erzählt der von ihr so bewunderten Dichterin
	 Mascha Kaléko leicht von schwierigen Dingen, von ihrer Zeit im Heim, obda
	chlos auf der Kölner Domplatte, immer auf der Suche nach Geborgenheit, die
	 sie lange nur in Büchern fand.</p><p>Aber auch von ihrer unbedingten Sehn
	sucht nach Liebe, von ihrer Vorliebe für kleine Reetdachhäuser, für schaum
	igen Cappuccino, für Bücher, von Männern, von Freundschaft und vor allem d
	avon, dass alles möglich ist. Eine literarische Liebeserklärung an eine gr
	oße Dichterin und an all die Wunder, die das Leben bereithält.</p><p>Moder
	ation: Kristine Harthauer</p><p>Sarah Lorenz wurde 1984 in Eckernförde geb
	oren, lebt und schreibt auf St.Pauli. Sie ist gelernte Buchhändlerin und s
	tudiert zurzeit Soziale Arbeit. Seit 2023 schreibt sie in der taz die Kolu
	mne PMS-Ultras. Im Internet bringt sie unter dem Pseudonym Buchi Schnubbel
	 allabendlich eine Kleinstadt an Menschen zu Bett. «Mit dir, da möchte ich
	 im Himmel Kaffee trinken» ist ihr Debütroman.<br></p>
BEGIN:VALARM
ACTION:DISPLAY
DESCRIPTION:Sarah Lorenz liest aus "Mit dir, da möchte ich im Himmel Kaffee
	 trinken"
TRIGGER:-PT1H
END:VALARM
END:VEVENT
END:VCALENDAR
