BEGIN:VCALENDAR
VERSION:2.0
CALSCALE:GREGORIAN
PRODID:adamgibbons/ics
METHOD:PUBLISH
X-PUBLISHED-TTL:PT1H
BEGIN:VEVENT
UID:802@keepkarlsruheboring.org
SUMMARY:Sascha Kart + The Fridge
DTSTAMP:20260423T102328Z
DTSTART:20260220T190000Z
DTEND:20260220T210000Z
DESCRIPTION:Texte aus dem echten Leben\, verfasst in Songs aus eigener Fede
	r. Das ist SASCHA\nKART. Große Songs\, echte Geschichten – Pop-Rock aus Ka
	rlsruhe. SASCHA KART – das\nsind fünf Musiker mit einer Mission: Mit kraft
	vollen Gitarren\, fulminanten\nKeyboards\, fettem Bass\, groovigen Drums u
	nd tiefen Texten den Alltag zum Beben\nbringen. Aus Karlsruhe stammend\, s
	pielen sie deutschsprachige Pop-Rocksongs\, die\nberühren\, zum Lachen bri
	ngen und manchmal auch nachdenklich machen. Ihre Texte\nerzählen von echte
	n Lebensthemen – und ja\, sie sind keine Teenies mehr. Doch sie\nsagen\, i
	hre Reife steckt in jedem Sound\, in jeder Hook und in jedem Refrain.\nDav
	or THE FRIDGE. Die Rockband aus Karlsruhe war noch nie im KOHI und wir sin
	d\ngespannt auf ihren Mix aus deutschen Texten und knackigem Rock aus jahr
	elanger\nmusikalischer Erfahrung und regelmäßigen Live-Shows.\nhttps://www
	.instagram.com/the_fridge_music/ Einlass: 19 Uhr\, Beginn: 20 Uhr
URL:https://keepkarlsruheboring.org/event/sascha-kart-the-fridge
GEO:49.0017;8.40754
LOCATION:Kohi - Werderstraße 47\, 76137 Karlsruhe\, Alemanya
STATUS:CONFIRMED
CATEGORIES:karlsrunruhe,test
X-ALT-DESC;FMTTYPE=text/html:Texte aus dem echten Leben, verfasst in Songs 
	aus eigener Feder. Das ist SASCHA KART. Große Songs, echte Geschichten – P
	op-Rock aus Karlsruhe.<br>SASCHA KART – das sind fünf Musiker mit einer Mi
	ssion: Mit kraftvollen Gitarren, fulminanten Keyboards, fettem Bass, groov
	igen Drums und tiefen Texten den Alltag zum Beben bringen. Aus Karlsruhe s
	tammend, spielen sie deutschsprachige Pop-Rocksongs, die berühren, zum Lac
	hen bringen und manchmal auch nachdenklich machen. Ihre Texte erzählen von
	 echten Lebensthemen – und ja, sie sind keine Teenies mehr. Doch sie sagen
	, ihre Reife steckt in jedem Sound, in jeder Hook und in jedem Refrain.<br
	>Davor THE FRIDGE. Die Rockband aus Karlsruhe war noch nie im KOHI und wir
	 sind gespannt auf ihren Mix aus deutschen Texten und knackigem Rock aus j
	ahrelanger musikalischer Erfahrung und regelmäßigen Live-Shows.<br>https:/
	/www.instagram.com/the_fridge_music/<br>Einlass: 19 Uhr, Beginn: 20 Uhr
BEGIN:VALARM
ACTION:DISPLAY
DESCRIPTION:Sascha Kart + The Fridge
TRIGGER:-PT1H
END:VALARM
END:VEVENT
END:VCALENDAR
