BEGIN:VCALENDAR
VERSION:2.0
CALSCALE:GREGORIAN
PRODID:adamgibbons/ics
METHOD:PUBLISH
X-PUBLISHED-TTL:PT1H
BEGIN:VEVENT
UID:130@keepkarlsruheboring.org
SUMMARY:School of Fire
DTSTAMP:20260423T102321Z
DTSTART:20250719T130000Z
DTEND:20250726T190000Z
DESCRIPTION:Veranstaltung im Freien\, am 26.07.2025\, zwischen 15 und 21 Uh
	r.\n\nSehr schöne Atmosphäre im Grünen.
URL:https://keepkarlsruheboring.org/event/school-of-fire
GEO:48.9902;8.38561
LOCATION:Osterstreuerobstkirschenäpfelwiese \; ) - St. Florian Straße (am W
	endehammer)\, 76135 Karlsruhe
STATUS:CONFIRMED
CATEGORIES:Art,Ecology
X-ALT-DESC;FMTTYPE=text/html:<p>Veranstaltung im Freien, am 26.07.2025, zwi
	schen 15 und 21 Uhr. </p><p>Sehr schöne Atmosphäre im Grünen.</p>
BEGIN:VALARM
ACTION:DISPLAY
DESCRIPTION:School of Fire
TRIGGER:-PT1H
END:VALARM
END:VEVENT
END:VCALENDAR
