BEGIN:VCALENDAR
VERSION:2.0
CALSCALE:GREGORIAN
PRODID:adamgibbons/ics
METHOD:PUBLISH
X-PUBLISHED-TTL:PT1H
BEGIN:VEVENT
UID:540@keepkarlsruheboring.org
SUMMARY:sculpture park /1
DTSTAMP:20260423T102209Z
DTSTART:20251122T120000Z
DTEND:20251126T160000Z
DESCRIPTION:Die Klasse von Professorin Kristina Buch eröffnet am 22. Novemb
	er den ersten\nSculpture Park im Schlossgarten – rund um das Bauensemble\n
	des Fasanenschlösschens. Das einst als Lustgarten angelegte Areal wird von
	 den\nStudierenden neu interpretiert und dabei das klassische\nVerständnis
	 des Sculpture Parks kritisch hinterfragt und reflektiert.\nZwischen Schlö
	sschen\, Pavillons und Park entstehen Arbeiten\, die\nskulpturale Erwartun
	gen an Materialität\, Dauer\, Form und Ort unterlaufen und\nzu neuen Forme
	n des Sehens einladen.\nDie Beiträge reichen von temporären Interventionen
	 bis zu prozesshaften\,\nteilweise performativen Setzungen\, die das Forma
	t Sculpture Park nicht nur\nerweitern\, sondern in seiner Funktion als öff
	entlicher Ausstellungsraum aktiv\nbefragen. 
URL:https://keepkarlsruheboring.org/event/sculpture-park
GEO:49.0135;8.41278
LOCATION:Pavillions am Fasanengarten - Pavillions am Fasanengarten
STATUS:CONFIRMED
CATEGORIES:Art,Opening
X-ALT-DESC;FMTTYPE=text/html:<p>Die Klasse von Professorin Kristina Buch er
	öffnet am 22. November den ersten Sculpture Park&nbsp;im Schlossgarten – r
	und um das Bauensemble des&nbsp;Fasanenschlösschens. Das einst als Lustgar
	ten angelegte Areal wird von&nbsp;den Studierenden neu interpretiert und d
	abei das klassische Verständnis&nbsp;des&nbsp;Sculpture Parks&nbsp;kritisc
	h hinterfragt und&nbsp;reflektiert. Zwischen&nbsp;Schlösschen, Pavillons u
	nd Park entstehen Arbeiten, die skulpturale&nbsp;Erwartungen an Materialit
	ät, Dauer, Form und Ort unterlaufen und zu&nbsp;neuen Formen des Sehens ei
	nladen.<br>Die Beiträge reichen von temporären&nbsp;Interventionen bis zu 
	prozesshaften, teilweise performativen Setzungen,&nbsp;die das Format&nbsp
	;Sculpture Park&nbsp;nicht nur erweitern, sondern in seiner&nbsp;Funktion 
	als öffentlicher Ausstellungsraum aktiv befragen.&nbsp;</p>
BEGIN:VALARM
ACTION:DISPLAY
DESCRIPTION:sculpture park /1
TRIGGER:-PT1H
END:VALARM
END:VEVENT
END:VCALENDAR
