BEGIN:VCALENDAR
VERSION:2.0
CALSCALE:GREGORIAN
PRODID:adamgibbons/ics
METHOD:PUBLISH
X-PUBLISHED-TTL:PT1H
BEGIN:VEVENT
UID:686@keepkarlsruheboring.org
SUMMARY:Sechs Jahre danach – SAY THEIR NAMES
DTSTAMP:20260423T104640Z
DTSTART:20260219T170000Z
DTEND:20260219T180000Z
DESCRIPTION:Wir rufen zur Teilnahme an der Kundgebung zum Gedenken an das r
	assistische\nAttentat in Hanau auf!\n\nSechs Jahre später\, erst vor ein p
	aar Tagen\, ist ein weiteres Opfer\, Ibrahim\nAkkuş\, an den Folgen des An
	schlages verstorben. Ein Grund mehr unsere Trauer und\nunsere Wut auf die 
	Straßen von Karlsruhe zu tragen!\n\n\n\nAus dem Aufruf der Initiative 19. 
	Februar:\n\nJedes Jahr\, jeden Monat nennen wir neun Namen – und meinen al
	le Opfer rechter\,\nrassistischer und antisemitischer Gewalt. Wir gedenken
	 aller. Und wir meinen\nalle.\n\nSeit sechs Jahren leben wir mit Schmerz u
	nd Wut. Sie sind Teil unseres Alltags\ngeworden. Für die Angehörigen bedeu
	tet Erinnern\, die Geschichte immer wieder zu\nerzählen – so\, wie sie ges
	chehen ist. Gegen das Vergessen. Gegen die\nVerharmlosung. Gegen das Verdr
	ehen der Wahrheit.\n\nIhre Namen sind eine Anklage. Sie fordern uns heraus
	\, den rassistischen\nNormalzustand zu benennen und zu bekämpfen – im Allt
	ag\, in Behörden\, in Politik\,\nin Medien und in den Sicherheitsapparaten
	. Dort\, wo weggesehen\, relativiert und\ngeschwiegen wird. Dort\, wo Warn
	ungen ignoriert und Betroffene nicht gehört\nwerden.\n\n\n\nBetroffenheit 
	und Lippenbekenntnisse reichen nicht. Der Staat ist seiner\nBringschuld ni
	cht nachgekommen – bis heute nicht.\n\nOhne juristische Aufklärung und kri
	tische Aufarbeitung bleibt alles\, wie es\nimmer war: Die Straflosigkeit i
	n den Behörden geht weiter.\n\n\n\nIn einer Zeit\, in der die Gefahr einer
	 rechtsextremen Regierung real ist\, sagen\nwir klar: Nie wieder ist jetzt
	. […]\n\n\n\nUnsere Botschaft zum sechsten Jahrestag ist klar:\n\nErinnern
	 heißt verändern.\n\nErinnern heißt handeln.\n\nErinnern heißt kämpfen.\n\
	nErinnern heißt\, zusammenzukommen und aufeinander achtzugeben.\n\n\n\nDar
	um rufen wir dazu auf\, am 19. Februar gemeinsam zu erinnern und SAY THEIR
	\nNAMES überall sichtbar zu machen. […]\n\n\n\nSAY THEIR NAMES. IMMER. ÜBE
	RALL.\n\n\n\nMarktplatz Karlsruhe\, Beginn18:00\n\nGedenkkundgebung mit an
	schließender Demonstration
URL:https://keepkarlsruheboring.org/event/sechs-jahre-danach-say-their-name
	s
GEO:49.0089;8.40388
LOCATION:Marktplatz - Innenstadt-Ost\, Karlsruhe\, Baden-Württemberg\, 7613
	3\, Deutschland
STATUS:CONFIRMED
CATEGORIES:Anti-Racism,Demonstration,Karlsruhe gegen Rechts
X-ALT-DESC;FMTTYPE=text/html:<p>Wir rufen zur Teilnahme an der Kundgebung z
	um Gedenken an das rassistische Attentat in Hanau auf!</p><p>Sechs Jahre s
	päter, erst vor ein paar Tagen, ist ein weiteres Opfer, Ibrahim Akkuş, an 
	den Folgen des Anschlages verstorben. Ein Grund mehr unsere Trauer und uns
	ere Wut auf die Straßen von Karlsruhe zu tragen!</p><p></p><p>Aus dem Aufr
	uf der Initiative 19. Februar:</p><p>Jedes Jahr, jeden Monat nennen wir ne
	un Namen – und meinen alle Opfer rechter, rassistischer und antisemitische
	r Gewalt. Wir gedenken aller. Und wir meinen alle.</p><p>Seit sechs Jahren
	 leben wir mit Schmerz und Wut. Sie sind Teil unseres Alltags geworden. Fü
	r die Angehörigen bedeutet Erinnern, die Geschichte immer wieder zu erzähl
	en – so, wie sie geschehen ist. Gegen das Vergessen. Gegen die Verharmlosu
	ng. Gegen das Verdrehen der Wahrheit.</p><p>Ihre Namen sind eine Anklage. 
	Sie fordern uns heraus, den rassistischen Normalzustand zu benennen und zu
	 bekämpfen – im Alltag, in Behörden, in Politik, in Medien und in den Sich
	erheitsapparaten. Dort, wo weggesehen, relativiert und geschwiegen wird. D
	ort, wo Warnungen ignoriert und Betroffene nicht gehört werden.</p><p></p>
	<p>Betroffenheit und Lippenbekenntnisse reichen nicht. Der Staat ist seine
	r Bringschuld nicht nachgekommen – bis heute nicht.</p><p>Ohne juristische
	 Aufklärung und kritische Aufarbeitung bleibt alles, wie es immer war: Die
	 Straflosigkeit in den Behörden geht weiter.</p><p></p><p>In einer Zeit, i
	n der die Gefahr einer rechtsextremen Regierung real ist, sagen wir klar: 
	Nie wieder ist jetzt. […]</p><p></p><p>Unsere Botschaft zum sechsten Jahre
	stag ist klar:</p><p>Erinnern heißt verändern.</p><p>Erinnern heißt handel
	n.</p><p>Erinnern heißt kämpfen.</p><p>Erinnern heißt, zusammenzukommen un
	d aufeinander achtzugeben.</p><p></p><p>Darum rufen wir dazu auf, am 19. F
	ebruar gemeinsam zu erinnern und SAY THEIR NAMES überall sichtbar zu mache
	n. […]</p><p></p><p>SAY THEIR NAMES. IMMER. ÜBERALL.</p><p></p><p>Marktpla
	tz Karlsruhe, Beginn18:00</p><p>Gedenkkundgebung mit anschließender Demons
	tration</p>
BEGIN:VALARM
ACTION:DISPLAY
DESCRIPTION:Sechs Jahre danach – SAY THEIR NAMES
TRIGGER:-PT1H
END:VALARM
END:VEVENT
END:VCALENDAR
