BEGIN:VCALENDAR
VERSION:2.0
CALSCALE:GREGORIAN
PRODID:adamgibbons/ics
METHOD:PUBLISH
X-PUBLISHED-TTL:PT1H
BEGIN:VEVENT
UID:224@keepkarlsruheboring.org
SUMMARY:Session 8 Hannah Cooke & Maike Denker
DTSTAMP:20260423T102545Z
DTSTART:20250808T160000Z
DESCRIPTION:SESSION 8\n\n8th August 2025 - 27th September 2025\n\nThe eight
	h edition of Session is just around the corner\, featuring works by\nHanna
	h Cooke [https://ato.vision/artists/hannah-cooke] and Maike Denker\n[https
	://ato.vision/artists/maike-denker] (curated by Norina Quinte\n[https://at
	o.vision/curator/norina-quinte] and Nemanja Šarbajić\n[https://ato.vision/
	artists/nemanja-sarbajic]). As always\, refreshing Electric\nEel signature
	 drinks will be served for a celebratory toast.\n\n\n\nGRAPHIC DESIGN: IRE
	NE SZANKOWSKY\n\n\n\nParticipating artists:\n\nHannah Cooke [https://ato.v
	ision/artists/hannah-cooke] & Maike Denker\n[https://ato.vision/artists/ma
	ike-denker]
URL:https://keepkarlsruheboring.org/event/session-8-hannah-cooke-and-maike-
	denker
GEO:49.0017;8.40674
LOCATION:Electric Eel - 35\, Werderstraße\, Südstadt Nördlicher Teil\, Süds
	tadt\, Karlsruhe\, Baden-Württemberg\, 76137\, Deutschland
STATUS:CONFIRMED
CATEGORIES:Art,Opening
X-ALT-DESC;FMTTYPE=text/html:<h1>Session 8</h1><p>8th August 2025 - 27th Se
	ptember 2025</p><p>The eighth edition of <em>Session</em> is just around t
	he corner, featuring works by <a href="https://ato.vision/artists/hannah-c
	ooke" target="_self">Hannah Cooke</a> and <a href="https://ato.vision/arti
	sts/maike-denker" target="_self">Maike Denker</a> (curated by <a href="htt
	ps://ato.vision/curator/norina-quinte" target="_self">Norina Quinte</a> an
	d <a href="https://ato.vision/artists/nemanja-sarbajic" target="_self">Nem
	anja Šarbajić</a>). As always, refreshing Electric Eel signature drinks wi
	ll be served for a celebratory toast.</p><h6></h6><h6>Graphic design: Iren
	e Szankowsky</h6><p></p><p>Participating artists:</p><p><a href="https://a
	to.vision/artists/hannah-cooke" target="_blank">Hannah Cooke</a> &amp; <a 
	href="https://ato.vision/artists/maike-denker" target="_blank">Maike Denke
	r</a></p>
BEGIN:VALARM
ACTION:DISPLAY
DESCRIPTION:Session 8 Hannah Cooke & Maike Denker
TRIGGER:-PT1H
END:VALARM
END:VEVENT
END:VCALENDAR
