BEGIN:VCALENDAR
VERSION:2.0
CALSCALE:GREGORIAN
PRODID:adamgibbons/ics
METHOD:PUBLISH
X-PUBLISHED-TTL:PT1H
BEGIN:VEVENT
UID:824@keepkarlsruheboring.org
SUMMARY:SHANEL + ALICE DEE [8 €]
DTSTAMP:20260423T102217Z
DTSTART:20260228T190000Z
DTEND:20260228T210000Z
DESCRIPTION:SHANEL – Stimme aus dem Süden\, Feuer auf der Bühne! Shanel aus
	 Freiburg steht\nfür kompromisslosen\, klaren und gefühlvollen Rap mit Hal
	tung.\nIhre Präsenz ist direkt\, echt und unverkennbar. Auftritte wie die 
	Mainstage der\nTapefabrik 2024 mit Die P\, Tour-Support-Shows und Features
	 wie auf Lena\nStoehrfaktors Pretty World haben sie längst als starke FLIN
	TA-Stimme im Rap\netabliert. Auch im Untergrund hat sie Spuren hinterlasse
	n – auf Roey Marquis II.\nMomentaufnahmen 4 und im Buch Untergrundplatin. 
	Oktober 2025 erschien ihr\nDebütalbum Löwenmähne\, komplett produziert von
	 Roey Marquis II. Der Süden hat\neine Stimme. Und sie wird lauter.\nhttps:
	//linktr.ee/shaneloffiziel [https://linktr.ee/shaneloffiziel]\n\nDazu feue
	rt ALICE DEE kraftvoll und roh Rap-Salven auf Bangerbeats. Die Waffe\nist 
	das Wort\, die Mission: Pushing Limits. Egal ob spontane Freestyles oder\n
	Lyrics\, Grime\, Trap oder Clubbeats: ALICE DEE's Performance ist pure Ene
	rgie.\nDer nicht-binäre Rap-Artist verteilt Punchlines mit Ansage und zeig
	t\, dass man\nim Deutschrap auch mit Charme „killen“ kann. Irgendwo zwisch
	en Moshpit und Rave\,\nentsteht hier ein Soundtrack für hungrige Geister\,
	 die zu treibenden Bässen aus\nder Reihe tanzen und mit glänzenden Augen d
	en Anfang einer neuen Welt feiern.\nTurn Up garantiert.\nhttps://www.insta
	gram.com/alicedee_alchemist\n[https://www.instagram.com/alicedee_alchemist
	]\nhttps://www.tiktok.com/ [https://www.tiktok.com/]@alicedee_alchemist\nh
	ttps://soundcloud.com/alicedeealchemist\n[https://soundcloud.com/alicedeea
	lchemist]\nhttps://alicedeemusic.bandcamp.com/ [https://alicedeemusic.band
	camp.com/]\n\nEinlass: 19 Uhr\, Beginn: 20 Uhr
URL:https://keepkarlsruheboring.org/event/shanel-alice-dee
GEO:49.0017;8.40754
LOCATION:Kohi - Werderstraße 47\, 76137 Karlsruhe\, Alemanya
STATUS:CONFIRMED
CATEGORIES:Hip Hop,Music
X-ALT-DESC;FMTTYPE=text/html:<p>SHANEL – Stimme aus dem Süden, Feuer auf de
	r Bühne! Shanel aus Freiburg steht für kompromisslosen, klaren und gefühlv
	ollen Rap mit Haltung. <br>Ihre Präsenz ist direkt, echt und unverkennbar.
	 Auftritte wie die Mainstage der Tapefabrik 2024 mit Die P, Tour-Support-S
	hows und Features wie auf Lena Stoehrfaktors Pretty World haben sie längst
	 als starke FLINTA-Stimme im Rap etabliert. Auch im Untergrund hat sie Spu
	ren hinterlassen – auf Roey Marquis II. Momentaufnahmen 4 und im Buch Unte
	rgrundplatin. Oktober 2025 erschien ihr Debütalbum Löwenmähne, komplett pr
	oduziert von Roey Marquis II. Der Süden hat eine Stimme. Und sie wird laut
	er. <br><a href="https://linktr.ee/shaneloffiziel" target="_blank">https:/
	/linktr.ee/shaneloffiziel</a><br><br>Dazu feuert ALICE DEE kraftvoll und r
	oh Rap-Salven auf Bangerbeats. Die Waffe ist das Wort, die Mission: Pushin
	g Limits. Egal ob spontane Freestyles oder Lyrics, Grime, Trap oder Clubbe
	ats: ALICE DEE's Performance ist pure Energie. Der nicht-binäre Rap-Artist
	 verteilt Punchlines mit Ansage und zeigt, dass man im Deutschrap auch mit
	 Charme „killen“ kann. Irgendwo zwischen Moshpit und Rave, entsteht hier e
	in Soundtrack für hungrige Geister, die zu treibenden Bässen aus der Reihe
	 tanzen und mit glänzenden Augen den Anfang einer neuen Welt feiern. Turn 
	Up garantiert. <br><a href="https://www.instagram.com/alicedee_alchemist" 
	target="_blank">https://www.instagram.com/alicedee_alchemist</a><br><a hre
	f="https://www.tiktok.com/" target="_blank">https://www.tiktok.com/</a>@al
	icedee_alchemist<br><a href="https://soundcloud.com/alicedeealchemist" tar
	get="_blank">https://soundcloud.com/alicedeealchemist</a> <br><a href="htt
	ps://alicedeemusic.bandcamp.com/" target="_blank">https://alicedeemusic.ba
	ndcamp.com/</a><br><br>Einlass: 19 Uhr, Beginn: 20 Uhr</p>
BEGIN:VALARM
ACTION:DISPLAY
DESCRIPTION:SHANEL + ALICE DEE [8 €]
TRIGGER:-PT1H
END:VALARM
END:VEVENT
END:VCALENDAR
