BEGIN:VCALENDAR
VERSION:2.0
CALSCALE:GREGORIAN
PRODID:adamgibbons/ics
METHOD:PUBLISH
X-PUBLISHED-TTL:PT1H
BEGIN:VEVENT
UID:826@keepkarlsruheboring.org
SUMMARY:Simone White + Daniel Benyamin
DTSTAMP:20260423T102258Z
DTSTART:20260301T170000Z
DTEND:20260301T190000Z
DESCRIPTION:Die auf Hawaii geborene Singer-Songwriterin SIMONE WHITE hat ac
	ht Alben\nveröffentlicht\, die von schlichtem Akustik-Folk über Americana 
	bis hin zu\nelektronischem Indie reichen. Nach zehn Jahren Tourneepause ke
	hrt sie nach\nEuropa zurück\, um einige ihrer alten Hits sowie Songs ihres
	 aktuellen Albums\n„Letter to the Last Generation“ und neue Lieder eines k
	ommenden Albums zu\npräsentieren. Vielleicht kennt ihr sie bereits von ihr
	en Alben auf dem\nbritischen Label Honest Jon: „I am the Man“ (2007)\, „Ya
	kiimo“ (2009) und „Silver\nSilver“ (2012)\, die alle von Kritikern hochgel
	obt wurden\, unter anderem vom\nSpiegel (MOJO\, Uncut). Der deutsche Rolli
	ng Stone widmete ihr 2009 einen\nfünfseitigen Artikel und bezeichnete sie 
	als „eine der wirklich großen\namerikanischen Songwriterinnen“. https://si
	monewhite.com/ Die Sehnsucht nach der\nVerbindung verschiedener Genres ver
	folgt den Künstler DANIEL BENYAMIN schon seit\nKindertagen. Die Meisterwer
	ke J. S. Bachs aus dem elterlichen Wohnzimmer\nverehrte er genauso wie obs
	kure Wave-Bands\, deren Platten er heimlich kaufen\nmusste\, da Rockmusik 
	zuhause verboten war. Mit 17 Jahren verließ er Schule und\nZuhause und beg
	ann mit seinen zahlreichen Bandprojekten zu komponieren und zu\ntouren. Na
	ch Auftritten in über 35 Ländern solo\, als Support von diversen Acts\nwie
	 Whitney Houston\, Sufjan Stevens oder The Divine Comedy etc. oder als Tei
	l\nder Bands SEA + AIR\, Jumbo Jet oder Gordon Raphael & The Half Full Fla
	shes und\nKompositionen für zahlreiche Filme (z.B. Tatort) hält Daniel Ben
	yamin seit\nJahren die DIY-Fahne hoch und veröffentlicht im Herbst 2025 se
	in zweites Album\n„Life After Music“ bei Ghost Palace. https://linktr.ee/d
	anielbenyamin Einlass:\n17 Uhr\, Beginn: 18 Uhr
URL:https://keepkarlsruheboring.org/event/simone-white-daniel-benyamin
GEO:49.0017;8.40754
LOCATION:Kohi - Werderstraße 47\, 76137 Karlsruhe\, Alemanya
STATUS:CONFIRMED
CATEGORIES:karlsrunruhe,test
X-ALT-DESC;FMTTYPE=text/html:Die auf Hawaii geborene Singer-Songwriterin SI
	MONE WHITE hat acht Alben veröffentlicht, die von schlichtem Akustik-Folk 
	über Americana bis hin zu elektronischem Indie reichen. Nach zehn Jahren T
	ourneepause kehrt sie nach Europa zurück, um einige ihrer alten Hits sowie
	 Songs ihres aktuellen Albums „Letter to the Last Generation“ und neue Lie
	der eines kommenden Albums zu präsentieren.<br>Vielleicht kennt ihr sie be
	reits von ihren Alben auf dem britischen Label Honest Jon: „I am the Man“ 
	(2007), „Yakiimo“ (2009) und „Silver Silver“ (2012), die alle von Kritiker
	n hochgelobt wurden, unter anderem vom Spiegel (MOJO, Uncut). Der deutsche
	 Rolling Stone widmete ihr 2009 einen fünfseitigen Artikel und bezeichnete
	 sie als „eine der wirklich großen amerikanischen Songwriterinnen“.<br>htt
	ps://simonewhite.com/<br>Die Sehnsucht nach der Verbindung verschiedener G
	enres verfolgt den Künstler DANIEL BENYAMIN schon seit Kindertagen. Die Me
	isterwerke J. S. Bachs aus dem elterlichen Wohnzimmer verehrte er genauso 
	wie obskure Wave-Bands, deren Platten er heimlich kaufen musste, da Rockmu
	sik zuhause verboten war. Mit 17 Jahren verließ er Schule und Zuhause und 
	begann mit seinen zahlreichen Bandprojekten zu komponieren und zu touren. 
	Nach Auftritten in über 35 Ländern solo, als Support von diversen Acts wie
	 Whitney Houston, Sufjan Stevens oder The Divine Comedy etc. oder als Teil
	 der Bands SEA + AIR, Jumbo Jet oder Gordon Raphael & The Half Full Flashe
	s und Kompositionen für zahlreiche Filme (z.B. Tatort) hält Daniel Benyami
	n seit Jahren die DIY-Fahne hoch und veröffentlicht im Herbst 2025 sein zw
	eites Album „Life After Music“ bei Ghost Palace.<br>https://linktr.ee/dani
	elbenyamin<br>Einlass: 17 Uhr, Beginn: 18 Uhr
BEGIN:VALARM
ACTION:DISPLAY
DESCRIPTION:Simone White + Daniel Benyamin
TRIGGER:-PT1H
END:VALARM
END:VEVENT
END:VCALENDAR
