BEGIN:VCALENDAR
VERSION:2.0
CALSCALE:GREGORIAN
PRODID:adamgibbons/ics
METHOD:PUBLISH
X-PUBLISHED-TTL:PT1H
BEGIN:VEVENT
UID:784@keepkarlsruheboring.org
SUMMARY:SING KARA OKAY
DTSTAMP:20260423T102211Z
DTSTART:20260214T180000Z
DTEND:20260214T230000Z
DESCRIPTION:SING KARA OKAY ist ein Karaoke-Abend zum Valentinstag mit einem
	 kleinen Twist.\nMikro schnappen\, alles geben — Herz oder Herzschmerz. Ei
	nige Songs werden live\nvon Musiker:innen begleitet\, der Text bleibt auf 
	der Leinwand. Immer noch\nKaraoke\, nur mit extra Drama. Dazu: ikonische F
	ilmszenen\, wie Karaoke gespielt.\nOscars optional.   14. Februar  Beginn:
	 19 Uhr ___ SING KARA OKAY is a\nValentine’s Day karaoke night with a twis
	t. Grab the mic\, sing your heart out —\nor your heartbreak. Some songs co
	me with live musicians on stage\, while the\nlyrics stay on the screen. St
	ill karaoke\, just with extra drama. Plus: iconic\nmovie scenes\, performe
	d karaoke-style. Oscars optional.   February 14th  Starts\nat 7 pm __ SING
	 KARA OKAY‎ ليلة كاراوكي خاصة بعيد الحب… بس مع لمسة مختلفة ‎امسك\nالمايك و
	غنّي من قلبك — سواء عن الحب أو أوجاعه، ‎بعض الأغاني راح تكون مع موسيقيين\n
	لايف على المسرح، والكلمات راح تكون معروضة على الشاشة يعني كاراوكي عادي… بس
	 مع\nشوية دراما زيادة وفوق هاد كله:‎مشاهد أيقونية من أفلام مشهورة، مؤدّاة 
	بأسلوب\nالكاراوكي.‎أفضل اداء رح يربح الأوسكار! 14 فبراير‎ البداية: الساعة 
	7 مساءً (19:00
URL:https://keepkarlsruheboring.org/event/sing-kara-okay
GEO:49.0082;8.40959
LOCATION:COLA TAXI OKAY - 25\, Kronenstraße\, Innenstadt-Ost Südwestlicher 
	Teil\, Innenstadt-Ost\, Karlsruhe\, Baden-Württemberg\, 76133\, Deutschlan
	d
STATUS:CONFIRMED
CATEGORIES:karlsrunruhe,test
X-ALT-DESC;FMTTYPE=text/html:SING KARA OKAY ist ein Karaoke-Abend zum Valen
	tinstag mit einem kleinen Twist. Mikro schnappen, alles geben — Herz oder 
	Herzschmerz. Einige Songs werden live von Musiker:innen begleitet, der Tex
	t bleibt auf der Leinwand. Immer noch Karaoke, nur mit extra Drama. Dazu: 
	ikonische Filmszenen, wie Karaoke gespielt. Oscars optional.  <br>14. Febr
	uar  Beginn: 19 Uhr<br><br>___<br><br>SING KARA OKAY is a Valentine’s Day 
	karaoke night with a twist. Grab the mic, sing your heart out — or your he
	artbreak. Some songs come with live musicians on stage, while the lyrics s
	tay on the screen. Still karaoke, just with extra drama. Plus: iconic movi
	e scenes, performed karaoke-style. Oscars optional.  <br>February 14th  St
	arts at 7 pm<br><br>__<br><br>SING KARA OKAY‎ ليلة كاراوكي خاصة بعيد الحب…
	 بس مع لمسة مختلفة ‎امسك المايك وغنّي من قلبك — سواء عن الحب أو أوجاعه، ‎ب
	عض الأغاني راح تكون مع موسيقيين لايف على المسرح، والكلمات راح تكون معروضة 
	على الشاشة يعني كاراوكي عادي… بس مع شوية دراما زيادة وفوق هاد كله:‎مشاهد أ
	يقونية من أفلام مشهورة، مؤدّاة بأسلوب الكاراوكي.‎أفضل اداء رح يربح الأوسكا
	ر! 14 فبراير‎ البداية: الساعة 7 مساءً (19:00
BEGIN:VALARM
ACTION:DISPLAY
DESCRIPTION:SING KARA OKAY
TRIGGER:-PT1H
END:VALARM
END:VEVENT
END:VCALENDAR
