BEGIN:VCALENDAR
VERSION:2.0
CALSCALE:GREGORIAN
PRODID:adamgibbons/ics
METHOD:PUBLISH
X-PUBLISHED-TTL:PT1H
BEGIN:VEVENT
UID:424@keepkarlsruheboring.org
SUMMARY:Solikneipe &-konzert
DTSTAMP:20260423T102217Z
DTSTART:20251011T180000Z
DTEND:20251012T013500Z
DESCRIPTION:Wir feiern\, tanzen\, schnacken und trinken auf eine Welt ohne 
	Grenzen und ohne\nalte Herrenbünde. Statt steifer Traditionen gibt’s bei u
	ns spritzige Solidrinks\,\nohne und mit Alkohol und ein Konzert\, bei dem 
	3 Akkorde schon 4 zu viel sind:\nKommando Schimmelkotze .\n\nEure Spenden 
	fließen in die Unterstützung von Repressionskosten. Während andere\nmit na
	tionalem Pathos glänzen wollen\, setzen wir lieber auf Mützen\, die Platz\
	nfür alle Köpfe haben – egal woher\, egal wen liebend.\n\nKommt vorbei\, b
	ringt Freund*innen mit\, lasst uns tanzen\, lachen und zeigen:\nSolidaritä
	t ist stärker als jeder Verbindungszwang.\n\nWann: 11.10.25\nBeginn: 20:00
	 Uhr\nKeine Mütze\, Kein Einlass :DD Wie immer Eintritt frei
URL:https://keepkarlsruheboring.org/event/solikneipe-and-konzert
GEO:48.989;8.37185
LOCATION:Café Noir - 5\, Schauenburgstraße\, Bulach\, Beiertheim-Bulach\, K
	arlsruhe\, Baden-Württemberg\, 76135\, Deutschland
STATUS:CONFIRMED
CATEGORIES:Party,Soliparty
X-ALT-DESC;FMTTYPE=text/html:<p>Wir feiern, tanzen, schnacken und trinken a
	uf eine Welt ohne Grenzen und ohne alte Herrenbünde. Statt steifer Traditi
	onen gibt’s bei uns spritzige Solidrinks, ohne und mit Alkohol und ein Kon
	zert, bei dem 3 Akkorde schon 4 zu viel sind: <strong>Kommando Schimmelkot
	ze </strong>.</p><p>Eure Spenden fließen in die Unterstützung von Repressi
	onskosten. Während andere mit nationalem Pathos glänzen wollen, setzen wir
	 lieber auf Mützen, die Platz für alle Köpfe haben – egal woher, egal wen 
	liebend.</p><p>Kommt vorbei, bringt Freund*innen mit, lasst uns tanzen, la
	chen und zeigen: Solidarität ist stärker als jeder Verbindungszwang.</p><p
	>Wann: 11.10.25<br>Beginn: 20:00 Uhr<br>Keine Mütze, Kein Einlass :DD Wie 
	immer Eintritt frei</p>
BEGIN:VALARM
ACTION:DISPLAY
DESCRIPTION:Solikneipe &-konzert
TRIGGER:-PT1H
END:VALARM
END:VEVENT
END:VCALENDAR
