BEGIN:VCALENDAR
VERSION:2.0
CALSCALE:GREGORIAN
PRODID:adamgibbons/ics
METHOD:PUBLISH
X-PUBLISHED-TTL:PT1H
BEGIN:VEVENT
UID:871@keepkarlsruheboring.org
SUMMARY:Solitheke
DTSTAMP:20260423T102217Z
DTSTART:20260314T190000Z
DTEND:20260314T220000Z
DESCRIPTION:Monatlicher Thekenabend im Café Noir.
URL:https://keepkarlsruheboring.org/event/solitheke-1
GEO:48.989;8.37185
LOCATION:Café Noir - 5\, Schauenburgstraße\, Bulach\, Beiertheim-Bulach\, K
	arlsruhe\, Baden-Württemberg\, 76135\, Deutschland
STATUS:CONFIRMED
CATEGORIES:karlsrunruhe,test
X-ALT-DESC;FMTTYPE=text/html:Monatlicher Thekenabend im Café Noir. <br>
BEGIN:VALARM
ACTION:DISPLAY
DESCRIPTION:Solitheke
TRIGGER:-PT1H
END:VALARM
END:VEVENT
END:VCALENDAR
