BEGIN:VCALENDAR
VERSION:2.0
CALSCALE:GREGORIAN
PRODID:adamgibbons/ics
METHOD:PUBLISH
X-PUBLISHED-TTL:PT1H
BEGIN:VEVENT
UID:886@keepkarlsruheboring.org
SUMMARY:Song Slam [8€]
DTSTAMP:20260423T091041Z
DTSTART:20260321T190000Z
DTEND:20260321T210000Z
DESCRIPTION:Endlich ist wieder SONG SLAM - der regelmäßige Musikwettstreit 
	im KOHI. Alle\nkönnen mitmachen\, die schon immer oder endlich wieder ihre
	 Songs auf der Bühne\npräsentieren wollen. Natürlich eigene Kompositionen 
	und keine Coversongs und\ngerne unter sieben Minuten pro Nummer. Alles an 
	Instrumenten ist möglich und\nerlaubt\, so auch Loop Stations und Co. Begl
	eitet wird der Abend von einer\neleganten Moderation in fairer und launige
	r Art. Zwei Runden gibt es mit\nZufallsjury und dann wird die Siegerin ode
	r der Sieger schlussendlich via\nApplaus gekürt.\n\nHeute mit:\n\nKarlmer\
	nEine Alternative-Rock Band gegründet 2025 die zwischen Berlin und Karlsru
	he\nzuhause ist. Wir ‘Karlmer’ hatten schon große Erfolge\, in knapp unter
	 einem Jahr\nhaben wir mehrere Spielstätte ausverkauft.l und fünf singles 
	released! Wir\nfreuen uns super Teil des Song Slam zu sein und ein Teil un
	serer Lieder zu zweit\nauf der Acoustic Gitarre umzuschreiben und exklusiv
	 zu präsentieren.\nhttps://karlmermusic.com/ [https://karlmermusic.com/]\n
	\nBEX\nMit dabei ist „Bex“\, eine Rapperin mit kreativen und ausdrucksstar
	ken Texten\,\ndie nicht nur als Ausdruck der eigenen Verarbeitung von Them
	en dienen sondern\nauch zum Nachdenken und Fühlen der Hörerinnenschaft anr
	egen.\nhttps://www.instagram.com/rapbaecker [https://www.instagram.com/rap
	baecker]\n\nLisette Noelia\nDie gleich in mehreren Sprachen getexteten phi
	losophisch-tiefgehenden Songs\nzeigen\, dass Lisette sich Gedanken zum Sin
	n des Lebens macht. Thema ist die\nLiebe in all ihren Facetten\, aber auch
	 Inspiration und Religiosität spielen eine\nRolle. Starke Stimme\, routini
	ertes Klavierspiel und luftig-leichte Bühnenpräsenz\n– eigentlich alles\, 
	was es für eine musikalische Karriere braucht.\n( BZ\, 2025)\nhttps://www.
	instagram.com/lisette.noelia\n[https://www.instagram.com/lisette.noelia]\n
	\nSimone Stahl\nDie Stuttgarter Liedermacherin ist die perfekte Mischung a
	us Vagabundin und\nGemütlichkeit. Und das ist nur einer der vielen Gegensä
	tze ihres Lebens. Simone\nschreibt und komponiert Texte und Melodien\, die
	 sofort ins Blut gehen. Nicht\nselten lautet die Rückmeldung: „lyrisch\, a
	ber Klartext!“ Am Liebsten erfasst sie\ndie einfachen\, greifbaren Dinge u
	nd hegt dennoch eine Vorliebe für Skurrile\nhttps://www.instagram.com/simo
	nestahlmusik/\n[https://www.instagram.com/simonestahlmusik/]\n\nModeration
	: Paula Höll\nCommedienne\, Ukulele-Kabarettistin\, Poetry Slammerin\, Imp
	ro-Schauspielerin\,\nPodcasterin\, Werbetexterin und natürlich Moderatorin
	... Was nach viel klingt\,\nkann auch in vier Worten zusammengefasst werde
	n: Paula Höll ist Wortkünstlerin.\nHalb bebartet\, aber voll motiviert\, l
	iefert sie ein Festbankett an guten Ideen.\nSchmackhafte Zutaten wie Queer
	ness\, Weirdness und Neurodivergenz kombiniert sie\nzu wortstarken Häppche
	n\, angerichtet auf dem Silbertablett ihrer mitreißenden\nEnergie.\nWenn P
	aula Höll kocht ist also von laut bis leise\, von Alptraum bis Alltag und\
	nvon „Hä?“ bis „Hui!“ alles dabei! Na dann\, bon Appetit!\nhttps://www.ins
	tagram.com/paula.hoell [https://www.instagram.com/paula.hoell]\n\nEinlass:
	 19 Uhr\, Beginn: 20 Uhr\n\n Instagram paula.hoell [https://www.instagram.
	com/paula.hoell] teilen Link zur\nVeranstaltung kopieren\n\n
URL:https://keepkarlsruheboring.org/event/song-slam
GEO:49.0017;8.40754
LOCATION:Kohi - Werderstraße 47\, 76137 Karlsruhe\, Alemanya
STATUS:CONFIRMED
CATEGORIES:Mitmachen,Music,SongSlam,Ticket
X-ALT-DESC;FMTTYPE=text/html:<p>Endlich ist wieder SONG SLAM - der regelmäß
	ige Musikwettstreit im KOHI. Alle können mitmachen, die schon immer oder e
	ndlich wieder ihre Songs auf der Bühne präsentieren wollen. Natürlich eige
	ne Kompositionen und keine Coversongs und gerne unter sieben Minuten pro N
	ummer. Alles an Instrumenten ist möglich und erlaubt, so auch Loop Station
	s und Co. Begleitet wird der Abend von einer eleganten Moderation in faire
	r und launiger Art. Zwei Runden gibt es mit Zufallsjury und dann wird die 
	Siegerin oder der Sieger schlussendlich via Applaus gekürt. <br><br>Heute 
	mit:<br><br>Karlmer <br>Eine Alternative-Rock Band gegründet 2025 die zwis
	chen Berlin und Karlsruhe zuhause ist. Wir ‘Karlmer’ hatten schon große Er
	folge, in knapp unter einem Jahr haben wir mehrere Spielstätte ausverkauft
	.l und fünf singles released! Wir freuen uns super Teil des Song Slam zu s
	ein und ein Teil unserer Lieder zu zweit auf der Acoustic Gitarre umzuschr
	eiben und exklusiv zu präsentieren.<br><a href="https://karlmermusic.com/"
	 target="_blank">https://karlmermusic.com/</a><br><br>BEX<br>Mit dabei ist
	 „Bex“, eine Rapperin mit kreativen und ausdrucksstarken Texten, die nicht
	 nur als Ausdruck der eigenen Verarbeitung von Themen dienen sondern auch 
	zum Nachdenken und Fühlen der Hörerinnenschaft anregen. <br><a href="https
	://www.instagram.com/rapbaecker" target="_blank">https://www.instagram.com
	/rapbaecker</a><br><br>Lisette Noelia<br>Die gleich in mehreren Sprachen g
	etexteten philosophisch-tiefgehenden Songs zeigen, dass Lisette sich Gedan
	ken zum Sinn des Lebens macht. Thema ist die Liebe in all ihren Facetten, 
	aber auch Inspiration und Religiosität spielen eine Rolle. Starke Stimme, 
	routiniertes Klavierspiel und luftig-leichte Bühnenpräsenz – eigentlich al
	les, was es für eine musikalische Karriere braucht. <br>( BZ, 2025)<br><a 
	href="https://www.instagram.com/lisette.noelia" target="_blank">https://ww
	w.instagram.com/lisette.noelia</a><br><br>Simone Stahl<br>Die Stuttgarter 
	Liedermacherin ist die perfekte Mischung aus Vagabundin und Gemütlichkeit.
	 Und das ist nur einer der vielen Gegensätze ihres Lebens. Simone schreibt
	 und komponiert Texte und Melodien, die sofort ins Blut gehen. Nicht selte
	n lautet die Rückmeldung: „lyrisch, aber Klartext!“ Am Liebsten erfasst si
	e die einfachen, greifbaren Dinge und hegt dennoch eine Vorliebe für Skurr
	ile<br><a href="https://www.instagram.com/simonestahlmusik/" target="_blan
	k">https://www.instagram.com/simonestahlmusik/</a><br><br>Moderation: Paul
	a Höll<br>Commedienne, Ukulele-Kabarettistin, Poetry Slammerin, Impro-Scha
	uspielerin, Podcasterin, Werbetexterin und natürlich Moderatorin... Was na
	ch viel klingt, kann auch in vier Worten zusammengefasst werden: Paula Höl
	l ist Wortkünstlerin. Halb bebartet, aber voll motiviert, liefert sie ein 
	Festbankett an guten Ideen. Schmackhafte Zutaten wie Queerness, Weirdness 
	und Neurodivergenz kombiniert sie zu wortstarken Häppchen, angerichtet auf
	 dem Silbertablett ihrer mitreißenden Energie.<br>Wenn Paula Höll kocht is
	t also von laut bis leise, von Alptraum bis Alltag und von „Hä?“ bis „Hui!
	“ alles dabei! Na dann, bon Appetit! <br><a href="https://www.instagram.co
	m/paula.hoell" target="_blank">https://www.instagram.com/paula.hoell</a><b
	r><br>Einlass: 19 Uhr, Beginn: 20 Uhr</p><p> Instagram <a href="https://ww
	w.instagram.com/paula.hoell" target="_blank">paula.hoell</a> teilen Link z
	ur Veranstaltung kopieren</p><p></p>
BEGIN:VALARM
ACTION:DISPLAY
DESCRIPTION:Song Slam [8€]
TRIGGER:-PT1H
END:VALARM
END:VEVENT
END:VCALENDAR
