BEGIN:VCALENDAR
VERSION:2.0
CALSCALE:GREGORIAN
PRODID:adamgibbons/ics
METHOD:PUBLISH
X-PUBLISHED-TTL:PT1H
BEGIN:VEVENT
UID:121@keepkarlsruheboring.org
SUMMARY:Sophienstraße autofrei
DTSTAMP:20260423T103149Z
DTSTART:20250703T140000Z
DTEND:20250703T143000Z
DESCRIPTION:📷⁩ ⁨trotz erfolgreichem Verkehrsversuch\, positiver Rückmeldung
	 von\nAnwohnerinnen und Schülerinnen vom Lessing-Gymnasium möchte die Stad
	tverwaltung\ndie Sperrung am Gutenbergplatz nicht umsetzen. 😡\n\n\n\nWir f
	ordern weiter "Sophienstraße autofrei" 🚗🚫\n\n\n\nvor der Ausschusssitzung 
	des Gemeinderats setzen wir uns für die Sperrung am\nGutenbergplatz ein\n\
	n\n\nam Donnerstag 03.07.\n\nUm 16:00\n\nauf dem Marktplatz\n\n\n\n(die Au
	sschusssitzung danach ist öffentlich)⁩
URL:https://keepkarlsruheboring.org/event/sophienstrasse-autofrei
GEO:49.0089;8.40388
LOCATION:Marktplatz - Innenstadt-Ost\, Karlsruhe\, Baden-Württemberg\, 7613
	3\, Deutschland
STATUS:CONFIRMED
CATEGORIES:Demonstration,Ecology,Kiezblocks,Local politics
X-ALT-DESC;FMTTYPE=text/html:<p>📷⁩ ⁨trotz erfolgreichem Verkehrsversuch, po
	sitiver Rückmeldung von Anwohner<em>innen und Schüler</em>innen vom Lessin
	g-Gymnasium möchte die Stadtverwaltung die Sperrung am Gutenbergplatz nich
	t umsetzen. 😡</p><p></p><p>Wir fordern weiter "Sophienstraße autofrei" 🚗🚫<
	/p><p></p><p>vor der Ausschusssitzung des Gemeinderats setzen wir uns für 
	die Sperrung am Gutenbergplatz ein</p><p></p><p>am Donnerstag 03.07.</p><p
	>Um 16:00</p><p>auf dem Marktplatz</p><p></p><p>(die Ausschusssitzung dana
	ch ist öffentlich)⁩</p>
BEGIN:VALARM
ACTION:DISPLAY
DESCRIPTION:Sophienstraße autofrei
TRIGGER:-PT1H
END:VALARM
END:VEVENT
END:VCALENDAR
