BEGIN:VCALENDAR
VERSION:2.0
CALSCALE:GREGORIAN
PRODID:adamgibbons/ics
METHOD:PUBLISH
X-PUBLISHED-TTL:PT1H
BEGIN:VEVENT
UID:413@keepkarlsruheboring.org
SUMMARY:Spätzlecoding Night
DTSTAMP:20260423T101831Z
DTSTART:20251003T140000Z
DTEND:20251003T140000Z
DESCRIPTION:// ENGLISH VERSION BELOW\n\nVom 3. bis 5. Oktober organisieren 
	wir unseren ersten Hackathon.\n\n\n\nEs wird ein Wochenende voller Spaß\, 
	Mate und wildem Coden. Wir wollen den Fokus\nauf die folgenden Themen setz
	en\, sind aber auch offen für weitere Ideen:\n\n- Coopcloud: https://coopc
	loud.tech/ [https://coopcloud.tech/]\n\n- LAUTI: https://lauti.org [https:
	//lauti.org]\n\nDie Teilnahme ist kostenlos! Für veganes Essen und Getränk
	e ist gesorgt\, aber\nalle sind in der Küche zum Schnibbeln gefragt.\n\n\n
	\n📍 Prisma\n\n📅 Zeitraum\n\nFreitag: 16:00 – 23:00 Uhr\n\nSamstag: 10:00 –
	23:00 Uhr\n\nSonntag: 10:00–16:00 Uhr\n\n\n\nAnmeldung: https://cloud.klas
	se-methode.it/apps/forms/s/LsJNcoGmiq8pomZcBE4bZ3TA\n[https://cloud.klasse
	-methode.it/apps/forms/s/LsJNcoGmiq8pomZcBE4bZ3TA]\n\n\n\nKlasse & Methode
	 - IT Kollektiv Stuttgart\n\n\n\n// ENGLISH VERSION\n\nFrom October 3 to 5
	\, we are organizing our first hackathon.\n\n\n\nIt will be a weekend full
	 of fun\, mate\, and wild coding. We want to focus on the\nfollowing topic
	s\, but we are also open to other ideas:\n\n- Coopcloud: https://coopcloud
	.tech/ [https://coopcloud.tech/]\n\n- LAUTI: https://lauti.org [https://la
	uti.org]\n\n\n\nParticipation is free! Vegan food and drinks will be provi
	ded\, but everyone is\nasked to help out in the kitchen.\n\n\n\n📍 Prisma\n
	\n📅 Time frame\n\nFriday: 4:00 p.m. – 11:00 p.m.\n\nSaturday: 10:00 a.m. –
	 11:00 p.m.\n\nSunday: 10:00 a.m. – 4:00 p.m.\n\n\n\nRegistration:\nhttps:
	//cloud.klasse-methode.it/apps/forms/s/LsJNcoGmiq8pomZcBE4bZ3TA\n[https://
	cloud.klasse-methode.it/apps/forms/s/LsJNcoGmiq8pomZcBE4bZ3TA]\n\n\n\nYour
	s\,\n\nKlasse & Methode - IT Kollektiv Stuttgart
URL:https://keepkarlsruheboring.org/event/spatzlecoding-night
GEO:48.8024;9.21716
LOCATION:Prisma Stuttgart - Prisma\, Bahnhofstraße 14-18\, 70372 Stuttgart
STATUS:CONFIRMED
CATEGORIES:Registration required,Stuttgart,Technology
X-ALT-DESC;FMTTYPE=text/html:<p>// ENGLISH VERSION BELOW</p><p>Vom 3. bis 5
	. Oktober organisieren wir unseren ersten Hackathon.</p><p></p><p>Es wird 
	ein Wochenende voller Spaß, Mate und wildem Coden. Wir wollen den Fokus au
	f die folgenden Themen setzen, sind aber auch offen für weitere Ideen:</p>
	<p>- Coopcloud: <a href="https://coopcloud.tech/" target="_blank">https://
	coopcloud.tech/</a></p><p>- LAUTI: <a href="https://lauti.org" target="_bl
	ank">https://lauti.org</a></p><p>Die Teilnahme ist kostenlos! Für veganes 
	Essen und Getränke ist gesorgt, aber alle sind in der Küche zum Schnibbeln
	 gefragt.</p><p></p><p>📍 Prisma</p><p>📅 Zeitraum</p><p>Freitag: 16:00 – 23
	:00 Uhr</p><p>Samstag: 10:00 –23:00 Uhr</p><p>Sonntag: 10:00–16:00 Uhr</p>
	<p></p><p>Anmeldung: <a href="https://cloud.klasse-methode.it/apps/forms/s
	/LsJNcoGmiq8pomZcBE4bZ3TA" target="_blank">https://cloud.klasse-methode.it
	/apps/forms/s/LsJNcoGmiq8pomZcBE4bZ3TA</a></p><p></p><p>Klasse &amp; Metho
	de - IT Kollektiv Stuttgart</p><p></p><p>// ENGLISH VERSION</p><p>From Oct
	ober 3 to 5, we are organizing our first hackathon.</p><p></p><p>It will b
	e a weekend full of fun, mate, and wild coding. We want to focus on the fo
	llowing topics, but we are also open to other ideas:</p><p>- Coopcloud: <a
	 href="https://coopcloud.tech/" target="_blank">https://coopcloud.tech/</a
	></p><p>- LAUTI: <a href="https://lauti.org" target="_blank">https://lauti
	.org</a></p><p></p><p>Participation is free! Vegan food and drinks will be
	 provided, but everyone is asked to help out in the kitchen.</p><p></p><p>
	📍 Prisma</p><p>📅 Time frame</p><p>Friday: 4:00 p.m. – 11:00 p.m.</p><p>Sat
	urday: 10:00 a.m. – 11:00 p.m.</p><p>Sunday: 10:00 a.m. – 4:00 p.m.</p><p>
	</p><p>Registration: <a href="https://cloud.klasse-methode.it/apps/forms/s
	/LsJNcoGmiq8pomZcBE4bZ3TA" target="_blank">https://cloud.klasse-methode.it
	/apps/forms/s/LsJNcoGmiq8pomZcBE4bZ3TA</a></p><p></p><p>Yours,</p><p>Klass
	e &amp; Methode - IT Kollektiv Stuttgart</p>
BEGIN:VALARM
ACTION:DISPLAY
DESCRIPTION:Spätzlecoding Night
TRIGGER:-PT1H
END:VALARM
END:VEVENT
END:VCALENDAR
