BEGIN:VCALENDAR
VERSION:2.0
CALSCALE:GREGORIAN
PRODID:adamgibbons/ics
METHOD:PUBLISH
X-PUBLISHED-TTL:PT1H
BEGIN:VEVENT
UID:1149@keepkarlsruheboring.org
SUMMARY:ßynced - Open Synthesizer Jam
DTSTAMP:20260423T102323Z
DTSTART:20260314T150000Z
DTEND:20260314T210000Z
DESCRIPTION:ẞynced again! Bringt eure Synthesizer\, die Drummachine oder ei
	n Modularsystem\nmit\, synchronisiert euch über MIDI & CV Clock und macht 
	zusammen\nAmbientdubtechnopsyschlagerschranztrancehardcorepumucklpopglitch
	minimalvikingstep!\n\nWir mixen alles was reinkommt mit unserem Mischpult 
	und visualisieren das\nMastersignal über den Beamer.\nAm Besten funktionie
	ren einfache Setups mit wenigen Geräten. Bringt eure 1-2\nLieblingsgeräte\
	, einen Kopfhörer und die passenden MIDI- und Audiokabel mit. \n\nAlle kön
	nen mitmachen: Wir haben vor Ort ein kleines Kontingent an Synths\,\nsodas
	s ihr auch ohne eigenes Equipment mitmachen könnt.\nWenn ihr Fragen habt o
	der nicht wisst\, ob es was für euch ist – slidet einfach\nin unsere DMs a
	uf Insta: @chrisspatschek oder @acrhcpaule\n\nWeil es bei den letzten Male
	n nach der Jam Session noch schön nerdig weiterging:\nDiesmal haben als Sp
	ecialSpecial Felix aus Landau eingeladen um sein neuestes\nLiveprojekt zu 
	präsentieren: leerlauf2000 heißt rumpelige Beats auf verzerrten\nBässen mi
	t weirden Hooks\, schwebenden Flächen und effektgetränkten Vocals -\nselbs
	tverständlich live\, elektronisch und geßynced!\n\nAlso hoch die Amplitude
	n und wir freuen uns auf Euch!\n\nProgramm:\nab 16:00 Synthesizer Jam Sess
	ion\nab 20:30 leerlauf2000 Liveset\n\n
URL:https://keepkarlsruheboring.org/event/ssynced-open-synthesizer-jam-1
GEO:49.0084;8.41046
LOCATION:ßpace - Fritz-Erler-Straße 7\, 76133 Karlsruhe
STATUS:CONFIRMED
CATEGORIES:jam,live,Music,synthesizer
X-ALT-DESC;FMTTYPE=text/html:<p>ẞynced again! Bringt eure Synthesizer, die 
	Drummachine oder ein Modularsystem mit, synchronisiert euch über MIDI &amp
	; CV Clock und macht zusammen Ambientdubtechnopsyschlagerschranztrancehard
	corepumucklpopglitchminimalvikingstep!</p><p>Wir mixen alles was reinkommt
	 mit unserem Mischpult und visualisieren das Mastersignal über den Beamer.
	 <br>Am Besten funktionieren einfache Setups mit wenigen Geräten. Bringt e
	ure 1-2 Lieblingsgeräte, einen Kopfhörer und die passenden MIDI- und Audio
	kabel mit.&nbsp;</p><p>Alle können mitmachen: Wir haben vor Ort ein kleine
	s Kontingent an Synths, sodass ihr auch ohne eigenes Equipment mitmachen k
	önnt. <br>Wenn ihr Fragen habt oder nicht wisst, ob es was für euch ist – 
	slidet  einfach in unsere DMs auf Insta: @chrisspatschek oder @acrhcpaule<
	/p><p>Weil es bei den letzten Malen nach der Jam Session noch schön nerdig
	 weiterging:<br>Diesmal haben als SpecialSpecial Felix aus Landau eingelad
	en um sein neuestes Liveprojekt zu präsentieren: leerlauf2000 heißt rumpel
	ige Beats auf verzerrten Bässen mit weirden Hooks, schwebenden Flächen und
	 effektgetränkten Vocals - selbstverständlich live, elektronisch und geßyn
	ced!</p><p>Also hoch die Amplituden und wir freuen uns auf Euch! </p><p>Pr
	ogramm: <br>ab 16:00 Synthesizer Jam Session<br>ab 20:30 leerlauf2000 Live
	set</p><p></p>
BEGIN:VALARM
ACTION:DISPLAY
DESCRIPTION:ßynced - Open Synthesizer Jam
TRIGGER:-PT1H
END:VALARM
END:VEVENT
END:VCALENDAR
