BEGIN:VCALENDAR
VERSION:2.0
CALSCALE:GREGORIAN
PRODID:adamgibbons/ics
METHOD:PUBLISH
X-PUBLISHED-TTL:PT1H
BEGIN:VEVENT
UID:59@keepkarlsruheboring.org
SUMMARY:Stadtteil Hofflohmärkte: Südstadt
DTSTAMP:20260423T102327Z
DTSTART:20250629T080000Z
DTEND:20250629T150000Z
DESCRIPTION:ANMELDUNG: HTTPS://WWW.BG-SUEDSTADT.DE/HOFFLOHMAERKTE/\n[https:
	//www.bg-suedstadt.de/hofflohmaerkte/]\n\n\n\n\nMAP:\nHTTPS://WWW.BG-SUEDS
	TADT.DE/HOFFLOHMARKT-UEBERSICHT-NYPX9Y25UAUFY23D7X9K9L4AUPTYP7EAHNNYHEHZAT
	7AN7XPQEN4/\n[https://www.bg-suedstadt.de/hofflohmarkt-uebersicht-nypx9y25
	uaufy23d7x9k9l4auptyp7eahnnyhehzat7an7xpqen4/]\n\n\n\nEs lädt die Bürgerge
	sellschaft der Südstadt zum Stadtteilhofflohmarkt ein.\nEs kann wieder nac
	h Herzenslust nach Raritäten\, Antiquitäten\, Kuriositäten und\nAlltagsgeg
	enständen gestöbert und gefeilscht werden.\nTragt Eure Sachen in den Hof u
	nd macht ein Event daraus.\nTrefft Euch mit Nachbarn und habt viel Spaß!\n
	Im letzten Jahr hatten sich 80 Höfe angemeldet.\nWir hatten Kaiserwetter u
	nd viele positive Rückmeldungen.\nWir sind gespannt\, wie viele Höfe es di
	esmal werden.\n\nDie Teilnahme am Flohmarkt ist kostenfrei!\nSpenden werde
	n gerne entgegen genommen - siehe unten (**)\n\nEs gelten folgende Spielre
	geln:\n\n 1. Es dürfen nur nicht-gewerbliche Verkäufer*innen mitmachen.\n\
	n 2. Die Flohmarktstände dürfen nur in den Höfen aufgebaut werden.\n    De
	r Verkauf auf öffentliche Flächen\, Gehwegen\, Parkplätze\, etc. ist durch
	\n    die Stadt Karlsruhe nicht erlaubt.\n\n 3. Jede Hausgemeinschaft ist 
	für den Flohmarkt selbst verantwortlich.\n    Die Initiatoren übernehmen k
	eine Haftung für Schäden.\n\n 4. Hausbesitzer oder Eigentümer müssen infor
	miert werden und dem Flohmarkt\n    zustimmen.\n\n 5. Müll muss ordentlich
	 entsorgt werden.\n\n 6. Macht Euren Hof durch bunte Luftballons\, Plakate
	 etc.\, die außen angebracht\n    werden\, kenntlich.\n\n 7. Der Markt fin
	det bei jedem Wetter statt. Besorgt Euch Schirme\, Planen oder\n    Pavill
	ons
URL:https://keepkarlsruheboring.org/event/stadtteil-hofflohmarkte-sudstadt
GEO:49.0008;8.41083
LOCATION:Südstadt - Südstadt
STATUS:CONFIRMED
CATEGORIES:Flohmarkt
X-ALT-DESC;FMTTYPE=text/html:<h2>Anmeldung: <a href="https://www.bg-suedsta
	dt.de/hofflohmaerkte/" target="_blank">https://www.bg-suedstadt.de/hoffloh
	maerkte/</a></h2><p></p><h2>Map: <a href="https://www.bg-suedstadt.de/hoff
	lohmarkt-uebersicht-nypx9y25uaufy23d7x9k9l4auptyp7eahnnyhehzat7an7xpqen4/"
	 target="_blank">https://www.bg-suedstadt.de/hofflohmarkt-uebersicht-nypx9
	y25uaufy23d7x9k9l4auptyp7eahnnyhehzat7an7xpqen4/</a></h2><p></p><p>Es lädt
	 die Bürgergesellschaft der Südstadt zum Stadtteilhofflohmarkt ein.<br>Es 
	kann wieder nach Herzenslust nach Raritäten, Antiquitäten, Kuriositäten un
	d Alltagsgegenständen gestöbert und gefeilscht werden.<br>Tragt Eure Sache
	n in den Hof und macht ein Event daraus.<br>Trefft Euch mit Nachbarn und h
	abt viel Spaß!<br>Im letzten Jahr hatten sich 80 Höfe angemeldet.<br>Wir h
	atten Kaiserwetter und viele positive Rückmeldungen.<br>Wir sind gespannt,
	 wie viele Höfe es diesmal werden.</p><p><strong>Die Teilnahme am Flohmark
	t ist kostenfrei!</strong><br>Spenden werden gerne entgegen genommen - sie
	he unten (**)</p><p><strong>Es gelten folgende Spielregeln:</strong></p><o
	l><li><p>Es dürfen nur nicht-gewerbliche Verkäufer*innen mitmachen.</p></l
	i><li><p>Die Flohmarktstände dürfen nur in den Höfen aufgebaut werden.<br>
	Der Verkauf auf öffentliche Flächen, Gehwegen, Parkplätze, etc. ist durch 
	die Stadt Karlsruhe <strong>nicht</strong> erlaubt.</p></li><li><p>Jede Ha
	usgemeinschaft ist für den Flohmarkt selbst verantwortlich.<br>Die Initiat
	oren übernehmen keine Haftung für Schäden.</p></li><li><p>Hausbesitzer ode
	r Eigentümer müssen informiert werden und dem Flohmarkt zustimmen.</p></li
	><li><p>Müll muss ordentlich entsorgt werden.</p></li><li><p>Macht Euren H
	of durch bunte Luftballons, Plakate etc., die außen angebracht werden, ken
	ntlich.</p></li><li><p>Der Markt findet bei jedem Wetter statt. Besorgt Eu
	ch Schirme, Planen oder Pavillons</p></li></ol>
BEGIN:VALARM
ACTION:DISPLAY
DESCRIPTION:Stadtteil Hofflohmärkte: Südstadt
TRIGGER:-PT1H
END:VALARM
END:VEVENT
END:VCALENDAR
