BEGIN:VCALENDAR
VERSION:2.0
CALSCALE:GREGORIAN
PRODID:adamgibbons/ics
METHOD:PUBLISH
X-PUBLISHED-TTL:PT1H
BEGIN:VEVENT
UID:42@keepkarlsruheboring.org
SUMMARY:🛍️ Stadtteilflohmarkt in der Südweststadt – Entdecke verborgene Schä
	tze! 🏡
DTSTAMP:20260423T104916Z
DTSTART:20250524T080000Z
DTEND:20250524T150000Z
DESCRIPTION:Zum zweiten Mal heißt es wieder: Die Hinterhöfe und Gärten der 
	Südweststadt\nöffnen ihre Türen! 🚪🌿\nAlle Besucher:innen sind herzlich ein
	geladen\, durch das Viertel zu bummeln\, neue\nund alte Schätze zu entdeck
	en\, sich zu vernetzen und einen ganz besonderen Tag\nzu genießen. 🎉✨\n\nD
	ie zentrale Anlaufstelle des Flohmarktes befindet sich in der Roonstraße 2
	3a\n📍.\nHier gibt es nicht nur Lagepläne 🗺️ und erste Stände zum Stöbern 🛒\
	, sondern\nauch die Möglichkeit\, mehr über den Verein GloW Karlsruhe zu e
	rfahren. 💡\n\n\n🎈 MITMACHEN UND SELBST VERKAUFEN? 🏷️\n\nDu hast Lust\, selb
	st einen Stand aufzubauen? Dann aufgepasst: Jede\nHausgemeinschaft in der 
	Oststadt\, die über einen Hinterhof verfügt\, kann\nteilnehmen. 🏠🛍️\nWichti
	g: Bitte holt euch vorab das Einverständnis der Hausverwaltung oder der\nE
	igentümer:innen ein. ✅\n\nDer Stadtteilflohmarkt bietet eine tolle Gelegen
	heit\, das Viertel aus einer\nneuen Perspektive zu erleben – sei es als Be
	sucher oder Verkäufer. Also\, Termin\nvormerken 📅 und dabei sein! 🚀
URL:https://keepkarlsruheboring.org/event/stadtteilflohmarkt-in-der-sudwest
	stadt-entdecke-verborgene-schatze
GEO:49.0014;8.38813
LOCATION:Südweststadt - 23a\, Roonstraße\, Südweststadt Mittlerer Teil\, Sü
	dweststadt\, Karlsruhe\, Baden-Württemberg\, 76137\, Deutschland
STATUS:CONFIRMED
CATEGORIES:Flohmarkt,Südweststadt
X-ALT-DESC;FMTTYPE=text/html:<p>Zum zweiten Mal heißt es wieder: <strong>Di
	e Hinterhöfe und Gärten der Südweststadt öffnen ihre Türen! 🚪🌿</strong><br
	>Alle Besucher:innen sind herzlich eingeladen, durch das Viertel zu bummel
	n, neue und alte Schätze zu entdecken, sich zu vernetzen und einen ganz be
	sonderen Tag zu genießen. 🎉✨</p><p>Die <strong>zentrale Anlaufstelle</stro
	ng> des Flohmarktes befindet sich in der <strong>Roonstraße 23a 📍</strong>
	.<br>Hier gibt es nicht nur Lagepläne 🗺️ und erste Stände zum Stöbern 🛒, so
	ndern auch die Möglichkeit, mehr über den Verein <strong>GloW Karlsruhe</s
	trong> zu erfahren. 💡</p><h3>🎈 Mitmachen und selbst verkaufen? 🏷️</h3><p>Du
	 hast Lust, selbst einen Stand aufzubauen? Dann aufgepasst: <strong>Jede H
	ausgemeinschaft in der Oststadt</strong>, die über einen Hinterhof verfügt
	, kann teilnehmen. 🏠🛍️<br>Wichtig: Bitte holt euch vorab das Einverständnis
	 der Hausverwaltung oder der Eigentümer:innen ein. ✅</p><p>Der Stadtteilfl
	ohmarkt bietet eine tolle Gelegenheit, das Viertel aus einer neuen Perspek
	tive zu erleben – sei es als Besucher oder Verkäufer. Also, Termin vormerk
	en 📅 und dabei sein! 🚀</p>
BEGIN:VALARM
ACTION:DISPLAY
DESCRIPTION:🛍️ Stadtteilflohmarkt in der Südweststadt – Entdecke verborgene 
	Schätze! 🏡
TRIGGER:-PT1H
END:VALARM
END:VEVENT
END:VCALENDAR
