BEGIN:VCALENDAR
VERSION:2.0
CALSCALE:GREGORIAN
PRODID:adamgibbons/ics
METHOD:PUBLISH
X-PUBLISHED-TTL:PT1H
BEGIN:VEVENT
UID:861@keepkarlsruheboring.org
SUMMARY:Stefan Unser und Nicolai Köppel
DTSTAMP:20260423T102553Z
DTSTART:20260313T190000Z
DTEND:20260313T210000Z
DESCRIPTION:Stefan Unser\, Slam-Poet aus Karlsruhe\, und Nicolai Köppel\, L
	iedermacher aus\nHeilbronn\, nehmen sich der großen Fragen an – und liefer
	n zuverlässig Antworten.\nAuch falsche. In einer Collage aus Texten und Li
	edern entsteht ein Abend\, der\nProbleme nicht löst\, sondern endlich pass
	end macht. Zwischen kluger\nAlltagsbeobachtung\, feiner Menschenkunde und 
	musikalischer Lakonie zeigen Unser\n& Köppel\, dass das Dasein vielleicht 
	nicht einfach ist – aber zumindest gut\nkommentiert. Alles ist entweder ga
	r nicht so schlimm. Oder deutlich schlimmer.\nZum Glück merkt man es nicht
	 immer. Stefan Unser wurde mit sprachlicher\nPräzision und charmant angewa
	ndter Menschenzoologie baden-württembergischer\nPoetry-Slam-Landesmeister.
	 Nicolai Köppel bewegt sich musikalisch zwischen\nklassischer Liedermacher
	schule und moderner Singer-Songwriter-Ästhetik –\nunvirtuos und treffsiche
	r. Ein Abend für alle\, die wissen: Optimismus ist keine\nLösung. Aber ein
	e sehr brauchbare Strategie.\nhttps://nicolai-koeppel.jimdosite.com https:
	//www.wortartig.de/ Einlass: 19 Uhr\,\nBeginn: 20 Uhr
URL:https://keepkarlsruheboring.org/event/stefan-unser-und-nicolai-koppel
GEO:49.0017;8.40754
LOCATION:Kohi - Werderstraße 47\, 76137 Karlsruhe\, Alemanya
STATUS:CONFIRMED
CATEGORIES:karlsrunruhe,test
X-ALT-DESC;FMTTYPE=text/html:Stefan Unser, Slam-Poet aus Karlsruhe, und Nic
	olai Köppel, Liedermacher aus Heilbronn, nehmen sich der großen Fragen an 
	– und liefern zuverlässig Antworten. Auch falsche. In einer Collage aus Te
	xten und Liedern entsteht ein Abend, der Probleme nicht löst, sondern endl
	ich passend macht. Zwischen kluger Alltagsbeobachtung, feiner Menschenkund
	e und musikalischer Lakonie zeigen Unser & Köppel, dass das Dasein viellei
	cht nicht einfach ist – aber zumindest gut kommentiert. Alles ist entweder
	 gar nicht so schlimm. Oder deutlich schlimmer. Zum Glück merkt man es nic
	ht immer. Stefan Unser wurde mit sprachlicher Präzision und charmant angew
	andter Menschenzoologie baden-württembergischer Poetry-Slam-Landesmeister.
	 Nicolai Köppel bewegt sich musikalisch zwischen klassischer Liedermachers
	chule und moderner Singer-Songwriter-Ästhetik – unvirtuos und treffsicher.
	 Ein Abend für alle, die wissen: Optimismus ist keine Lösung. Aber eine se
	hr brauchbare Strategie.<br>https://nicolai-koeppel.jimdosite.com<br>https
	://www.wortartig.de/<br>Einlass: 19 Uhr, Beginn: 20 Uhr
BEGIN:VALARM
ACTION:DISPLAY
DESCRIPTION:Stefan Unser und Nicolai Köppel
TRIGGER:-PT1H
END:VALARM
END:VEVENT
END:VCALENDAR
