BEGIN:VCALENDAR
VERSION:2.0
CALSCALE:GREGORIAN
PRODID:adamgibbons/ics
METHOD:PUBLISH
X-PUBLISHED-TTL:PT1H
BEGIN:VEVENT
UID:658@keepkarlsruheboring.org
SUMMARY:Stitches against violence | Maschen gegen Gewalt: Aktion gegen gesc
	hlechtsspezifische Gewalt
DTSTAMP:20260423T090758Z
DTSTART:20260128T164500Z
DESCRIPTION:Am 28.1. möchten wir uns an einer weltweiten Strick- und Häkela
	ktion beteiligen\,\num auf geschlechtsspezifische Gewalt aufmerksam zu mac
	hen. Die Aktion wurde von\neinem Strickkollektiv (Stitch Sip Knit) aus Wie
	n ins Leben gerufen.\n\nFür die Aktion treffen wir uns um 17:45 Uhr am Dur
	lacher Tor und fahren –\nstrickend und häkelnd – ab 18 Uhr mit der Tram 2 
	über den Hauptbahnhof zum\nEuropaplatz. Als Wiedererkennungszeichen könnt 
	ihr gerne etwas Rotes\, wie eine\nrote Mütze oder einen Schal\, tragen.\n\
	nPackt einfach eure Strick- und Häkelnadeln mit ein und los geht’s!\n\n\n\
	n\nUM WAS GEHT’S GENAU?\n\nMit „Stitches against violence“ („Maschen gegen
	 Gewalt“) möchten wir auf\ngeschlechtsspezifische Gewalt aufmerksam machen
	. Diese Gewalt umfasst\ninsbesondere Gewalt gegen Frauen und damit alle Ha
	ndlungen\, die sich gegen eine\nFrau richten\, weil sie eine Frau* ist und
	 zu körperlichen\, sexuellen\,\npsychischen oder wirtschaftlichen Schäden 
	oder Leiden führen. Dazu gehört\naußerdem auch die Androhung von solchen G
	ewalttaten und auch Gewalt\, die sich\ngegen trans\, intergeschlechtliche 
	oder nicht-binäre Personen richtet\, aufgrund\nihres (zugeschriebenen) Ges
	chlechts sowie ihrer Geschlechtsidentität.\n\nGeschlechtsspezifische Gewal
	t steht im Kontext patriarchaler Machtstrukturen.\nDie Täter sind fast imm
	er Männer und die Partner\, Expartner\, Ehemänner\, Väter\noder Söhne der 
	Betroffenen. Die höchste Eskalationsstufe von\ngeschlechtsspezifischer Gew
	alt sind Femizide – das Töten von Frauen\, trans\,\nintergeschlechtlichen 
	und nicht-binären Personen aufgrund ihres Geschlechts.\nFast jeden Tag wir
	d in Deutschland ein Femizid verübt.\n\n\n\n\nWARUM PROTESTIEREN WIR STRIC
	KEND UND HÄKELND?\n\nHandarbeit\, wie es auch Stricken und Häkeln sind\, s
	tehen in unserem Protest\nsymbolisch für das Häusliche. Zu Hause sollte fü
	r alle Personen ein sicherer Ort\nsein\, allerdings sieht die Realität and
	ers aus. Geschlechtsspezifische Gewalt\nfindet häufig im näheren sozialen 
	Umfeld und im eigenen zu Hause der betroffenen\nPersonen statt. Indem wir 
	mit unserem Protest die private und häusliche\nHandarbeit in den öffentlic
	hen Raum bringen\, wollen wir auf die Gefahr\naufmerksam machen\, der viel
	e Betroffene in ihrem eigenen zu Hause ausgeliefert\nsind.\n\n\n\nQuellen:
	\nhttps://gemeinsam-gegen-sexismus.de/glossar-posts/geschlechtsspezifische
	-gewalt/\n[https://gemeinsam-gegen-sexismus.de/glossar-posts/geschlechtssp
	ezifische-gewalt/]
URL:https://keepkarlsruheboring.org/event/stitches-against-violence-or-masc
	hen-gegen-gewalt-aktion-gegen-geschlechtsspezifische-gewalt
GEO:49.0089;8.41665
LOCATION:Durlacher Tor (Haltestelle) - Innenstadt-Ost\, Karlsruhe\, Baden-W
	ürttemberg\, 76131\, Deutschland
STATUS:CONFIRMED
CATEGORIES:Anti-discrimination,Demonstration,Queerfeminismus,Sexism,Stitche
	s against violence
X-ALT-DESC;FMTTYPE=text/html:<p>Am 28.1. möchten wir uns an einer weltweite
	n Strick- und Häkelaktion beteiligen, um auf geschlechtsspezifische Gewalt
	 aufmerksam zu machen. Die Aktion wurde von einem Strickkollektiv (Stitch 
	Sip Knit) aus Wien ins Leben gerufen.</p><p><strong>Für die Aktion treffen
	 wir uns um 17:45 Uhr am Durlacher Tor und fahren – strickend und häkelnd 
	– ab 18 Uhr mit der Tram 2 über den Hauptbahnhof zum Europaplatz. Als Wied
	ererkennungszeichen könnt ihr gerne etwas Rotes, wie eine rote Mütze oder 
	einen Schal, tragen.</strong></p><p><strong>Packt einfach eure Strick- und
	 Häkelnadeln mit ein und los geht’s!</strong></p><p></p><h2>Um was geht’s 
	genau?</h2><p>Mit „Stitches against violence“ („Maschen gegen Gewalt“) möc
	hten wir auf geschlechtsspezifische Gewalt aufmerksam machen. Diese Gewalt
	 umfasst insbesondere Gewalt gegen Frauen<em> und damit alle Handlungen, d
	ie sich gegen eine Frau</em> richten, weil sie eine Frau* ist und zu körpe
	rlichen, sexuellen, psychischen oder wirtschaftlichen Schäden oder Leiden 
	führen. Dazu gehört außerdem auch die Androhung von solchen Gewalttaten un
	d auch Gewalt, die sich gegen trans, intergeschlechtliche oder nicht-binär
	e Personen richtet, aufgrund ihres (zugeschriebenen) Geschlechts sowie ihr
	er Geschlechtsidentität.</p><p>Geschlechtsspezifische Gewalt steht im Kont
	ext patriarchaler Machtstrukturen. Die Täter sind fast immer Männer und di
	e Partner, Expartner, Ehemänner, Väter oder Söhne der Betroffenen. Die höc
	hste Eskalationsstufe von geschlechtsspezifischer Gewalt sind Femizide – d
	as Töten von Frauen, trans, intergeschlechtlichen und nicht-binären Person
	en aufgrund ihres Geschlechts. Fast jeden Tag wird in Deutschland ein Femi
	zid verübt.</p><p></p><h2>Warum protestieren wir strickend und häkelnd?</h
	2><p>Handarbeit, wie es auch Stricken und Häkeln sind, stehen in unserem P
	rotest symbolisch für das Häusliche. Zu Hause sollte für alle Personen ein
	 sicherer Ort sein, allerdings sieht die Realität anders aus. Geschlechtss
	pezifische Gewalt findet häufig im näheren sozialen Umfeld und im eigenen 
	zu Hause der betroffenen Personen statt. Indem wir mit unserem Protest die
	 private und häusliche Handarbeit in den öffentlichen Raum bringen, wollen
	 wir auf die Gefahr aufmerksam machen, der viele Betroffene in ihrem eigen
	en zu Hause ausgeliefert sind.</p><p></p><p>Quellen: <a href="https://geme
	insam-gegen-sexismus.de/glossar-posts/geschlechtsspezifische-gewalt/" targ
	et="_blank">https://gemeinsam-gegen-sexismus.de/glossar-posts/geschlechtss
	pezifische-gewalt/</a></p>
BEGIN:VALARM
ACTION:DISPLAY
DESCRIPTION:Stitches against violence | Maschen gegen Gewalt: Aktion gegen 
	geschlechtsspezifische Gewalt
TRIGGER:-PT1H
END:VALARM
END:VEVENT
END:VCALENDAR
