BEGIN:VCALENDAR
VERSION:2.0
CALSCALE:GREGORIAN
PRODID:adamgibbons/ics
METHOD:PUBLISH
X-PUBLISHED-TTL:PT1H
BEGIN:VEVENT
UID:99@keepkarlsruheboring.org
SUMMARY:Stuhlbau DIY Workshop: Form trifft Funktion — Leonardis modulares E
	rbe neu interpretiert | Encounter Trees – Modena x Karlsruhe
DTSTAMP:20260423T105009Z
DTSTART:20250629T090000Z
DTEND:20250629T140000Z
DESCRIPTION:Im Rahmen der Ausstellung erfolgt am 29. Juni eine experimentel
	le\nAuseinandersetzung mit dem Bausatz von Cesare Leonardi. Die Ausgangsfo
	rmen\nwerden an in Deutschland verfügbare Materialien angepasst und die Mö
	glichkeiten\nder Zusammensetzung erweitert. Ziel ist es\, ressourcenschone
	nd konkrete\nMöbelstücke oder ortsspezifische Anbauten zu gestalten. Dabei
	 reproduzieren wir\nteilweise Leonardis Originaldesigns\, während wir in a
	nderen Fällen auf Grundlage\nseiner Bauprinzipien völlig neue Entwürfe ent
	wickeln. Die entstandenen\nMöbelstücke werden für die Dauer der Ausstellun
	g zu einem integrativen Teil des\nAusstellungsmobiliars.\n\nWeitere Inform
	ationen und Anmeldung:\nhttps://architekturzeit-ka.de/news/stuhlbau/\n[htt
	ps://architekturzeit-ka.de/news/stuhlbau/]
URL:https://keepkarlsruheboring.org/event/stuhlbau-diy-workshop-form-trifft
	-funktion-leonardis-modulares-erbe-neu-interpretiert-or-encounter-trees-mo
	dena-x-karlsruhe
GEO:49.0134;8.41286
LOCATION:Fasanenschlösschen - Fasanenschlösschen in the Fasanengarten
STATUS:CONFIRMED
CATEGORIES:DIY,Media Art,Workshop
X-ALT-DESC;FMTTYPE=text/html:<p>Im Rahmen der Ausstellung erfolgt am 29. Ju
	ni eine experimentelle Auseinandersetzung mit dem Bausatz von Cesare Leona
	rdi. Die Ausgangsformen werden an in Deutschland verfügbare Materialien an
	gepasst und die Möglichkeiten der Zusammensetzung erweitert. Ziel ist es, 
	ressourcenschonend konkrete Möbelstücke oder ortsspezifische Anbauten zu g
	estalten. Dabei reproduzieren wir teilweise Leonardis Originaldesigns, wäh
	rend wir in anderen Fällen auf Grundlage seiner Bauprinzipien völlig neue 
	Entwürfe entwickeln. Die entstandenen Möbelstücke werden für die Dauer der
	 Ausstellung zu einem integrativen Teil des Ausstellungsmobiliars.</p><p>W
	eitere Informationen und Anmeldung: <a href="https://architekturzeit-ka.de
	/news/stuhlbau/" target="_blank">https://architekturzeit-ka.de/news/stuhlb
	au/</a></p>
BEGIN:VALARM
ACTION:DISPLAY
DESCRIPTION:Stuhlbau DIY Workshop: Form trifft Funktion — Leonardis modular
	es Erbe neu interpretiert | Encounter Trees – Modena x Karlsruhe
TRIGGER:-PT1H
END:VALARM
END:VEVENT
END:VCALENDAR
