BEGIN:VCALENDAR
VERSION:2.0
CALSCALE:GREGORIAN
PRODID:adamgibbons/ics
METHOD:PUBLISH
X-PUBLISHED-TTL:PT1H
BEGIN:VEVENT
UID:154@keepkarlsruheboring.org
SUMMARY:Summer Disko-Cocktailbar mit DJ Plüschbert [5 €? ]
DTSTAMP:20260423T102458Z
DTSTART:20250815T190000Z
DTEND:20250815T190000Z
DESCRIPTION:Hier steht Hackerei-Chef DJ Plüschbert mal wieder höchstpersönl
	ich am DJ-Pult\nund hält für euch das beste an Diskomusik bereit! Und natü
	rlich wird es eine\ngroße Auswahl an Cocktails an dem Abend geben. Flyer l
	iebevoll gebastelt von\nTinka.
URL:https://keepkarlsruheboring.org/event/summer-disko-cocktailbar-mit-dj-p
	luschbert-5-euro
GEO:49.0056;8.42925
LOCATION:Alte Hackerei - Alter Schlachthof 11A 76131 Karlsruhe
STATUS:CONFIRMED
CATEGORIES:Party,Ticket
X-ALT-DESC;FMTTYPE=text/html:Hier steht Hackerei-Chef DJ Plüschbert mal wie
	der höchstpersönlich am DJ-Pult und hält für euch das beste an Diskomusik 
	bereit!<br><br>Und natürlich wird es eine große Auswahl an Cocktails an de
	m Abend geben.<br><br>Flyer liebevoll gebastelt von Tinka.
BEGIN:VALARM
ACTION:DISPLAY
DESCRIPTION:Summer Disko-Cocktailbar mit DJ Plüschbert [5 €? ]
TRIGGER:-PT1H
END:VALARM
END:VEVENT
END:VCALENDAR
