BEGIN:VCALENDAR
VERSION:2.0
CALSCALE:GREGORIAN
PRODID:adamgibbons/ics
METHOD:PUBLISH
X-PUBLISHED-TTL:PT1H
BEGIN:VEVENT
UID:445@keepkarlsruheboring.org
SUMMARY:Tag gegen Einsamkeit: Von losen Fäden zu bunten Netzen
DTSTAMP:20260423T104918Z
DTSTART:20251122T130000Z
DTEND:20251122T170000Z
DESCRIPTION:Am Tag gegen Einsamkeit laden wir herzlich ein\, gemeinsam ein 
	Kunstwerk des\nMiteinanders zu schaffen.\n\nEntstehen wird ein Wandteppich
	\, der Botschaften der Verbundenheit in sich trägt\n– ob handgeknüpft oder
	 maschinell getuftet: Wir schaffen Raum zum Mitmachen\,\nAustauschen und V
	ernetzen. Menschen aller Generationen sind eingeladen\, ihre\nIdeen und ih
	re Kreativität einzubringen. Ziel ist es\, ein sichtbares Zeichen für\nZus
	ammenhalt zu setzen. Umrahmt von der Ausstellung »Fellow Travellers\n[http
	s://zkm.de/de/ausstellung/2024/09/fellow-travellers]« zeigen wir das ZKM\n
	als offenen Ort für Begegnungen\, Gespräche und gemeinsames Gestalten.\n\n
	Bitte meldet euch im Foyer an der Infotheke an! Hier bekommt ihr ein Bändc
	hen\,\num kostenfrei teilzunehmen.\n\nEine Veranstaltung im Rahmen der Nac
	ht gegen Einsamkeit\n[https://www.swr.de/specials/exit-einsamkeit/index.ht
	ml] des SWR.
URL:https://keepkarlsruheboring.org/event/tag-gegen-einsamkeit-von-losen-fa
	den-zu-bunten-netzen
GEO:49.0013;8.3836
LOCATION:ZKM | Zentrum für Kunst und Medien Karlsruhe - Lorenzstr. 19\, D-7
	6135 Karlsruhe
STATUS:CONFIRMED
CATEGORIES:Art,Care,Workshop
X-ALT-DESC;FMTTYPE=text/html:<p><strong>Am Tag gegen Einsamkeit laden wir h
	erzlich ein, gemeinsam ein Kunstwerk des Miteinanders zu schaffen.</strong
	></p><p>Entstehen wird ein Wandteppich, der Botschaften der Verbundenheit 
	in sich trägt – ob handgeknüpft oder maschinell getuftet: Wir schaffen Rau
	m zum Mitmachen, Austauschen und Vernetzen. Menschen aller Generationen si
	nd eingeladen, ihre Ideen und ihre Kreativität einzubringen. Ziel ist es, 
	ein sichtbares Zeichen für Zusammenhalt zu setzen. Umrahmt von der Ausstel
	lung »<a href="https://zkm.de/de/ausstellung/2024/09/fellow-travellers" ta
	rget="_blank"><strong>Fellow Travellers</strong></a>« zeigen wir das ZKM a
	ls offenen Ort für Begegnungen, Gespräche und gemeinsames Gestalten.</p><p
	>Bitte meldet euch im Foyer an der Infotheke an! Hier bekommt ihr ein Bänd
	chen, um kostenfrei teilzunehmen.</p><p>Eine Veranstaltung im Rahmen der <
	a href="https://www.swr.de/specials/exit-einsamkeit/index.html" target="_b
	lank"><strong>Nacht gegen Einsamkeit</strong></a> des SWR.</p>
BEGIN:VALARM
ACTION:DISPLAY
DESCRIPTION:Tag gegen Einsamkeit: Von losen Fäden zu bunten Netzen
TRIGGER:-PT1H
END:VALARM
END:VEVENT
END:VCALENDAR
