BEGIN:VCALENDAR
VERSION:2.0
CALSCALE:GREGORIAN
PRODID:adamgibbons/ics
METHOD:PUBLISH
X-PUBLISHED-TTL:PT1H
BEGIN:VEVENT
UID:91@keepkarlsruheboring.org
SUMMARY:Tanzareal Workshop mit Martina Gunkel [30-45€]
DTSTAMP:20260423T102552Z
DTSTART:20250607T093000Z
DTEND:20250607T113000Z
DESCRIPTION:Sharing Ground – working with the connection with and through t
	he ground \n\n07. Juni 11:30 bis 14:30 im TanzAreal\n\nIn diesem Workshop 
	fokussieren wir uns auf die Verbindung zum Boden. Durch\nverschiedene Übun
	gen arbeiten wir an unserer Erdung alleine und zu zweit. Wir\nbewegen uns 
	auf verschiedenen Ebenen und arbeiten so an dem Bewusstsein des\nKörpers i
	m Bezug zum Boden\, durch welchen wir die Verbindung zu einander und dem\n
	restlichen Raum herstellen. Mit diesem Bewusstsein gehen wir in die\nImpro
	visationskunst: \n\nWir kreieren einen common ground\, auf dem wir uns mit
	 improvisatorischen Übungen\nbewegen und miteinander verbinden. Es werden 
	verschiedene Übungen aus\nverschiedenen Kontexten der SAAL FREI Plattform 
	für interdisziplinäre\nkünstlerische Improvisation in Stuttgart angewandt.
	 \n\n \n\nINFO\n\n– Level: Open. Vorerfahrung mit Tanzimprovisation voraus
	gesetzt.\n\n– Bitte bringt euch bequeme Kleidung und Wasser mit\n\n– Teiln
	ahmegebühr: 30-45 Euro je nach eigenen Ressourcen\n\n– Anmeldung an worksh
	op@tanzareal.de [workshop@tanzareal.de] bis zum 01.06.2025\n\n \n\nMartina
	 Gunkel (sie/ ihr) (*1995) absolviert ihr TanzTheater Studium an der\nFont
	ys Hochschule der Künste in Tilburg\, den Niederlanden. Seit 2017 ist sie 
	als\nfreischaffende Tänzerin\, Pädagogin und Choreografin in den Niederlan
	den und\nDeutschland tätig. \n\nSeit 2021 ist sie vor allem in der Freien 
	Szene von Stuttgart tätig u.a. in\nProjekten von Instant PIG\, Blomst! und
	 dem Kollektiv multipluralwesen. Sie ist\nTeil des künstlerischen Leitungs
	teams der SAAL FREI Plattform für\ninterdisziplinäre künstlerische Improvi
	sation in Stuttgart. Zusätzlich engagiert\nsie sich in Arbeitsfeldern der 
	Produktion und Kultur- und Tanzvermittlung. Sie\nist ausgebildete Gyrokine
	sis Lehrerin.
URL:https://keepkarlsruheboring.org/event/tanzareal-workshop-mit-martina-gu
	nkel
GEO:49.014;8.35771
LOCATION:Tanzareal Karlsruhe - Hardtstraße 37a\, 76185 Karlsruhe
STATUS:CONFIRMED
CATEGORIES:Art,Dance,Ticket,Workshop
X-ALT-DESC;FMTTYPE=text/html:<p><strong>Sharing Ground&nbsp;–&nbsp;working 
	with the connection with and through the ground&nbsp;</strong></p><p><stro
	ng>07. Juni&nbsp;11:30 bis 14:30 im TanzAreal</strong></p><p>In diesem Wor
	kshop fokussieren wir uns auf die Verbindung zum Boden. Durch verschiedene
	 Übungen arbeiten wir an unserer Erdung alleine und zu zweit. Wir bewegen 
	uns auf verschiedenen Ebenen und arbeiten so an dem Bewusstsein des Körper
	s im Bezug zum Boden, durch welchen wir die Verbindung zu einander und dem
	 restlichen Raum herstellen. Mit diesem Bewusstsein gehen wir in die Impro
	visationskunst:&nbsp;</p><p>Wir kreieren einen&nbsp;<em>common ground,&nbs
	p;</em>auf dem wir uns mit improvisatorischen Übungen bewegen und miteinan
	der verbinden. Es werden verschiedene Übungen aus verschiedenen Kontexten 
	der SAAL FREI Plattform für interdisziplinäre künstlerische Improvisation 
	in Stuttgart angewandt.&nbsp;</p><p>&nbsp;</p><p><strong>INFO</strong></p>
	<p>– Level: Open. Vorerfahrung mit Tanzimprovisation vorausgesetzt.</p><p>
	– Bitte bringt euch bequeme Kleidung und Wasser mit</p><p>– Teilnahmegebüh
	r: 30-45 Euro je nach eigenen Ressourcen</p><p>– Anmeldung an&nbsp;<a href
	="mailto:workshop@tanzareal.de" target="_blank">workshop@tanzareal.de</a>&
	nbsp;bis zum 01.06.2025</p><p>&nbsp;</p><p><strong>Martina Gunkel (sie/ ih
	r)&nbsp;</strong>(*1995) absolviert ihr TanzTheater Studium an der Fontys 
	Hochschule der Künste in Tilburg, den Niederlanden. Seit 2017 ist sie als 
	freischaffende Tänzerin, Pädagogin und Choreografin in den Niederlanden un
	d Deutschland tätig.&nbsp;</p><p>Seit 2021 ist sie vor allem in der Freien
	 Szene von Stuttgart tätig u.a. in Projekten von Instant PIG, Blomst! und 
	dem Kollektiv&nbsp;<em>multipluralwesen.&nbsp;</em>Sie ist Teil des künstl
	erischen Leitungsteams der SAAL FREI Plattform für interdisziplinäre künst
	lerische Improvisation in Stuttgart. Zusätzlich engagiert sie sich in Arbe
	itsfeldern der Produktion und Kultur- und Tanzvermittlung. Sie ist ausgebi
	ldete Gyrokinesis Lehrerin.</p>
BEGIN:VALARM
ACTION:DISPLAY
DESCRIPTION:Tanzareal Workshop mit Martina Gunkel [30-45€]
TRIGGER:-PT1H
END:VALARM
END:VEVENT
END:VCALENDAR
