BEGIN:VCALENDAR
VERSION:2.0
CALSCALE:GREGORIAN
PRODID:adamgibbons/ics
METHOD:PUBLISH
X-PUBLISHED-TTL:PT1H
BEGIN:VEVENT
UID:1226@keepkarlsruheboring.org
SUMMARY:TELL PLAY SHOW-auf der Bühne politisch aktiv werden
DTSTAMP:20260423T090747Z
DTSTART:20260321T090000Z
DTEND:20260322T153000Z
DESCRIPTION:[↓↓ Deutsche Verion unten↓↓]\n\nIn this two-day forum theatre w
	orkshop\, we'll use methods from Augusto Boal's\nTheatre of the Oppressed 
	and David Diamond's Theatre for Living to bring the\nissues that matter to
	 you to the stage. We'll create short scenes about\nsituations of discrimi
	nation that we encounter in our daily lives. The potential\nfor change lie
	s in the conflict on stage: together\, we'll explore solutions to\ndifficu
	lt situations and ultimately be more courageous in trying these solutions\
	nnot only on stage\, but also in real life.\n\n\n\n\nNO THEATRE EXPERIENCE
	 IS NECESSARY.\n\n\n\n\nWHAT EXACTLY IS FORUM THEATRE?\n\n\n\nForum theatr
	e offers an opportunity for creative\, community-based dialogue. The\npiec
	es that emerge from the two- to three-day workshop process are usually qui
	te\nshort\, perhaps two to five minutes long. A great deal can be addresse
	d in that\ntime.\n\nA play is performed in its entirety once\, allowing th
	e audience (in this case\,\nthe rest of the workshop group) to understand 
	the situation and the problems\npresented. The story builds through severa
	l smaller conflicts to a crisis and\nlingers without offering any solution
	s. The play is then performed again\, with\nthe audience able to "freeze" 
	the action at any point where they recognize\n(based on their own experien
	ces) a character struggling with a problem and\nfailing. The audience memb
	er calls out "Stop!"\, enters the performance space\,\nreplaces the charac
	ter whose inner struggle they understand\, and tries out their\nidea for s
	olving the problem.\n\nThe other participants react in their roles\, not t
	o "make it better" or "make it\nworse\," but simply to be authentic and dr
	aw on their own experience. What\nhappens\, and what insights do we gain? 
	Who agrees? Who disagrees? What other\noptions are there? In this way\, we
	 enter into a creative and action-oriented\ndialogue about problems in our
	 lives. The process is fun\, profound\,\nentertaining\, and full of surpri
	ses.\n\nDate and time: March 21 and 22\, 2026\, 10:00 AM to 4:30 PM each d
	ay. Registration\nis required on both days.\n\nParticipants from the 2025 
	workshop are warmly invited to further develop their\nskills. Registration
	 is required via email to: lenafritsche@posteo.de\n\nSpeakers: Lena Fritsc
	he\, head of the theatre group at COLA TAXI OKAY eV and\nJohanna Gremme\, 
	theatre educator\, teaching artist\, director\n\n\n\n/-/-/\n\n\n\nBei dies
	em zweitägigen Forumtheater-Labor bringen wir mit Methoden des Theaters\nd
	er Unterdrückten nach Augusto Boal und dem Theatre for Living von David Di
	amond\ndie Themen auf die Bühne\, die euch bewegen. Wir erstellen kleine S
	zenen über\nSituationen von Diskriminierung\, wie wir sie aus unserem Allt
	ag kennen. Im\nKonflikt auf der Bühne liegt das Potenzial zur Veränderung:
	 Wir erproben\ngemeinsam Lösungen für schwierige Situationen und sind am E
	nde mutiger\, diese\nLösungen nicht nur auf der Bühne\, sondern auch im Le
	ben auszuprobieren.\n\n\nTHEATERERFAHRUNG IST NICHT NOTWENDIG.\n\n\n\n\nWA
	S IST ÜBERHAUPT FORUMTHEATER?\n\n\n\nForumtheater ist eine Gelegenheit für
	 einen kreativen\, gemeinschaftsbasierten\nDialog. Die Stücke\, die aus de
	m zwei- bis dreitägigen Workshop-Prozess\nhervorgehen\, sind in der Regel 
	recht kurz\, vielleicht 2 bis 5 Minuten lang. In\ndieser Zeit kann eine Me
	nge behandelt werden.\n\nEin Stück wird einmal komplett aufgeführt\, so da
	ss das Publikum (i.d.F. der Rest\nder Workshopgruppe) die Situation und di
	e dargestellten Probleme nachvollziehen\nkann. Die Geschichte steigert sic
	h über mehrere kleinere Konflikte bis zu einer\nKrise und hält an\, ohne L
	ösungen anzubieten. Das Stück wird dann noch einmal\naufgeführt\, wobei di
	e Zuschauer:innen die Handlung an jeder Stelle „einfrieren“\nkönnen\, an d
	er sie (aufgrund ihrer eigenen Erfahrungen) eine Figur erkennen\, die\nver
	sucht\, mit einem Problem umzugehen und dabei scheitert. Die Zuschauerin r
	uft\n„Stopp!“\, betritt die Spielfläche\, ersetzt die Figur\, deren (Mit-S
	ich-)Ringen\nsie versteht\, und probiert ihre Idee zur Lösung des Problems
	 aus.\n\nDie anderen Akteur:innen reagieren in ihrer Rolle\, nicht um „es 
	besser zu\nmachen“\, nicht um „es schlechter zu machen“\, sondern einfach\
	, um wahrhaftig zu\nsein und sich auf ihre eigene Erfahrung zu stützen. Wa
	s passiert und welche\nErkenntnisse haben wir? Wer stimmt zu? Wer ist ande
	rer Meinung? Welche anderen\nOptionen gibt es? Auf diese Weise treten wir 
	in einen kreativen und\nhandlungsorientierten Dialog über Probleme in unse
	rem Leben. Der Prozess ist\nlustig\, tiefgründig\, unterhaltsam und voller
	 Überraschungen.\n\nDatum und Uhrzeit: 21. und 22. März 2026\, jeweils 10.
	00 bis 16:30 Uhr Die\nAnmeldung an beiden Tagen ist erforderlich.\n\nTeiln
	ehmende vom Workshop 2025 sind herzlich willkommen\, um ihre Erfahrungen\n
	weiter auszubauen. Anmeldung erforderlich per Mail an: lenafritsche@posteo
	.de\n\nReferentinnen: Lena Fritsche\, Leitung der Theatergruppe in COLA TA
	XI OKAY e.V.\nund Johanna Gremme\,Theaterpädagogin\, Teaching Artist\, Reg
	isseurin
URL:https://keepkarlsruheboring.org/event/tell-play-show-auf-der-buhne-poli
	tisch-aktiv-werden
GEO:49.0082;8.40959
LOCATION:COLA TAXI OKAY - 25\, Kronenstraße\, Innenstadt-Ost Südwestlicher 
	Teil\, Innenstadt-Ost\, Karlsruhe\, Baden-Württemberg\, 76133\, Deutschlan
	d
STATUS:CONFIRMED
CATEGORIES:Anti-Racism,Internationalen Wochen gegen Rassismus,Registration 
	required,Theater,Theaterforum
X-ALT-DESC;FMTTYPE=text/html:<p>[↓↓ Deutsche Verion unten↓↓]</p><p>In this 
	two-day forum theatre workshop, we'll use methods from Augusto Boal's Thea
	tre of the Oppressed and David Diamond's Theatre for Living to bring the i
	ssues that matter to you to the stage. We'll create short scenes about sit
	uations of discrimination that we encounter in our daily lives. The potent
	ial for change lies in the conflict on stage: together, we'll explore solu
	tions to difficult situations and ultimately be more courageous in trying 
	these solutions not only on stage, but also in real life.</p><p></p><h2><s
	trong><u>No</u></strong> theatre experience is necessary.</h2><p></p><h2><
	em>What exactly is forum theatre?</em></h2><p></p><p>Forum theatre offers 
	an opportunity for creative, community-based dialogue. The pieces that eme
	rge from the two- to three-day workshop process are usually quite short, p
	erhaps two to five minutes long. A great deal can be addressed in that tim
	e.</p><p>A play is performed in its entirety once, allowing the audience (
	in this case, the rest of the workshop group) to understand the situation 
	and the problems presented. The story builds through several smaller confl
	icts to a crisis and lingers without offering any solutions. The play is t
	hen performed again, with the audience able to "freeze" the action at any 
	point where they recognize (based on their own experiences) a character st
	ruggling with a problem and failing. The audience member calls out "Stop!"
	, enters the performance space, replaces the character whose inner struggl
	e they understand, and tries out their idea for solving the problem.</p><p
	>The other participants react in their roles, not to "make it better" or "
	make it worse," but simply to be authentic and draw on their own experienc
	e. What happens, and what insights do we gain? Who agrees? Who disagrees? 
	What other options are there? In this way, we enter into a creative and ac
	tion-oriented dialogue about problems in our lives. The process is fun, pr
	ofound, entertaining, and full of surprises.</p><p><strong>Date and time: 
	March 21 and 22, 2026, 10:00 AM to 4:30 PM each day. Registration is requi
	red on both days.</strong></p><p><em>Participants from the 2025 workshop a
	re warmly invited to further develop their skills. </em><strong><em>Regist
	ration is required via email to: lenafritsche@posteo.de</em></strong></p><
	p>Speakers: Lena Fritsche, head of the theatre group at COLA TAXI OKAY eV 
	and Johanna Gremme, theatre educator, teaching artist, director</p><p></p>
	<p>/-/-/</p><p></p><p>Bei diesem zweitägigen Forumtheater-Labor bringen wi
	r mit Methoden des Theaters der Unterdrückten nach Augusto Boal und dem Th
	eatre for Living von David Diamond die Themen auf die Bühne, die euch bewe
	gen. Wir erstellen kleine Szenen über Situationen von Diskriminierung, wie
	 wir sie aus unserem Alltag kennen. Im Konflikt auf der Bühne liegt das Po
	tenzial zur Veränderung: Wir erproben gemeinsam Lösungen für schwierige Si
	tuationen und sind am Ende mutiger, diese Lösungen nicht nur auf der Bühne
	, sondern auch im Leben auszuprobieren.</p><h2>Theatererfahrung ist <stron
	g><u>nicht</u></strong> notwendig.</h2><p></p><h2><em>Was ist überhaupt Fo
	rumtheater?</em></h2><p></p><p>Forumtheater ist eine Gelegenheit für einen
	 kreativen, gemeinschaftsbasierten Dialog. Die Stücke, die aus dem zwei- b
	is dreitägigen Workshop-Prozess hervorgehen, sind in der Regel recht kurz,
	 vielleicht 2 bis 5 Minuten lang. In dieser Zeit kann eine Menge behandelt
	 werden.</p><p>Ein Stück wird einmal komplett aufgeführt, so dass das Publ
	ikum (i.d.F. der Rest der Workshopgruppe) die Situation und die dargestell
	ten Probleme nachvollziehen kann. Die Geschichte steigert sich über mehrer
	e kleinere Konflikte bis zu einer Krise und hält an, ohne Lösungen anzubie
	ten. Das Stück wird dann noch einmal aufgeführt, wobei die Zuschauer:innen
	 die Handlung an jeder Stelle „einfrieren“ können, an der sie (aufgrund ih
	rer eigenen Erfahrungen) eine Figur erkennen, die versucht, mit einem Prob
	lem umzugehen und dabei scheitert. Die Zuschauerin ruft „Stopp!“, betritt 
	die Spielfläche, ersetzt die Figur, deren (Mit-Sich-)Ringen sie versteht, 
	und probiert ihre Idee zur Lösung des Problems aus.</p><p>Die anderen Akte
	ur:innen reagieren in ihrer Rolle, nicht um „es besser zu machen“, nicht u
	m „es schlechter zu machen“, sondern einfach, um wahrhaftig zu sein und si
	ch auf ihre eigene Erfahrung zu stützen. Was passiert und welche Erkenntni
	sse haben wir? Wer stimmt zu? Wer ist anderer Meinung? Welche anderen Opti
	onen gibt es? Auf diese Weise treten wir in einen kreativen und handlungso
	rientierten Dialog über Probleme in unserem Leben. Der Prozess ist lustig,
	 tiefgründig, unterhaltsam und voller Überraschungen.</p><p><strong>Datum 
	und Uhrzeit: 21. und 22. März 2026, jeweils 10.00 bis 16:30 Uhr Die Anmeld
	ung an beiden Tagen ist erforderlich.</strong></p><p><em>Teilnehmende vom 
	Workshop 2025 sind herzlich willkommen, um ihre Erfahrungen weiter auszuba
	uen. </em><strong><em>Anmeldung erforderlich per Mail an: lenafritsche@pos
	teo.de</em></strong></p><p>Referentinnen: Lena Fritsche, Leitung der Theat
	ergruppe in COLA TAXI OKAY e.V. und Johanna Gremme,Theaterpädagogin, Teach
	ing Artist, Regisseurin</p>
BEGIN:VALARM
ACTION:DISPLAY
DESCRIPTION:TELL PLAY SHOW-auf der Bühne politisch aktiv werden
TRIGGER:-PT1H
END:VALARM
END:VEVENT
END:VCALENDAR
