BEGIN:VCALENDAR
VERSION:2.0
CALSCALE:GREGORIAN
PRODID:adamgibbons/ics
METHOD:PUBLISH
X-PUBLISHED-TTL:PT1H
BEGIN:VEVENT
UID:479@keepkarlsruheboring.org
SUMMARY:TEVANA feat. Marina Paje & Arturo Ramón [29\,20 €]
DTSTAMP:20260423T104722Z
DTSTART:20251031T190000Z
DESCRIPTION:Energetisches Flamenco Performance\n\nZu einer innovativen Zusa
	mmenarbeit lädt Tevana die international renommierte\nFlamenco-Tänzerin Ma
	rina Paje aus Barcelona und den grandiosen\nFlamenco-Gitarristen Arturo Ra
	món aus Den Haag ein.\n\nZur ersten\,Begegnung der Tevana-Musiker mit Mari
	na Paje und Arturo Ramón kam es\nin der Flamenco-Biennale in den Niederlan
	den. In einer magischen Session\nentstand die Idee\, eine Fusion von bunte
	n Tevana-Kompositionen und der\nkraftvollen Flamenco-Energie von Marina un
	d Arturo auf die Bühne zu bringen.\nIhre Performance ist mitreißend\, gren
	züberschreitend und vor allem eins:\nausgesprochen rhythmisch. Die Kunst d
	er Improvisation und Interaktion zwischen\nden Musikern und der Tänzerin w
	ird eindrucksvoll zu erleben sein.\n\nMit atemberaubender Virtuosität und 
	spielerischer Leichtigkeit\, getragen von\ntiefer Musikalität und Spontane
	ität\, grooven Ingvo Clauder und Claudio Spieler\nlustvoll in ihrem urbane
	n Klanggarten umher. Tevana bedeutet in der altindischen\nSprache Sanskrit
	 „Garten des Spiels und der Freude“. Somit bedeutet tevana die\nEssenz des
	 musikalischen Zusammentreffens von Ingvo Clauder und Claudio Spieler\n- n
	ämlich unerschöpfliche Spielfreude in einem Garten voller Überraschungen.
URL:https://keepkarlsruheboring.org/event/tevana-feat-marina-paje-and-artur
	o-ramon
GEO:49.0135;8.35882
LOCATION:Kulturzentrum Tempel - Kulturverein Tempel e.V. im Kulturzentrum T
	empel Hardtstraße 37 A D-76185 Karlsruhe
STATUS:CONFIRMED
CATEGORIES:Dance,Flamenco,Ticket
X-ALT-DESC;FMTTYPE=text/html:<p><strong>Energetisches Flamenco Performance<
	/strong></p><p>Zu einer innovativen Zusammenarbeit lädt Tevana die interna
	tional renommierte Flamenco-Tänzerin Marina Paje aus Barcelona und den gra
	ndiosen Flamenco-Gitarristen Arturo Ramón aus Den Haag ein.</p><p>Zur erst
	en,Begegnung der Tevana-Musiker mit Marina Paje und Arturo Ramón kam es in
	 der Flamenco-Biennale in den Niederlanden. In einer magischen Session ent
	stand die Idee, eine Fusion von bunten Tevana-Kompositionen und der kraftv
	ollen Flamenco-Energie von Marina und Arturo auf die Bühne zu bringen. Ihr
	e Performance ist mitreißend, grenzüberschreitend und vor allem eins: ausg
	esprochen rhythmisch. Die Kunst der Improvisation und Interaktion zwischen
	 den Musikern und der Tänzerin wird eindrucksvoll zu erleben sein.</p><p>M
	it atemberaubender Virtuosität und spielerischer Leichtigkeit, getragen vo
	n tiefer Musikalität und Spontaneität, grooven Ingvo Clauder und Claudio S
	pieler lustvoll in ihrem urbanen Klanggarten umher. Tevana bedeutet in der
	 altindischen Sprache Sanskrit „Garten des Spiels und der Freude“. Somit b
	edeutet tevana die Essenz des musikalischen Zusammentreffens von Ingvo Cla
	uder und Claudio Spieler - nämlich unerschöpfliche Spielfreude in einem Ga
	rten voller Überraschungen.</p>
BEGIN:VALARM
ACTION:DISPLAY
DESCRIPTION:TEVANA feat. Marina Paje & Arturo Ramón [29,20 €]
TRIGGER:-PT1H
END:VALARM
END:VEVENT
END:VCALENDAR
