BEGIN:VCALENDAR
VERSION:2.0
CALSCALE:GREGORIAN
PRODID:adamgibbons/ics
METHOD:PUBLISH
X-PUBLISHED-TTL:PT1H
BEGIN:VEVENT
UID:766@keepkarlsruheboring.org
SUMMARY:The Dharma Chain + MØRF
DTSTAMP:20260423T102208Z
DTSTART:20260208T180000Z
DTEND:20260208T200000Z
DESCRIPTION:𝗧𝗵𝗲 𝗗𝗵𝗮𝗿𝗺𝗮 𝗖𝗵𝗮𝗶𝗻\, formed in 2020 in Byron Bay and now based in
	\nBerlin\, is known for delivering captivating live performances that blen
	d\nethereal and at times offensive guitars\, reverb-soaked vocals\, indust
	rial\nundercurrents\, and atmospheric synth textures. Their sound is ever-
	evolving\,\nwith roles constantly shifting between members\, allowing mult
	iple singers and\nguitarists to create a dynamic\, unpredictable live expe
	rience. This fluid\napproach ensures that each performance feels like a ne
	w journey\, built on the\ncollaborative energy that drives their music. In
	 2022\, after relocating to\nBerlin\, TDC signed with Anomic Records and r
	eleased their debut studio album\,\nNOWHERE\, showcasing their unique soun
	d. 𝗠Ø𝗥𝗙 : Das Karlsruher Trio\, ist seit\n2013 im Stoner- und Desertrock-Z
	irkus unterwegs ist. Mit ihrem druckvollen\nRhythmus und ihren eingängigen
	 Melodien sind MØRF bereit\, ihre Hörerschaft auf\neine Reise in die Endlo
	sigkeit der Wüste zu führen. Ihr Sound ist eine Hommage\nan die Wildnis un
	d die Freiheit – ein Sound\, der tief im Herzen verwurzelt ist.
URL:https://keepkarlsruheboring.org/event/the-dharma-chain-morf
GEO:48.989;8.37185
LOCATION:P8 - Schauenburgstraße 5\, 76135 Karlsruhe
STATUS:CONFIRMED
CATEGORIES:karlsrunruhe,test
X-ALT-DESC;FMTTYPE=text/html:𝗧𝗵𝗲 𝗗𝗵𝗮𝗿𝗺𝗮 𝗖𝗵𝗮𝗶𝗻, formed in 2020 in Byron Bay 
	and now based in Berlin, is known for delivering captivating live performa
	nces that blend ethereal and at times offensive guitars, reverb-soaked voc
	als, industrial undercurrents, and atmospheric synth textures. Their sound
	 is ever-evolving, with roles constantly shifting between members, allowin
	g multiple singers and guitarists to create a dynamic, unpredictable live 
	experience. This fluid approach ensures that each performance feels like a
	 new journey, built on the collaborative energy that drives their music. I
	n 2022, after relocating to Berlin, TDC signed with Anomic Records and rel
	eased their debut studio album, NOWHERE, showcasing their unique sound.<br
	><br>𝗠Ø𝗥𝗙 : Das Karlsruher Trio, ist seit 2013 im Stoner- und Desertrock-Z
	irkus unterwegs ist. Mit ihrem druckvollen Rhythmus und ihren eingängigen 
	Melodien sind MØRF bereit, ihre Hörerschaft auf eine Reise in die Endlosig
	keit der Wüste zu führen. Ihr Sound ist eine Hommage an die Wildnis und di
	e Freiheit – ein Sound, der tief im Herzen verwurzelt ist. <br>
BEGIN:VALARM
ACTION:DISPLAY
DESCRIPTION:The Dharma Chain + MØRF
TRIGGER:-PT1H
END:VALARM
END:VEVENT
END:VCALENDAR
