BEGIN:VCALENDAR
VERSION:2.0
CALSCALE:GREGORIAN
PRODID:adamgibbons/ics
METHOD:PUBLISH
X-PUBLISHED-TTL:PT1H
BEGIN:VEVENT
UID:132@keepkarlsruheboring.org
SUMMARY:The Perspective Shifts – Non-human Perception Workshop
DTSTAMP:20260423T085947Z
DTSTART:20250913T100000Z
DTEND:20250913T190000Z
DESCRIPTION:[↓ English version below ↓]\n\n\n\nIdeal Spaces und Künstler*in
	 Desiree Kabis präsentieren den Workshop „The\nPerspective Shifts – Non-hu
	man Perception Workshop”\n\nSamstag\, 13.09.2025 \n12:00 Uhr – Sonnenunter
	gang\nOFFLINE EVENT\n\nIdeal Spaces Stiftung\, Nesslerstr. 16\, 76227 Karl
	sruhe\nTeilnahme kostenlos. Spenden für Materialkosten erbeten.\n\n\n\nWir
	 besinnen uns zurück zu unseren Wurzeln – aus der Sicht der Bäume im\nStif
	tungsgarten lernen wir die verloren geglaubte Kunst des Erzählens.\nIn kle
	inen Gruppen entwickeln wir visuelle Geschichten\, die nach Sonnenuntergan
	g\nden Garten mit Projektionen füllen werden.\n\nGemeinsam lernen wir\, de
	r Natur näher zu kommen\, indem wir mit unseren Sinnen\nden Raum des Garte
	ns erkunden und aus der Sicht der Bäume Geschichten erzählen.\nDie Themen 
	der Geschichten werden mithilfe der Stiftungsbibliothek in einem\nkreative
	n Prozess ausgewählt. Bei Sonnenuntergang erzählen wir unsere im\nWorkshop
	 erarbeiteten Geschichten durch Bilder\, die wir über den Tag gesammelt\nu
	nd erstellt haben.\n\nZum achtsamen und präsenten Dasein ist der Workshop 
	handyfrei\, also „unplugged“.\n\nVerpflegung und Material werden bereitges
	tellt. Teilnehmende dürfen gerne eigene\nMaterialien mitbringen (Pinsel\, 
	Stifte\, Farben\, Geräte\, Instrumente\, …).\n\nDie Teilnehmerzahl ist beg
	renzt. Deshalb bitten wir um verbindliche Anmeldung\nbis zum 13. August 20
	25 an: hello@dkabis.de [hello@dkabis.de]\n\nMit der Anmeldung erklären sic
	h die Teilnehmenden damit einverstanden\, dass die\nVeranstaltung gefilmt 
	wird und Ausschnitte durch Ideal Spaces veröffentlicht\nwerden.\n\nLink zu
	r Veranstaltung:\nhttps://www.cityofmediaarts.de/de/events/the-perspective
	-shifts-non-human-perception-workshop/\n[https://www.cityofmediaarts.de/de
	/events/the-perspective-shifts-non-human-perception-workshop/]\n\n / - / -
	 /\n\nA workshop presented by Ideal Spaces and Desiree Kabis\n\nA day dedi
	cated to shifting perspectives: In the garden of the Ideal Spaces\nFoundat
	ion [https://www.cityofmediaarts.de/en/board/ideal-spaces/]\, non-human\np
	erception takes center stage. Trees become storytellers\, the garden trans
	forms\ninto a space of narrative. In small groups\, participants develop v
	isual stories\nthat will be brought to life through projections at sunset.
	\n\nThe creative process begins with a sensory exploration of the garden. 
	Story\nthemes emerge through a deep connection to the environment and insp
	iration drawn\nfrom the foundation’s library. Throughout the day\, partici
	pants collect\nmaterials and create images that will become part of a shar
	ed evening\npresentation.\n\nFood and basic materials will be provided. Pa
	rticipants are welcome to bring\ntheir own creative tools such as paints\,
	 pens\, brushes\, equipment\, or\ninstruments.\n\nSaturday\, September 13\
	, 2025\n12:00 p.m. until sunset\nIdeal Spaces Foundation\, Nesslerstraße 1
	6\, 76227 Karlsruhe\nFree participation – donations for material costs wel
	come\nOffline\, phone-free event\n\n
URL:https://keepkarlsruheboring.org/event/the-perspective-shifts-non-human-
	perception-workshop
GEO:49.0028;8.49132
LOCATION:Ideal Spaces Stiftung - Nesslerstr. 16\, 76227 Karlsruhe
STATUS:CONFIRMED
CATEGORIES:Art,Culture,Ecology,Nature,Registration required,Workshop
X-ALT-DESC;FMTTYPE=text/html:<p>[↓ English version below ↓]</p><p></p><p>Id
	eal Spaces und Künstler*in Desiree Kabis präsentieren den Workshop „The Pe
	rspective Shifts – Non-human Perception Workshop”<br><br><strong>Samstag, 
	13.09.2025&nbsp;<br>12:00 Uhr – Sonnenuntergang<br>OFFLINE EVENT</strong><
	/p><p>Ideal Spaces Stiftung, Nesslerstr. 16, 76227 Karlsruhe<br>Teilnahme 
	kostenlos. Spenden für Materialkosten erbeten.</p><p></p><p>Wir besinnen u
	ns zurück zu unseren Wurzeln – aus der Sicht der Bäume im Stiftungsgarten 
	lernen wir die verloren geglaubte Kunst des Erzählens.<br>In kleinen Grupp
	en entwickeln wir visuelle Geschichten, die nach Sonnenuntergang den Garte
	n mit Projektionen füllen werden.</p><p>Gemeinsam lernen wir, der Natur nä
	her zu kommen, indem wir mit unseren Sinnen den Raum des Gartens erkunden 
	und aus der Sicht der Bäume Geschichten erzählen. Die Themen der Geschicht
	en werden mithilfe der Stiftungsbibliothek in einem kreativen Prozess ausg
	ewählt. Bei Sonnenuntergang erzählen wir unsere im Workshop erarbeiteten G
	eschichten durch Bilder, die wir über den Tag gesammelt und erstellt haben
	.</p><p>Zum achtsamen und präsenten Dasein ist der Workshop handyfrei, als
	o „unplugged“.</p><p>Verpflegung und Material werden bereitgestellt. Teiln
	ehmende dürfen gerne eigene Materialien mitbringen (Pinsel, Stifte, Farben
	, Geräte, Instrumente, …).</p><p>Die Teilnehmerzahl ist begrenzt. Deshalb 
	bitten wir um verbindliche Anmeldung bis zum 13. August 2025 an: <a href="
	mailto:hello@dkabis.de" target="_blank"><u>hello@dkabis.de</u></a></p><p>M
	it der Anmeldung erklären sich die Teilnehmenden damit einverstanden, dass
	 die Veranstaltung gefilmt wird und Ausschnitte durch Ideal Spaces veröffe
	ntlicht werden.</p><p>Link zur Veranstaltung: <a href="https://www.cityofm
	ediaarts.de/de/events/the-perspective-shifts-non-human-perception-workshop
	/" target="_blank">https://www.cityofmediaarts.de/de/events/the-perspectiv
	e-shifts-non-human-perception-workshop/</a></p><p>&nbsp;/ - / - /</p><p><s
	trong>A workshop presented by Ideal Spaces and Desiree Kabis</strong></p><
	p>A day dedicated to shifting perspectives: In the garden of the <a href="
	https://www.cityofmediaarts.de/en/board/ideal-spaces/" target="_blank">Ide
	al Spaces Foundation</a>, non-human perception takes center stage. Trees b
	ecome storytellers, the garden transforms into a space of narrative. In sm
	all groups, participants develop visual stories that will be brought to li
	fe through projections at sunset.</p><p>The creative process begins with a
	 sensory exploration of the garden. Story themes emerge through a deep con
	nection to the environment and inspiration drawn from the foundation’s lib
	rary. Throughout the day, participants collect materials and create images
	 that will become part of a shared evening presentation.</p><p>Food and ba
	sic materials will be provided. Participants are welcome to bring their ow
	n creative tools such as paints, pens, brushes, equipment, or instruments.
	</p><p><strong>Saturday, September 13, 2025</strong><br><strong>12:00 p.m.
	 until sunset</strong><br><strong>Ideal Spaces Foundation, Nesslerstraße 1
	6, 76227 Karlsruhe</strong><br><strong>Free participation – donations for 
	material costs welcome</strong><br><strong>Offline, phone-free event</stro
	ng></p><p></p>
BEGIN:VALARM
ACTION:DISPLAY
DESCRIPTION:The Perspective Shifts – Non-human Perception Workshop
TRIGGER:-PT1H
END:VALARM
END:VEVENT
END:VCALENDAR
