BEGIN:VCALENDAR
VERSION:2.0
CALSCALE:GREGORIAN
PRODID:adamgibbons/ics
METHOD:PUBLISH
X-PUBLISHED-TTL:PT1H
BEGIN:VEVENT
UID:142@keepkarlsruheboring.org
SUMMARY:THE SPIRIT – Sounds & Visuals – JAZZ FÜR DIE SINNE
DTSTAMP:20260423T115257Z
DTSTART:20250908T180000Z
DTEND:20250908T203000Z
DESCRIPTION:THE SPIRIT – SOUNDS & VISUALS – JAZZ FÜR DIE SINNE\n[https://ww
	w.jazzclub.de/event/thespirit/]\n\nMontag\, 8. September 2025 um 20:00 am 
	Schloß Karlsruhe\n\nEintritt: freier Eintritt\n\nMusiker Tommy Baldu und M
	edienkünstler haegar vereinen Musikalität und visuelle\nKunst. In meditati
	ven Klängen gehen sie den Sinnfragen des Lebens\, der Liebe\,\ndem Leiden 
	bis hin zur Findung des Glücks in einer persönlichen Geschichte nach.\nBal
	du produziert einzelne Sound- und Song-Fragmente\, die live eingespielt vo
	n\nihm auf unterschiedlichen Instrumenten untermalt und zu einer vielschic
	htigen\nKlangwelt komplettiert werden. Drums\, Gitarren und sphärische Sou
	nds werden\ngepaart mit abstrakten Video-Projektionen auf eine überdimensi
	onale Kugel. Das\nPublikum wird in diesem Trance-ähnlichen Live-Kino-Erleb
	nis in einen\naudio-visuellen Rausch gezogen\, der mal zum Träumen anregt\
	, manchmal aber auch\naufbrausend und irritierend wirken darf. Für diesen 
	besonderen Anlass vor dem\nSchloss Karlsruhe\, bekommt das Duo Unterstützu
	ng des Saiten-Künstlers Ómar\nGuõjónsson.\n\nSounds\, Drums\, Gitarre: Tom
	my Baldu\nVisuals: haegar\nSpecial guest: Ómar Guõjónsson
URL:https://keepkarlsruheboring.org/event/the-spirit-sounds-and-visuals-jaz
	z-fur-die-sinne
GEO:49.0111;8.40413
LOCATION:Karlsruhe Schlossplatz - Schlossplatz\, Innenstadt-West Östlicher 
	Teil\, Innenstadt-West\, Karlsruhe\, Baden-Württemberg\, 76131\, Deutschla
	nd
STATUS:CONFIRMED
CATEGORIES:Jazz,Music
X-ALT-DESC;FMTTYPE=text/html:<h2><a href="https://www.jazzclub.de/event/the
	spirit/" target="_blank">THE SPIRIT – Sounds &amp; Visuals – JAZZ FÜR DIE 
	SINNE</a></h2><p>Montag, 8. September 2025 um 20:00 am Schloß Karlsruhe</p
	><p>Eintritt: freier Eintritt</p><p>Musiker Tommy Baldu und Medienkünstler
	 haegar vereinen Musikalität und visuelle Kunst. In meditativen Klängen ge
	hen sie den Sinnfragen des Lebens, der Liebe, dem Leiden bis hin zur Findu
	ng des Glücks in einer persönlichen Geschichte nach. Baldu produziert einz
	elne Sound- und Song-Fragmente, die live eingespielt von ihm auf unterschi
	edlichen Instrumenten untermalt und zu einer vielschichtigen Klangwelt kom
	plettiert werden. Drums, Gitarren und sphärische Sounds werden gepaart mit
	 abstrakten Video-Projektionen auf eine überdimensionale Kugel. Das Publik
	um wird in diesem Trance-ähnlichen Live-Kino-Erlebnis in einen audio-visue
	llen Rausch gezogen, der mal zum Träumen anregt, manchmal aber auch aufbra
	usend und irritierend wirken darf. Für diesen besonderen Anlass vor dem Sc
	hloss Karlsruhe, bekommt das Duo Unterstützung des Saiten-Künstlers Ómar G
	uõjónsson.</p><p>Sounds, Drums, Gitarre: Tommy Baldu<br>Visuals: haegar<br
	>Special guest: Ómar Guõjónsson</p>
BEGIN:VALARM
ACTION:DISPLAY
DESCRIPTION:THE SPIRIT – Sounds & Visuals – JAZZ FÜR DIE SINNE
TRIGGER:-PT1H
END:VALARM
END:VEVENT
END:VCALENDAR
