BEGIN:VCALENDAR
VERSION:2.0
CALSCALE:GREGORIAN
PRODID:adamgibbons/ics
METHOD:PUBLISH
X-PUBLISHED-TTL:PT1H
BEGIN:VEVENT
UID:481@keepkarlsruheboring.org
SUMMARY:Familientheater: Theater Ulüm [15 /10 €]
DTSTAMP:20260423T114853Z
DTSTART:20251101T160000Z
DESCRIPTION:"Sind Sie Ausländer? Nein\, ich bin Türke!"\n\nDas Theater Ulüm
	 betrachtet Alltagsprobleme in Deutschland: Gezeigt wird wie\nVielfalt\, D
	iskriminierung und Menschenrechte in der Gesellschaft mit den Augen\nder t
	ypischen deutschtürkischen Familie Dasch gesehen werden. Die Komödie\nsens
	ibilisiert und regt zum Nachdenken an. Gleichzeitig bietet sie Spaß und\nV
	ieles zu lachen. \n\nEinlass: 16.30h\nPreis 15:00€ / 10:00€ \n\nKartenrese
	rvierung Tel: 0173-9530875\, E-Mail: info@uluem.de  [info@uluem.de]
URL:https://keepkarlsruheboring.org/event/theater-ulum
GEO:49.0135;8.35882
LOCATION:Kulturzentrum Tempel - Kulturverein Tempel e.V. im Kulturzentrum T
	empel Hardtstraße 37 A D-76185 Karlsruhe
STATUS:CONFIRMED
CATEGORIES:Anti-discrimination,Kids,Theater,Ticket
X-ALT-DESC;FMTTYPE=text/html:<p><strong>"Sind Sie Ausländer? Nein, ich bin 
	Türke!"</strong></p><p>Das Theater Ulüm betrachtet Alltagsprobleme in Deut
	schland: Gezeigt wird wie Vielfalt, Diskriminierung und Menschenrechte in 
	der Gesellschaft mit den Augen der typischen deutschtürkischen Familie Das
	ch gesehen werden. Die Komödie sensibilisiert und regt zum Nachdenken an. 
	Gleichzeitig bietet sie Spaß und Vieles zu lachen.&nbsp;</p><p>Einlass: 16
	.30h<br>Preis 15:00€ / 10:00€&nbsp;</p><p>Kartenreservierung Tel: 0173-953
	0875, E-Mail: <a href="mailto:info@uluem.de" target="_blank">info@uluem.de
	&nbsp;</a></p>
BEGIN:VALARM
ACTION:DISPLAY
DESCRIPTION:Familientheater: Theater Ulüm [15 /10 €]
TRIGGER:-PT1H
END:VALARM
END:VEVENT
END:VCALENDAR
