BEGIN:VCALENDAR
VERSION:2.0
CALSCALE:GREGORIAN
PRODID:adamgibbons/ics
METHOD:PUBLISH
X-PUBLISHED-TTL:PT1H
BEGIN:VEVENT
UID:1223@keepkarlsruheboring.org
SUMMARY:Together we play – gemeinsam Kicken gegen Rassismus
DTSTAMP:20260423T090647Z
DTSTART:20260322T100000Z
DTEND:20260322T150000Z
DESCRIPTION:[↓↓ Deutsche Version unten ↓↓]\n\nTogether we play – Kicking to
	gether against racism\n– open football tournament by Nubian Family eV and 
	Karlsruher FV –\nSunday\, March 22\, 2026\,\n11:00 AM to 4:00 PM (doors op
	en at 10:00 AM).\nWhere? Sports hall of the Anne Frank School (Bonhoeffers
	traße 12\, 76189\nKarlsruhe).\nWhat? For young and old – no registration r
	equired – just come along (teams will\nbe formed on site – separate kids' 
	teams).\nFree\nfood & drinks available on a donation basis.\nRefugees welc
	ome.\n\n/-/-/\n\nTogether we play – gemeinsam Kicken gegen Rassismus\n– of
	fenes Fusballturnier von Nubian Family e.V. und dem Karlsruher FV –\nSonnt
	ag\, den 22.03.2026\n11 bis max. 16 Uhr Start (Einlass ab 10 Uhr)\nWo? Spo
	rthalle der Anne Frank Schule (Bonhoefferstraße 12\, 76189 Karlsruhe)\nWas
	? Für Jung und Alt – ohne Anmeldung – einfach vorbeikommen (Mannschaften\n
	werden vor Ort erstellt – separate Kidsteams)\nkostenlos\nEssen & Trinken 
	auf Spendenbasis\nRefugees welcome
URL:https://keepkarlsruheboring.org/event/together-we-play-gemeinsam-kicken
	-gegen-rassismus
GEO:48.988;8.36541
LOCATION:Anne-Frank-Schule - 12\, Bonhoefferstraße\, Oberreut Feldlage\, Ob
	erreut\, Karlsruhe\, Baden-Württemberg\, 76189\, Deutschland
STATUS:CONFIRMED
CATEGORIES:Anti-Racism,Fußball,Internationalen Wochen gegen Rassismus,Sport
X-ALT-DESC;FMTTYPE=text/html:<p>[↓↓ Deutsche Version unten ↓↓]</p><p>Togeth
	er we play – Kicking together against racism <br> – open football tourname
	nt by Nubian Family eV and Karlsruher FV – <br> Sunday, March 22, 2026, <b
	r> 11:00 AM to 4:00 PM (doors open at 10:00 AM). <br> Where? Sports hall o
	f the Anne Frank School (Bonhoefferstraße 12, 76189 Karlsruhe). <br> What?
	 For young and old – no registration required – just come along (teams wil
	l be formed on site – separate kids' teams). <br> Free <br> food &amp; dri
	nks available on a donation basis. <br> Refugees welcome.</p><p>/-/-/</p><
	p>Together we play – gemeinsam Kicken gegen Rassismus<br>– offenes Fusball
	turnier von Nubian Family e.V. und dem Karlsruher FV –<br>Sonntag, den 22.
	03.2026<br>11 bis max. 16 Uhr Start (Einlass ab 10 Uhr)<br>Wo? Sporthalle 
	der Anne Frank Schule (Bonhoefferstraße 12, 76189 Karlsruhe)<br>Was? Für J
	ung und Alt – ohne Anmeldung – einfach vorbeikommen (Mannschaften werden v
	or Ort erstellt – separate Kidsteams)<br>kostenlos<br>Essen &amp; Trinken 
	auf Spendenbasis<br>Refugees welcome</p>
BEGIN:VALARM
ACTION:DISPLAY
DESCRIPTION:Together we play – gemeinsam Kicken gegen Rassismus
TRIGGER:-PT1H
END:VALARM
END:VEVENT
END:VCALENDAR
