BEGIN:VCALENDAR
VERSION:2.0
CALSCALE:GREGORIAN
PRODID:adamgibbons/ics
METHOD:PUBLISH
X-PUBLISHED-TTL:PT1H
BEGIN:VEVENT
UID:836@keepkarlsruheboring.org
SUMMARY:Treffen der Arbeitsgruppe „Küche & Theke"
DTSTAMP:20260423T104721Z
DTSTART:20260305T180000Z
DTEND:20260305T200000Z
DESCRIPTION:Um alle im Team auf den aktuellsten Stand zu bringen\, bitten w
	ir um Teilnahme\nmöglichst aller Teammitglieder!\n\nAm 05.03.2025\, ab 19:
	00 Uhr findet im Queeren Zentrum das nächste Treffen der\nneuen Arbeitsgru
	ppe „Küche&Theke“ statt.\n\nUm den regelmäßigen Betrieb des Queeren Zentru
	ms zu gewährleisten benötigen wir\nviele fleißige Hände\, denn dort werden
	 wir auch Getränke und kleinere Snacks\nausgeben.\n\nDie Arbeitsgruppe „Kü
	che & Theke“ befasst sich daher mit allen Dingen rund um\ndie Themen Arbei
	tsweisen\, Sauberkeit\, Getränke- und Snackauswahl aber auch die\nPlanung 
	und Besetzung der Thekendienste\, sowohl zu den regulären Öffnungszeiten\n
	als auch bei zusätzlichen Veranstaltungen.\n\nDu hast also Lust hinter der
	 Theke zu stehen und Teil des Queeren Zentrums zu\nsein? Dann werde jetzt 
	Teil der Arbeitsgruppe!
URL:https://keepkarlsruheboring.org/event/treffen-der-arbeitsgruppe-kuche-a
	nd-theke
LOCATION:queerKAstle - Karlsruher Zentrum für queere Vielfalt - Liebigstraß
	e 10-12\, 76135 Karlsruhe
STATUS:CONFIRMED
CATEGORIES:Mitmachen,Queer
X-ALT-DESC;FMTTYPE=text/html:<p><strong>Um alle im Team auf den aktuellsten
	 Stand zu bringen, bitten wir um Teilnahme möglichst aller Teammitglieder!
	</strong></p><p>Am <strong>05.03.2025</strong>, ab <strong>19:00 Uhr</stro
	ng> findet im <strong>Queeren Zentrum </strong>das nächste Treffen der neu
	en Arbeitsgruppe „Küche&amp;Theke“ statt.</p><p>Um den regelmäßigen Betrie
	b des Queeren Zentrums zu gewährleisten benötigen wir viele fleißige Hände
	, denn dort werden wir auch <strong>Getränke</strong> und<strong> kleinere
	 Snacks</strong> ausgeben.</p><p>Die <strong>Arbeitsgruppe „Küche &amp; Th
	eke“</strong> befasst sich daher mit allen Dingen rund um die Themen Arbei
	tsweisen, Sauberkeit, Getränke- und Snackauswahl aber auch die Planung und
	 Besetzung der Thekendienste, sowohl zu den regulären Öffnungszeiten als a
	uch bei zusätzlichen Veranstaltungen.</p><p>Du hast also Lust hinter der T
	heke zu stehen und Teil des Queeren Zentrums zu sein? Dann werde jetzt Tei
	l der Arbeitsgruppe!</p>
BEGIN:VALARM
ACTION:DISPLAY
DESCRIPTION:Treffen der Arbeitsgruppe „Küche & Theke"
TRIGGER:-PT1H
END:VALARM
END:VEVENT
END:VCALENDAR
