BEGIN:VCALENDAR
VERSION:2.0
CALSCALE:GREGORIAN
PRODID:adamgibbons/ics
METHOD:PUBLISH
X-PUBLISHED-TTL:PT1H
BEGIN:VEVENT
UID:362@keepkarlsruheboring.org
SUMMARY:TURNS x Natasha Barrett: Lie Detector [10 / 7 €]
DTSTAMP:20260423T104834Z
DTSTART:20250919T170000Z
DESCRIPTION:↓↓ English below ↓↓\n\n\n\nIn »Lie Detector« entwirft Komponist
	in Natasha Barrett ein immersives Konzert.\nBässe\, Laser\, holografische 
	Illusionen und KI-ähnliche Stimmen versetzen in\nZustände\, die vertraut e
	rscheinen\, und doch trügen. Ein akustisch-visuelles\nExperiment über mens
	chliche Bindung\, Intuition und Täuschung.\n\nDie Reihe »TURNS« spielt mit
	 unseren Hörgewohnheiten und öffnet das Verhältnis\nzwischen Künstler:inne
	n und Publikum. Der Publikumsraum verwandelt sich in eine\nBühne\, auf der
	 wir uns neu begegnen. Internationale und lokale Künstler:innen\npräsentie
	ren Performances\, partizipative Installationen und spielerische\nAnsätze\
	, die uns als Zuhörende in den Mittelpunkt rücken.\n\nFreut euch auf anreg
	ende Abende im Klangdom\, in denen gesellschaftliche Themen\,\nkünstlerisc
	he Forschung und musikalischer Ausdruck miteinander verschmelzen:\nKreisla
	ufwirtschaft trifft auf Mikrobiom und technologische Innovation auf\norgan
	ische Resonanz.\n\nJeder der thematischen Zyklen von »TURNS« – SOUNDING CY
	CLES (Februar–April\n2025)\, SOUNDING OUT HEALTH (Mai–August 2025) und SOU
	NDING OUT\nCONNECTION (September–Dezember 2025) – ist ein inhaltlicher Imp
	uls\, der\ntransformative Perspektiven auf Sound eröffnet.\n\n\n\n/-/-/\n\
	nIn "Lie Detector"\, composer Natasha Barrett presents an immersive concer
	t. Using\nbasses\, lasers\, holographic illusions and AI-like voices\, she
	 transports us to\nplaces that seem familiar yet deceptive. It is an acous
	tic-visual experiment\nabout human attachment\, intuition and deception.\n
	\nThe "TURNS" series challenges our listening habits and redefines the\nre
	lationship between artists and audience. The audience space is transformed
	\ninto a stage on which we encounter each other anew. International and lo
	cal\nartists present performances\, participatory installations and playfu
	l approaches\nthat focus on us as listeners.\n\nLook forward to stimulatin
	g evenings in the Klangdom\, where social issues\,\nartistic research and 
	musical expression converge: the circular economy meets\nthe microbiome\, 
	and technological innovation meets organic resonance.\n\nEach thematic cyc
	le of TURNS — SOUNDING CYCLES (February–April 2025)\, SOUNDING\nOUT HEALTH
	 (May–August 2025) and SOUNDING OUT CONNECTION (September–December\n2025) 
	— offers transformative insights into sound.
URL:https://keepkarlsruheboring.org/event/turns-x-natasha-barrett-lie-detec
	tor-10-7-euro
GEO:49.0013;8.3836
LOCATION:ZKM | Zentrum für Kunst und Medien Karlsruhe - Lorenzstr. 19\, D-7
	6135 Karlsruhe
STATUS:CONFIRMED
CATEGORIES:acoustic-visual experiment,Concert,Ticket
X-ALT-DESC;FMTTYPE=text/html:<p>↓↓ English below ↓↓</p><p></p><p>In »Lie De
	tector« entwirft Komponistin Natasha Barrett ein immersives Konzert. Bässe
	, Laser, holografische Illusionen und KI-ähnliche Stimmen versetzen in Zus
	tände, die vertraut erscheinen, und doch trügen. Ein akustisch-visuelles E
	xperiment über menschliche Bindung, Intuition und Täuschung.</p><p>Die Rei
	he »TURNS« spielt mit unseren Hörgewohnheiten und öffnet das Verhältnis zw
	ischen Künstler:innen und Publikum. Der Publikumsraum verwandelt sich in e
	ine Bühne, auf der wir uns neu begegnen. Internationale und lokale Künstle
	r:innen präsentieren Performances, partizipative Installationen und spiele
	rische Ansätze, die uns als Zuhörende in den Mittelpunkt rücken.</p><p>Fre
	ut euch auf anregende Abende im Klangdom, in denen gesellschaftliche Theme
	n, künstlerische Forschung und musikalischer Ausdruck miteinander verschme
	lzen: Kreislaufwirtschaft trifft auf Mikrobiom und technologische Innovati
	on auf organische Resonanz.</p><p>Jeder der thematischen Zyklen von&nbsp;»
	TURNS«&nbsp;–&nbsp;<strong>SOUNDING CYCLES</strong>&nbsp;(Februar–April 20
	25),&nbsp;<strong>SOUNDING OUT HEALTH&nbsp;</strong>(Mai–August 2025) und&
	nbsp;<strong>SOUNDING OUT CONNECTION</strong>&nbsp;(September–Dezember 202
	5) – ist ein inhaltlicher Impuls, der transformative Perspektiven auf Soun
	d eröffnet.</p><p></p><p>/-/-/</p><p>In "Lie Detector", composer Natasha B
	arrett presents an immersive concert. Using basses, lasers, holographic il
	lusions and AI-like voices, she transports us to places that seem familiar
	 yet deceptive. It is an acoustic-visual experiment about human attachment
	, intuition and deception.</p><p>The "TURNS" series challenges our listeni
	ng habits and redefines the relationship between artists and audience. The
	 audience space is transformed into a stage on which we encounter each oth
	er anew. International and local artists present performances, participato
	ry installations and playful approaches that focus on us as listeners.</p>
	<p>Look forward to stimulating evenings in the Klangdom, where social issu
	es, artistic research and musical expression converge: the circular econom
	y meets the microbiome, and technological innovation meets organic resonan
	ce.</p><p>Each thematic cycle of <strong>TURNS — SOUNDING CYCLES</strong> 
	(February–April 2025), <strong>SOUNDING OUT HEALTH</strong> (May–August 20
	25) and <strong>SOUNDING OUT CONNECTION</strong> (September–December 2025)
	 — offers transformative insights into sound.</p>
BEGIN:VALARM
ACTION:DISPLAY
DESCRIPTION:TURNS x Natasha Barrett: Lie Detector [10 / 7 €]
TRIGGER:-PT1H
END:VALARM
END:VEVENT
END:VCALENDAR
