BEGIN:VCALENDAR
VERSION:2.0
CALSCALE:GREGORIAN
PRODID:adamgibbons/ics
METHOD:PUBLISH
X-PUBLISHED-TTL:PT1H
BEGIN:VEVENT
UID:862@keepkarlsruheboring.org
SUMMARY:TYPHUZZ
DTSTAMP:20260423T101829Z
DTSTART:20260313T190000Z
DTEND:20260313T210000Z
DESCRIPTION:TYPHUZZ aus Karlsruhe spielen genau das\, was man gemeinhin als
	 Proto-Metal oder\nProto-Doom bezeichnen könnte: Wer es lieber eine Musike
	poche früher und düsterer\nmag\, dabei aber keineswegs die Einflüsse psych
	edelischer und bluesiger Riffs\naußen vor lassen möchte\, wird mit Typhuzz
	 genau das finden\, worauf sie/er Lust\nhat\; Rock\, der sich irgendwo zwi
	schen den Anfängen Black Sabbaths und\nWitchfinder General verorten lässt 
	- erst Recht\, wenn Sänger Max zu ekstatischen\nTönen am Mikrofon ansetzt!
	 Nach drei veröffentlichten Demo-Songs 2022 erspielte\nsich das Trio live 
	bereits eine exzellente Reputation und konnte u.a. mit den\nostdeutschen R
	etrorockern von Wucan oder den ukrainischen Genrevertretern Stoned\nJesus\
	, sowie den legendären Acid Kings auftreten und dabei das Publikum stets i
	n\nseinen Bann ziehen. Anfang 2025 veröffentlichten die drei Männer mit de
	m\nselbstbetitelten Album „Typhuzz“ nun ein Langspielplatten-Werk\, das Ei
	nblick in\ndie musikalische Diversität der Doom/Stoner/Psychedelic-Szene S
	üddeutschlands\ngibt. Einlass: 19 Uhr\, Beginn: 20 Uhr
URL:https://keepkarlsruheboring.org/event/typhuzz
GEO:49.0017;8.40754
LOCATION:Kohi - Werderstraße 47\, 76137 Karlsruhe\, Alemanya
STATUS:CONFIRMED
CATEGORIES:karlsrunruhe,test
X-ALT-DESC;FMTTYPE=text/html:TYPHUZZ aus Karlsruhe spielen genau das, was m
	an gemeinhin als Proto-Metal oder Proto-Doom bezeichnen könnte: Wer es lie
	ber eine Musikepoche früher und düsterer mag, dabei aber keineswegs die Ei
	nflüsse psychedelischer und bluesiger Riffs außen vor lassen möchte, wird 
	mit Typhuzz genau das finden, worauf sie/er Lust hat; Rock, der sich irgen
	dwo zwischen den Anfängen Black Sabbaths und Witchfinder General verorten 
	lässt - erst Recht, wenn Sänger Max zu ekstatischen Tönen am Mikrofon anse
	tzt!<br>Nach drei veröffentlichten Demo-Songs 2022 erspielte sich das Trio
	 live bereits eine exzellente Reputation und konnte u.a. mit den ostdeutsc
	hen Retrorockern von Wucan oder den ukrainischen Genrevertretern Stoned Je
	sus, sowie den legendären Acid Kings auftreten und dabei das Publikum stet
	s in seinen Bann ziehen. Anfang 2025 veröffentlichten die drei Männer mit 
	dem selbstbetitelten Album „Typhuzz“ nun ein Langspielplatten-Werk, das Ei
	nblick in die musikalische Diversität der Doom/Stoner/Psychedelic-Szene Sü
	ddeutschlands gibt.<br>Einlass: 19 Uhr, Beginn: 20 Uhr
BEGIN:VALARM
ACTION:DISPLAY
DESCRIPTION:TYPHUZZ
TRIGGER:-PT1H
END:VALARM
END:VEVENT
END:VCALENDAR
