BEGIN:VCALENDAR
VERSION:2.0
CALSCALE:GREGORIAN
PRODID:adamgibbons/ics
METHOD:PUBLISH
X-PUBLISHED-TTL:PT1H
BEGIN:VEVENT
UID:122@keepkarlsruheboring.org
SUMMARY:Uncensored Clinic - Danielle Brathwaite-Shirley [ 8\,20 € | 11\,50 
	€  ]
DTSTAMP:20260423T104917Z
DTSTART:20250717T170000Z
DESCRIPTION:In der Reihe »TURNS: Sounding Out Health« entsteht im Juli eine
	 besondere\nKollaboration zwischen Hertzlab und Gastkünstlerinnen. »Uncens
	ored Clinic« ist\neine immersive Multiplayer-Performance der Künstlerin Da
	nielle\nBrathwaite-Shirley (Tate Modern\, Berghain) in Zusammenarbeit mit 
	der Komponistin\nund Hertzlab-Praktikantin Rochelle Than (Stanford). Im ei
	nzigartigen Raumklang\ndes Klangdoms am ZKM entfaltet sich eine spekulativ
	e Klinik\, in der Zuhörende zu\nMitspielenden werden. Zwischen Soundscape\
	, Game-Ästhetik und performativer\nFürsorge entsteht ein interaktiver Raum
	 für Heilung\, Konfrontation und radikale\nEmpathie.\n\n/-/-/\n\nIn July\,
	 Hertzlab will collaborate with guest artists on a special project for\nth
	e »TURNS: Sounding Out Health« series. »Uncensored Clinic« is an immersive
	\,\nmultiplayer performance by artist Danielle Brathwaite-Shirley (Tate Mo
	dern\,\nBerghain)\, in collaboration with composer and Hertzlab intern Roc
	helle Than\n(Stanford). A speculative clinic will unfold in the unique spa
	tial sound of the\nZKM Sound Dome [https://zkm.de/en/node/2102]\, in which
	 listeners will become\nparticipants. An interactive space for healing\, c
	onfrontation\, and radical\nempathy is created through a blend of soundsca
	pes\, game aesthetics\, and\nperformative care.\n\n
URL:https://keepkarlsruheboring.org/event/uncensored-clinic-danielle-brathw
	aite-shirley-820-or-1150-euro
GEO:49.0013;8.3836
LOCATION:ZKM | Zentrum für Kunst und Medien Karlsruhe - Lorenzstr. 19\, D-7
	6135 Karlsruhe
STATUS:CONFIRMED
CATEGORIES:Media Art,Music,Ticket
X-ALT-DESC;FMTTYPE=text/html:<p>In der Reihe<strong> »TURNS: Sounding Out H
	ealth«&nbsp;</strong>entsteht im Juli eine besondere Kollaboration zwische
	n Hertzlab und Gastkünstlerinnen. <strong>»Uncensored Clinic«</strong>&nbs
	p;ist eine immersive Multiplayer-Performance der Künstlerin&nbsp;<strong>D
	anielle Brathwaite-Shirley</strong>&nbsp;(Tate Modern, Berghain) in Zusamm
	enarbeit mit der Komponistin und Hertzlab-Praktikantin <strong>Rochelle Th
	an</strong>&nbsp;(Stanford). Im einzigartigen Raumklang des&nbsp;<strong>K
	langdoms</strong>&nbsp;am ZKM entfaltet sich eine spekulative Klinik, in d
	er Zuhörende zu Mitspielenden werden. Zwischen Soundscape, Game-Ästhetik u
	nd performativer Fürsorge entsteht ein interaktiver Raum für Heilung, Konf
	rontation und radikale Empathie.</p><p>/-/-/</p><p>In July, Hertzlab will 
	collaborate with guest artists on a special project for the <strong>»TURNS
	: Sounding Out Health«</strong> series. <strong>»Uncensored Clinic«</stron
	g> is an immersive, multiplayer performance by artist <strong>Danielle Bra
	thwaite-Shirley</strong> (Tate Modern, Berghain), in collaboration with co
	mposer and Hertzlab intern <strong>Rochelle Than</strong> (Stanford). A sp
	eculative clinic will unfold in the unique spatial sound of the <a href="h
	ttps://zkm.de/en/node/2102" target="_blank"><strong>ZKM Sound Dome</strong
	></a>, in which listeners will become participants. An interactive space f
	or healing, confrontation, and radical empathy is created through a blend 
	of soundscapes, game aesthetics, and performative care.</p><p></p>
BEGIN:VALARM
ACTION:DISPLAY
DESCRIPTION:Uncensored Clinic - Danielle Brathwaite-Shirley [ 8,20 € | 11,5
	0 €  ]
TRIGGER:-PT1H
END:VALARM
END:VEVENT
END:VCALENDAR
